{"text_format":"1","workbook":"xlsx","n_sheets":12,"sheets":["Clockwise","Official Itinerary 2022","Cruising Guide","DayPlan + Image","Boat list 22","Sheet3","Pollack Rip Channel","Moon Phases","Sheet1","Pollock","sunrise","solar_position"],"not_rendered":{"charts":0,"images":38,"macros":1,"external_links":0,"defined_names":21,"comments":2,"pivot_tables":0},"unopened":[],"bounds":{"document_bytes":16777216,"sheet_cells":100000,"rows_first":2000,"rows_last":500,"rows_between":2000,"halvings":0,"cell_chars":16384,"cell_head_chars":4096},"cells_cut":0,"cells_raw":0,"read":"whole","date_system":"1900"}

{"sheet":"Clockwise","index":0,"n_rows":455,"n_cols":28,"rows_kept":455,"cut":false,"hidden":true,"merged":[[19,4,19,12],[0,2,0,4],[1,9,1,12],[2,2,2,8],[2,9,2,12],[3,2,3,4],[3,5,3,7],[3,9,3,10],[3,11,3,12],[3,13,3,19],[15,4,15,12],[16,4,16,12],[17,4,17,12],[18,4,18,12],[20,4,20,12],[21,4,21,12],[22,4,22,12],[23,4,23,12],[24,4,24,12]]}
[null,null,"2019 OSCA Summer Cruise"]
[null,null,null,null,null,null,null,null,null,"Eldridge 2019"]
[null,null,null,null,null,null,null,null,null,"The Race"]
[null,null,null,null,null,"Assumed speed (kts):  ",null,null,5,"Flood (NW)",null,"Ebb (SE)",null,"Celestial Timetable Calculation"]
[null,"Day","Date","From","To","Depart","NM","Duration","Arrive","am","pm","am","pm","Location","Twilight Begins","Sun Rise","Sun Set","Twilight Ends","Moon Rise","Moon Visibility",null,"latitude in decimal degrees (positive in northern hemisphere)","longitude in decimal degrees (negative for western hemisphere)","year","month","day","time zone in hours relative to GMT/UTC (PST= -8, MST= -7, CST= -6, EST= -5)","daylight savings time (no= 0, yes= 1)"]
[null,{"$f":"C6","v":"2019-07-20"},"2019-07-20","Wickford","Point Judith\nRace -3:10","13:00:00",18,{"$f":"IF(ISBLANK(F6),\"\",G6/EstAvgSpeed/24)","v":"03:36:00"},{"$f":"IF(ISBLANK(F6),\"\",F6+H6)","v":"16:36:00"},906,924,224,254,"RI,  POINT JUDITH, HARBOR OF REFUGE",{"$f":"IF(ISBLANK(N6),\"\",dawn(V6,W6,X6,Y6,Z6,AA6,AB6,12))","v":"04:16:35.833"},{"$f":"IF(ISBLANK(N6),\"\",sunrise(V6,W6,X6,Y6,Z6,AA6,AB6))","v":"05:29:38.319"},{"$f":"IF(ISBLANK(N6),\"\",sunset(V6,W6,X6,Y6,Z6,AA6,AB6))","v":"20:14:32.495"},{"$f":"IF(ISBLANK(N6),\"\",dusk(V6,W6,X6,Y6,Z6,AA6,AB6,12))","v":"21:27:25.198"},940,0.9,null,{"$f":"VLOOKUP($N6,$F$174:$J$456,4,FALSE)","v":41.363300000000002},{"$f":"VLOOKUP($N6,$F$174:$J$456,5,FALSE)","v":-71.489999999999995},{"$f":"YEAR(C6)","v":2019},{"$f":"MONTH(C6)","v":7},{"$f":"DAY(C6)","v":20},-5,1]
[null,{"$f":"C7","v":"2019-07-21"},{"$f":"C6+1","v":"2019-07-21"},"Point Judith","Stonington\n-2 05","09:30:00",22,"04:24:00","13:54:00",942,1006,300,336,"RI,  Watch Hill Point","04:19:29.685","05:32:09.846","20:15:04.089","21:27:34.412",1006,0.84,null,41.305,-71.86,{"$f":"YEAR(C7)","v":2019},{"$f":"MONTH(C7)","v":7},{"$f":"DAY(C7)","v":21},-5,1]
[null,"2019-07-22",{"$f":"C7+1","v":"2019-07-22"},"Stonington","Shelter Island\nRace slack 1018","08:45:00",26,"05:12:00","13:57:00",1018,1054,342,412,"NY,  Greenport","04:23:35.960","05:35:38.338","20:15:41.032","21:27:33.654",1031,0.76,"                        ",41.101700000000001,-72.361699999999999,2019,7,22,-5,1]
[null,"2019-07-23","2019-07-23","Shelter Island","Shelter Island",null,null,"","",1100,1142,424,454,"NY,  Greenport","04:24:45.315","05:36:31.710","20:14:50.854","21:26:27.418",1056,0.68,null,41.101700000000001,-72.361699999999999,2019,7,23,-5,1]
[null,"2019-07-24","2019-07-24","Shelter Island","Old Saybrook\nPlum Gut F 11:42\nF-1 20 E-0 45\n","10:30:00",20,"04:00:00","14:30:00",1142,null,506,536,"CT,  Saybrook Jetty","04:25:07.170","05:36:54.236","20:14:21.306","21:25:58.345",1100,0.57999999999999996,null,41.263300000000001,-72.343299999999999,2019,7,24,-5,1]
[null,"2019-07-25","2019-07-25","Old Saybrook","Mystic","10:00:00",22,"04:24:00","14:24:00",1230,1236,600,624,"RI,  Watch Hill Point","04:24:11.250","05:35:46.190","20:11:38.196","21:23:03.031",1122,0.49,null,41.305,-71.86,2019,7,25,-5,1]
[null,"2019-07-26","2019-07-26","Mystic","Mystic",null,null,"","",124,124,654,718,"RI,  Watch Hill Point","04:25:23.461","05:36:41.783","20:10:42.332","21:21:50.516",1150,0.39,null,41.305,-71.86,2019,7,26,-5,1]
[null,"2019-07-27","2019-07-27","Mystic","Point Judith\nRace -3:10","10:20:00",27,"05:24:00","15:44:00",218,218,754,818,"RI,  Watch Hill Point","04:26:36.282","05:37:37.903","20:09:44.766","21:20:36.233",24,0.28999999999999998,null,41.305,-71.86,2019,7,27,-5,1]
[null,"2019-07-28","2019-07-28","Point Judith","Home \nNewport  Lo 1023","10:00:00",18,"03:36:00","13:36:00",312,312,854,912,"RI,  NEWPORT","04:24:49.439","05:35:54.440","20:07:09.303","21:18:03.977",102,0.2,null,41.505000000000003,-71.326700000000002,2019,7,28,-5,1]
[]
[null,"Day","Date","Port of Call","Facility",null,null,null,null,null,null,null,null,"Anchor/Mooring/\nSlip","$$$","Ice","Fuel","Head","Sho\nwer","Pump\nout"]
[null,"2013-07-20",{"$f":"C6","v":"2019-07-20"},{"$f":"IF(ISBLANK(E6),\"\",E6)","v":"Point Judith\nRace -3:10"}]
[null,"2013-07-21",{"$f":"C7","v":"2019-07-21"},{"$f":"IF(ISBLANK(E7),\"\",E7)","v":"Stonington\n-2 05"}]
[null,"2013-07-22","2019-07-22","Shelter Island\nRace slack 1018"]
[null,"2013-07-23","2019-07-23","Shelter Island"]
[null,"2013-07-24","2019-07-24","Old Saybrook\nPlum Gut F 11:42\nF-1 20 E-0 45\n"]
[null,"2013-07-25","2019-07-25","Mystic"]
[null,"2013-07-26","2019-07-26","Mystic"]
[null,"2013-07-27","2019-07-27","Point Judith\nRace -3:10"]
[null,"2013-07-28","2019-07-28","Home \nNewport  Lo 1023"]
[]
[]
[]
[]
[]
[]
[]
[]
[]
[]
[]
[]
[]
[]
[]
[]
[]
[]
[]
[]
[]
[]
[]
[]
[]
[]
[]
[]
[]
[]
[]
[]
[]
[]
[]
[]
[]
[]
[]
[]
[]
[]
[]
[]
[]
[]
[]
[]
[]
[]
[]
[]
[]
[]
[]
[]
[]
[]
[]
[]
[]
[]
[]
[]
[]
[]
[]
[]
[]
[]
[]
[]
[]
[]
[]
[]
[]
[]
[]
[]
[]
[]
[]
[]
[]
[]
[]
[]
[]
[]
[]
[]
[]
[]
[]
[]
[]
[]
[]
[]
[]
[]
[]
[]
[]
[]
[]
[]
[]
[]
[]
[]
[]
[]
[]
[]
[]
[]
[]
[]
[]
[]
[]
[]
[]
[]
[]
[]
[]
[]
[]
[]
[]
[]
[]
[]
[]
[]
[]
[]
[]
[]
[]
[]
[]
[]
[]
[null,null,null,"Location","st","st, location","Region","ID","Lat","Lon"]
[null,null,null,"BLACK ROCK HARBOR","CT","CT,  BLACK ROCK HARBOR","Housatonic River",8467373,{"$f":"--O174","v":41.156700000000001},-73.213300000000004,"Harmonic",null,null,null,41.156700000000001,-73.213300000000004]
[null,null,null,"Branford, Branford River","CT","CT,  Branford, Branford River","Connecticut River",8465233,41.261699999999998,-72.818299999999994,"Subordinate",null,null,null,41.261699999999998,-72.818299999999994]
[null,null,null,"BRIDGEPORT","CT","CT,  BRIDGEPORT","Housatonic River",8467150,41.173299999999998,-73.181700000000006,"Harmonic",null,null,null,41.173299999999998,-73.181700000000006]
[null,null,null,"CLINTON HARBOR","CT","CT,  CLINTON HARBOR","Connecticut River",8463701,41.268300000000004,-72.531700000000001,"Harmonic",null,null,null,41.268300000000004,-72.531700000000001]
[null,null,null,"Cos Cob Harbor","CT","CT,  Cos Cob Harbor","Housatonic River",8469549,41.0167,-73.596699999999998,"Subordinate",null,null,null,41.0167,-73.596699999999998]
[null,null,null,"Essex","CT","CT,  Essex","Connecticut River",8462925,41.348300000000002,-72.385000000000005,"Subordinate",null,null,null,41.348300000000002,-72.385000000000005]
[null,null,null,"Guilford Harbor","CT","CT,  Guilford Harbor","Connecticut River",8464445,41.271700000000003,-72.666700000000006,"Subordinate",null,null,null,41.271700000000003,-72.666700000000006]
[null,null,null,"Gulf Beach","CT","CT,  Gulf Beach","Connecticut River",8466375,41.204999999999998,-73.041700000000006,"Subordinate",null,null,null,41.204999999999998,-73.041700000000006]
[null,null,null,"Haddam","CT","CT,  Haddam","Connecticut River",8463582,41.481699999999996,-72.506699999999995,"Subordinate",null,null,null,41.481699999999996,-72.506699999999995]
[null,null,null,"Hadlyme","CT","CT,  Hadlyme","Connecticut River",8463155,41.42,-72.428299999999993,"Subordinate",null,null,null,41.42,-72.428299999999993]
[null,null,null,"Hartford","CT","CT,  Hartford","Connecticut River",8464464,41.77,-72.668300000000002,"Subordinate",null,null,null,41.77,-72.668300000000002]
[null,null,null,"Higganum Creek","CT","CT,  Higganum Creek","Connecticut River",8463836,41.503300000000003,-72.553299999999993,"Subordinate",null,null,null,41.503300000000003,-72.553299999999993]
[null,null,null,"Lighthouse Point, New Haven Harbor","CT","CT,  Lighthouse Point, New Haven Harbor","Connecticut River",8465692,41.2517,-72.905000000000001,"Subordinate",null,null,null,41.2517,-72.905000000000001]
[null,null,null,"Long Hill","CT","CT,  Long Hill","Housatonic River",8466664,41.274999999999999,-73.088300000000004,"Subordinate",null,null,null,41.274999999999999,-73.088300000000004]
[null,null,null,"LONG NECK POINT","CT","CT,  LONG NECK POINT","Housatonic River",8468799,41.0383,-73.48,"Harmonic",null,null,null,41.0383,-73.48]
[null,null,null,"Lyme, highway bridge","CT","CT,  Lyme, highway bridge","Connecticut River",8462764,41.3217,-72.349999999999994,"Subordinate",null,null,null,41.3217,-72.349999999999994]
[null,null,null,"Madison","CT","CT,  Madison","Connecticut River",8464041,41.27,-72.59,"Subordinate",null,null,null,41.27,-72.59]
[null,null,null,"Maromas","CT","CT,  Maromas","Connecticut River",8463827,41.541699999999999,-72.551699999999997,"Subordinate",null,null,null,41.541699999999999,-72.551699999999997]
[null,null,null,"Middletown","CT","CT,  Middletown","Connecticut River",8464336,41.56,-72.644999999999996,"Subordinate",null,null,null,41.56,-72.644999999999996]
[null,null,null,"Milford Harbor","CT","CT,  Milford Harbor","Connecticut River",8466442,41.218299999999999,-73.055000000000007,"Subordinate",null,null,null,41.218299999999999,-73.055000000000007]
[null,null,null,"NEW HAVEN","CT","CT,  NEW HAVEN","Connecticut River",8465705,41.283299999999997,-72.908299999999997,"Harmonic",null,null,null,41.283299999999997,-72.908299999999997]
[null,null,null,"NEW LONDON","CT","CT,  NEW LONDON","Thames River",8461490,41.361400000000003,-72.09,"Harmonic",null,null,null,41.361400000000003,-72.09]
[null,null,null,"Niantic, Niantic River","CT","CT,  Niantic, Niantic River","Thames River",8461925,41.325000000000003,-72.186700000000002,"Subordinate",null,null,null,41.325000000000003,-72.186700000000002]
[null,null,null,"Norwich","CT","CT,  Norwich","Thames River",8461392,41.523299999999999,-72.078299999999999,"Subordinate",null,null,null,41.523299999999999,-72.078299999999999]
[null,null,null,"Rocky Hill","CT","CT,  Rocky Hill","Connecticut River",8464255,41.6633,-72.63,"Subordinate",null,null,null,41.6633,-72.63]
[null,null,null,"Rowayton, Fivemile River","CT","CT,  Rowayton, Fivemile River","Housatonic River",8468609,41.064999999999998,-73.444999999999993,"Subordinate",null,null,null,41.064999999999998,-73.444999999999993]
[null,null,null,"Sachem Head","CT","CT,  Sachem Head","Connecticut River",8464687,41.244999999999997,-72.708299999999994,"Subordinate",null,null,null,41.244999999999997,-72.708299999999994]
[null,null,null,"Saybrook Jetty","CT","CT,  Saybrook Jetty","Connecticut River",8462723,41.263300000000001,-72.343299999999999,"Subordinate",null,null,null,41.263300000000001,-72.343299999999999]
[null,null,null,"Saybrook Point","CT","CT,  Saybrook Point","Connecticut River",8462752,41.283299999999997,-72.349999999999994,"Subordinate",null,null,null,41.283299999999997,-72.349999999999994]
[null,null,null,"Shelton","CT","CT,  Shelton","Housatonic River",8466573,41.301699999999997,-73.071700000000007,"Subordinate",null,null,null,41.301699999999997,-73.071700000000007]
[null,null,null,"SILVER EEL POND","CT","CT,  SILVER EEL POND","CONNECTICUT, Long Island Sound",8510719,41.256700000000002,-72.03,"Harmonic",null,null,null,41.256700000000002,-72.03]
[null,null,null,"Sniffens Point","CT","CT,  Sniffens Point","Housatonic River",8466791,41.186700000000002,-73.113299999999995,"Subordinate",null,null,null,41.186700000000002,-73.113299999999995]
[null,null,null,"South Hartford","CT","CT,  South Hartford","Connecticut River",8464418,41.755000000000003,-72.658299999999997,"Subordinate",null,null,null,41.755000000000003,-72.658299999999997]
[null,null,null,"SOUTH NORWALK","CT","CT,  SOUTH NORWALK","Housatonic River",8468448,41.096699999999998,-73.415000000000006,"Harmonic",null,null,null,41.096699999999998,-73.415000000000006]
[null,null,null,"SOUTHPORT, SOUTHPORT HARBOR","CT","CT,  SOUTHPORT, SOUTHPORT HARBOR","Housatonic River",8467726,41.133299999999998,-73.283299999999997,"Harmonic",null,null,null,41.133299999999998,-73.283299999999997]
[null,null,null,"Stamford","CT","CT,  Stamford","Housatonic River",8469198,41.0383,-73.546700000000001,"Subordinate",null,null,null,41.0383,-73.546700000000001]
[null,null,null,"Stratford, I-95 bridge","CT","CT,  Stratford, I-95 bridge","Housatonic River",8466797,41.203299999999999,-73.111699999999999,"Subordinate",null,null,null,41.203299999999999,-73.111699999999999]
[null,null,null,"Tylerville","CT","CT,  Tylerville","Connecticut River",8463348,41.451700000000002,-72.465000000000003,"Subordinate",null,null,null,41.451700000000002,-72.465000000000003]
[null,null,null,"Westbrook, Duck Island Roads","CT","CT,  Westbrook, Duck Island Roads","Connecticut River",8463409,41.273299999999999,-72.474999999999994,"Subordinate",null,null,null,41.273299999999999,-72.474999999999994]
[null,null,null,"Yale boathouse","CT","CT,  Yale boathouse","Thames River",8461467,41.43,-72.093299999999999,"Subordinate",null,null,null,41.43,-72.093299999999999]
[null,null,null,"AMELIA EARHART DAM, MYSTIC RIVER","MA","MA,  AMELIA EARHART DAM, MYSTIC RIVER","Boston Harbor",8443662,42.395000000000003,-71.076700000000002,"Harmonic",null,null,null,42.395000000000003,-71.076700000000002]
[null,null,null,"Annisquam, Lobster Cove","MA","MA,  Annisquam, Lobster Cove","Merrimack River",8441571,42.655000000000001,-70.676699999999997,"Subordinate",null,null,null,42.655000000000001,-70.676699999999997]
[null,null,null,"Barnstable Harbor, Beach Point","MA","MA,  Barnstable Harbor, Beach Point","Cape Cod Bay",8447335,41.721699999999998,-70.284999999999997,"Subordinate",null,null,null,41.721699999999998,-70.284999999999997]
[null,null,null,"BOSTON","MA","MA,  BOSTON","Boston Harbor",8443970,42.354799999999997,-71.053399999999996,"Harmonic",null,null,null,42.354799999999997,-71.053399999999996]
[null,null,null,"BOSTON LIGHT","MA","MA,  BOSTON LIGHT","Boston Harbor",8444162,42.328299999999999,-70.8917,"Harmonic",null,null,null,42.328299999999999,-70.8917]
[null,null,null,"BOURNE BRIDGE, CAPE COD CANAL (STA. 320)","MA","MA,  BOURNE BRIDGE, CAPE COD CANAL (STA. 320)","Cape Cod Bay",8447259,41.744999999999997,-70.593299999999999,"Harmonic",null,null,null,41.744999999999997,-70.593299999999999]
[null,null,null,"BOURNEDALE, CAPE COD CANAL (STA. 200)","MA","MA,  BOURNEDALE, CAPE COD CANAL (STA. 200)","Cape Cod Bay",8447191,41.77,-70.561700000000002,"Harmonic",null,null,null,41.77,-70.561700000000002]
[null,null,null,"BRANT ROCK, GREEN HARBOR RIVER","MA","MA,  BRANT ROCK, GREEN HARBOR RIVER","Cohasset Harbor to Davis Bank",8446009,42.083300000000001,-70.646699999999996,"Harmonic",null,null,null,42.083300000000001,-70.646699999999996]
[null,null,null,"BUZZARDS BAY","MA","MA,  BUZZARDS BAY","Buzzards Bay",8447270,41.741700000000002,-70.616699999999994,"Harmonic",null,null,null,41.741700000000002,-70.616699999999994]
[null,null,null,"Cedar Tree Neck","MA","MA,  Cedar Tree Neck","Martha's Vineyard",8448325,41.435000000000002,-70.696700000000007,"Subordinate",null,null,null,41.435000000000002,-70.696700000000007]
[null,null,null,"Chappaquoit Point","MA","MA,  Chappaquoit Point","Buzzards Bay",8447685,41.604999999999997,-70.651700000000005,"Subordinate",null,null,null,41.604999999999997,-70.651700000000005]
[null,null,null,"Charlestown, Charles River entrance","MA","MA,  Charlestown, Charles River entrance","Boston Harbor",8443838,42.371699999999997,-71.055000000000007,"Subordinate",null,null,null,42.371699999999997,-71.055000000000007]
[null,null,null,"CHATHAM","MA","MA,  CHATHAM","Cape Cod",8447435,41.688499999999998,-69.951099999999997,"Harmonic",null,null,null,41.688499999999998,-69.951099999999997]
[null,null,null,"CHATHAM, STAGE HARBOR","MA","MA,  CHATHAM, STAGE HARBOR","Cape Cod",8447505,41.666699999999999,-69.966700000000003,"Harmonic",null,null,null,41.666699999999999,-69.966700000000003]
[null,null,null,"CHELSEA","MA","MA,  CHELSEA","Boston Harbor",8443725,42.386699999999998,-71.023300000000006,"Harmonic",null,null,null,42.386699999999998,-71.023300000000006]
[null,null,null,"CLARKS POINT","MA","MA,  CLARKS POINT","Buzzards Bay",8447712,41.593299999999999,-70.900000000000006,"Harmonic",null,null,null,41.593299999999999,-70.900000000000006]
[null,null,null,"Cohasset Harbor (White Head)","MA","MA,  Cohasset Harbor (White Head)","Cohasset Harbor to Davis Bank",8444762,42.2483,-70.784999999999997,"Subordinate",null,null,null,42.2483,-70.784999999999997]
[null,null,null,"Cotuit Highlands","MA","MA,  Cotuit Highlands","Nantucket Sound, north side",8447675,41.6083,-70.436700000000002,"Subordinate",null,null,null,41.6083,-70.436700000000002]
[null,null,null,"Crow Point, Hingham Harbor entrance","MA","MA,  Crow Point, Hingham Harbor entrance","Hingham Bay",8444662,42.261699999999998,-70.893299999999996,"Subordinate",null,null,null,42.261699999999998,-70.893299999999996]
[null,null,null,"Cuttyhunk","MA","MA,  Cuttyhunk","Woods Hole",8448376,41.424999999999997,-70.916700000000006,"Subordinate",null,null,null,41.424999999999997,-70.916700000000006]
[null,null,null,"Damons Point, North River","MA","MA,  Damons Point, North River","Cohasset Harbor to Davis Bank",8445425,42.16,-70.7333,"Subordinate",null,null,null,42.16,-70.7333]
[null,null,null,"Deer Island (south end)","MA","MA,  Deer Island (south end)","Boston Harbor",8444012,42.348300000000002,-70.959999999999994,"Subordinate",null,null,null,42.348300000000002,-70.959999999999994]
[null,null,null,"Dennisport","MA","MA,  Dennisport","Nantucket Sound, north side",8447525,41.658299999999997,-70.114999999999995,"Subordinate",null,null,null,41.658299999999997,-70.114999999999995]
[null,null,null,"DUXBURY, DUXBURY HARBOR","MA","MA,  DUXBURY, DUXBURY HARBOR","Cape Cod Bay",8446166,42.0383,-70.67,"Harmonic",null,null,null,42.0383,-70.67]
[null,null,null,"EDGARTOWN","MA","MA,  EDGARTOWN","Martha's Vineyard",8448558,{"$f":"--O238","v":41.388300000000001},-70.511700000000005,"Harmonic",null,null,null,41.388300000000001,-70.511700000000005]
[null,null,null,"Eel Point","MA","MA,  Eel Point","Nantucket Island",8449062,41.291699999999999,-70.208299999999994,"Subordinate",null,null,null,41.291699999999999,-70.208299999999994]
[null,null,null,"ESSEX","MA","MA,  ESSEX","Merrimack River",8441771,42.631700000000002,-70.776700000000005,"Harmonic",null,null,null,42.631700000000002,-70.776700000000005]
[null,null,null,"Falmouth Heights","MA","MA,  Falmouth Heights","Nantucket Sound, north side",8447865,41.545000000000002,-70.593299999999999,"Subordinate",null,null,null,41.545000000000002,-70.593299999999999]
[null,null,null,"Gay Head","MA","MA,  Gay Head","Martha's Vineyard",8448733,41.353299999999997,-70.83,"Subordinate",null,null,null,41.353299999999997,-70.83]
[null,null,null,"Georges Shoal, Texas Tower","MA","MA,  Georges Shoal, Texas Tower","Cape Cod",8447436,41.688299999999998,-67.760000000000005,"Subordinate",null,null,null,41.688299999999998,-67.760000000000005]
[null,null,null,"Gloucester Harbor","MA","MA,  Gloucester Harbor","Merrimack River",8441841,42.61,-70.66,"Subordinate",null,null,null,42.61,-70.66]
[null,null,null,"GRAY GABLES","MA","MA,  GRAY GABLES","Buzzards Bay",8447295,41.734999999999999,-70.6233,"Harmonic",null,null,null,41.734999999999999,-70.6233]
[null,null,null,"GREAT HILL","MA","MA,  GREAT HILL","Buzzards Bay",8447368,41.7117,-70.715000000000003,"Harmonic",null,null,null,41.7117,-70.715000000000003]
[null,null,null,"Great Point","MA","MA,  Great Point","Nantucket Island",8448566,41.386699999999998,-70.046700000000001,"Subordinate",null,null,null,41.386699999999998,-70.046700000000001]
[null,null,null,"Hingham","MA","MA,  Hingham","Hingham Bay",8444775,42.246699999999997,-70.885000000000005,"Subordinate",null,null,null,42.246699999999997,-70.885000000000005]
[null,null,null,"Hix Bridge, East Branch","MA","MA,  Hix Bridge, East Branch","Westport River",8447791,41.57,-71.073300000000003,"Subordinate",null,null,null,41.57,-71.073300000000003]
[null,null,null,"Hull","MA","MA,  Hull","Hingham Bay",8444351,42.3033,-70.92,"Subordinate",null,null,null,42.3033,-70.92]
[null,null,null,"HYANNIS PORT","MA","MA,  HYANNIS PORT","Nantucket Sound, north side",8447605,41.631700000000002,-70.3,"Harmonic",null,null,null,41.631700000000002,-70.3]
[null,null,null,"Little Harbor","MA","MA,  Little Harbor","Woods Hole",8447939,41.52,-70.665000000000006,"Subordinate",null,null,null,41.52,-70.665000000000006]
[null,null,null,"LYNN, LYNN HARBOR","MA","MA,  LYNN, LYNN HARBOR","Merrimack River",8443187,42.458300000000001,-70.943299999999994,"Harmonic",null,null,null,42.458300000000001,-70.943299999999994]
[null,null,null,"Marion, Sippican Harbor","MA","MA,  Marion, Sippican Harbor","Buzzards Bay",8447385,41.704999999999998,-70.761700000000005,"Subordinate",null,null,null,41.704999999999998,-70.761700000000005]
[null,null,null,"Mattapoisett, Mattapoisett Harbor","MA","MA,  Mattapoisett, Mattapoisett Harbor","Buzzards Bay",8447531,41.656700000000001,-70.813299999999998,"Subordinate",null,null,null,41.656700000000001,-70.813299999999998]
[null,null,null,"MERRIMACPORT","MA","MA,  MERRIMACPORT","Merrimack River",8440369,42.825000000000003,-70.988299999999995,"Harmonic",null,null,null,42.825000000000003,-70.988299999999995]
[null,null,null,"Monument Beach","MA","MA,  Monument Beach","Buzzards Bay",8447355,41.715000000000003,-70.616699999999994,"Subordinate",null,null,null,41.715000000000003,-70.616699999999994]
[null,null,null,"Moon Head","MA","MA,  Moon Head","Boston Harbor",8444312,42.308300000000003,-70.991699999999994,"Subordinate",null,null,null,42.308300000000003,-70.991699999999994]
[null,null,null,"Muskeget Island, north side","MA","MA,  Muskeget Island, north side","Nantucket Island",8448817,41.3367,-70.305000000000007,"Subordinate",null,null,null,41.3367,-70.305000000000007]
[null,null,null,"Nantasket Beach, Weir River","MA","MA,  Nantasket Beach, Weir River","Hingham Bay",8444601,42.27,-70.86,"Subordinate",null,null,null,42.27,-70.86]
[null,null,null,"NANTUCKET ISLAND","MA","MA,  NANTUCKET ISLAND","Nantucket Island",8449130,41.284999999999997,-70.096699999999998,"Harmonic",null,null,null,41.284999999999997,-70.096699999999998]
[null,null,null,"Neponset, Neponset River","MA","MA,  Neponset, Neponset River","Boston Harbor",8444488,42.284999999999997,-71.040000000000006,"Subordinate",null,null,null,42.284999999999997,-71.040000000000006]
[null,null,null,"New Bedford","MA","MA,  New Bedford","Buzzards Bay",8447584,41.64,-70.918300000000002,"Subordinate",null,null,null,41.64,-70.918300000000002]
[null,null,null,"NEWBURYPORT","MA","MA,  NEWBURYPORT","Merrimack River",8440466,42.814999999999998,-70.8733,"Harmonic",null,null,null,42.814999999999998,-70.8733]
[null,null,null,"Nomans Land","MA","MA,  Nomans Land","Martha's Vineyard",8449287,41.261699999999998,-70.818299999999994,"Subordinate",null,null,null,41.261699999999998,-70.818299999999994]
[null,null,null,"NUT ISLAND","MA","MA,  NUT ISLAND","Hingham Bay",8444525,42.28,-70.953299999999999,"Harmonic",null,null,null,42.28,-70.953299999999999]
[null,null,null,"Oak Bluffs","MA","MA,  Oak Bluffs","Martha's Vineyard",8448208,41.458300000000001,-70.555000000000007,"Subordinate",null,null,null,41.458300000000001,-70.555000000000007]
[null,null,null,"Onset Beach, Onset Bay","MA","MA,  Onset Beach, Onset Bay","Buzzards Bay",8447277,41.741700000000002,-70.658299999999997,"Subordinate",null,null,null,41.741700000000002,-70.658299999999997]
[null,null,null,"PENIKESE ISLAND","MA","MA,  PENIKESE ISLAND","Buzzards Bay",8448248,41.45,-70.921700000000001,"Harmonic",null,null,null,41.45,-70.921700000000001]
[null,null,null,"PINEY POINT","MA","MA,  PINEY POINT","Buzzards Bay",8447416,41.695,-70.72,"Harmonic",null,null,null,41.695,-70.72]
[null,null,null,"Pleasant Bay","MA","MA,  Pleasant Bay","Cape Cod",8447291,41.736699999999999,-69.981700000000004,"Subordinate",null,null,null,41.736699999999999,-69.981700000000004]
[null,null,null,"PLUM ISLAND SOUTH","MA","MA,  PLUM ISLAND SOUTH","Merrimack River",8441241,42.710099999999997,-70.788600000000002,"Harmonic",null,null,null,42.710099999999997,-70.788600000000002]
[null,null,null,"PLUM ISLAND, MERRIMACK RIVER ENTRANCE","MA","MA,  PLUM ISLAND, MERRIMACK RIVER ENTRANCE","Merrimack River",8440452,42.816699999999997,-70.819999999999993,"Harmonic",null,null,null,42.816699999999997,-70.819999999999993]
[null,null,null,"PLYMOUTH","MA","MA,  PLYMOUTH","Cape Cod Bay",8446493,41.96,-70.661699999999996,"Harmonic",null,null,null,41.96,-70.661699999999996]
[null,null,null,"Poponesset Island, Poponesset Bay","MA","MA,  Poponesset Island, Poponesset Bay","Nantucket Sound, north side",8447742,41.5867,-70.463300000000004,"Subordinate",null,null,null,41.5867,-70.463300000000004]
[null,null,null,"PROVINCETOWN","MA","MA,  PROVINCETOWN","Cape Cod Bay",8446121,42.049599999999998,-70.182199999999995,"Harmonic",null,null,null,42.049599999999998,-70.182199999999995]
[null,null,null,"Quick's Hole","MA","MA,  Quick's Hole","Woods Hole",8448251,41.448300000000003,-70.856700000000004,"Subordinate",null,null,null,41.448300000000003,-70.856700000000004]
[null,null,null,"RIVERSIDE","MA","MA,  RIVERSIDE","Merrimack River",8440889,42.763300000000001,-71.076700000000002,"Harmonic",null,null,null,42.763300000000001,-71.076700000000002]
[null,null,null,"ROCKPORT","MA","MA,  ROCKPORT","Merrimack River",8441551,42.658299999999997,-70.614999999999995,"Harmonic",null,null,null,42.658299999999997,-70.614999999999995]
[null,null,null,"ROUND HILL POINT","MA","MA,  ROUND HILL POINT","Buzzards Bay",8447842,41.5383,-70.928299999999993,"Harmonic",null,null,null,41.5383,-70.928299999999993]
[null,null,null,"SAGAMORE, CAPE COD CANAL (STA. 115)","MA","MA,  SAGAMORE, CAPE COD CANAL (STA. 115)","Cape Cod Bay",8447173,41.774999999999999,-70.534999999999997,"Harmonic",null,null,null,41.774999999999999,-70.534999999999997]
[null,null,null,"SALEM, SALEM HARBOR","MA","MA,  SALEM, SALEM HARBOR","Merrimack River",8442645,42.523299999999999,-70.8767,"Harmonic",null,null,null,42.523299999999999,-70.8767]
[null,null,null,"SALISBURY POINT","MA","MA,  SALISBURY POINT","Merrimack River",8440273,42.838299999999997,-70.908299999999997,"Harmonic",null,null,null,42.838299999999997,-70.908299999999997]
[null,null,null,"Sandwich","MA","MA,  Sandwich","Cape Cod Bay",8447180,41.771700000000003,-70.506699999999995,"Subordinate",null,null,null,41.771700000000003,-70.506699999999995]
[null,null,null,"SAQUATUCKET HARBOR","MA","MA,  SAQUATUCKET HARBOR","Nantucket Sound, north side",8447495,41.668300000000002,-70.056700000000006,"Harmonic",null,null,null,41.668300000000002,-70.056700000000006]
[null,null,null,"SCITUATE, SCITUATE HARBOR","MA","MA,  SCITUATE, SCITUATE HARBOR","Cohasset Harbor to Davis Bank",8445138,42.201700000000002,-70.726699999999994,"Harmonic",null,null,null,42.201700000000002,-70.726699999999994]
[null,null,null,"SESUIT HARBOR, EAST DENNIS","MA","MA,  SESUIT HARBOR, EAST DENNIS","Cape Cod Bay",8447241,41.7517,-70.155000000000001,"Harmonic",null,null,null,41.7517,-70.155000000000001]
[null,null,null,"South Yarmouth, Bass River","MA","MA,  South Yarmouth, Bass River","Nantucket Sound, north side",8447504,41.664999999999999,-70.183300000000003,"Subordinate",null,null,null,41.664999999999999,-70.183300000000003]
[null,null,null,"Squibnocket Point","MA","MA,  Squibnocket Point","Martha's Vineyard",8448942,41.311700000000002,-70.768299999999996,"Subordinate",null,null,null,41.311700000000002,-70.768299999999996]
[null,null,null,"Uncatena Island (south side)","MA","MA,  Uncatena Island (south side)","Woods Hole",8447941,41.52,-70.708299999999994,"Subordinate",null,null,null,41.52,-70.708299999999994]
[null,null,null,"VINEYARD HAVEN, VINEYARD HVN HBR","MA","MA,  VINEYARD HAVEN, VINEYARD HVN HBR","Martha's Vineyard",8448157,41.458300000000001,-70.599999999999994,"Harmonic",null,null,null,41.458300000000001,-70.599999999999994]
[null,null,null,"Wasque Point, Chappaquiddick Island","MA","MA,  Wasque Point, Chappaquiddick Island","Martha's Vineyard",8448683,41.363300000000002,-70.45,"Subordinate",null,null,null,41.363300000000002,-70.45]
[null,null,null,"Wellfleet","MA","MA,  Wellfleet","Cape Cod Bay",8446613,41.93,-70.041700000000006,"Subordinate",null,null,null,41.93,-70.041700000000006]
[null,null,null,"Westport Harbor","MA","MA,  Westport Harbor","Westport River",8447975,41.508299999999998,-71.093299999999999,"Subordinate",null,null,null,41.508299999999998,-71.093299999999999]
[null,null,null,"WEYMOUTH FORE RIVER","MA","MA,  WEYMOUTH FORE RIVER","Hingham Bay",8444788,42.2483,-70.966700000000003,"Harmonic",null,null,null,42.2483,-70.966700000000003]
[null,null,null,"WOODS HOLE","MA","MA,  WOODS HOLE","Woods Hole",8447930,41.523299999999999,-70.671700000000001,"Harmonic",null,null,null,41.523299999999999,-70.671700000000001]
[null,null,null,"Wychmere Harbor","MA","MA,  Wychmere Harbor","Nantucket Sound, north side",8447506,41.664999999999999,-70.064999999999998,"Subordinate",null,null,null,41.664999999999999,-70.064999999999998]
[null,null,null,"ALBANY","NY","NY,  ALBANY","Hudson River",8518995,42.65,-73.746700000000004,"Harmonic",null,null,null,42.65,-73.746700000000004]
[null,null,null,"Alpine, N.J.","NY","NY,  Alpine, N.J.","Hudson River",8530095,40.945,-73.918300000000002,"Subordinate",null,null,null,40.945,-73.918300000000002]
[null,null,null,"Amityville","NY","NY,  Amityville","Great South Bay",8515864,40.655000000000001,-73.418300000000002,"Subordinate",null,null,null,40.655000000000001,-73.418300000000002]
[null,null,null,"Amtrak RR. swing bridge","NY","NY,  Amtrak RR. swing bridge","Hackensack River",8530696,40.7517,-74.096699999999998,"Subordinate",null,null,null,40.7517,-74.096699999999998]
[null,null,null,"Babylon","NY","NY,  Babylon","Great South Bay",8515421,{"$f":"--O302","v":40.685000000000002},-73.314999999999998,"Subordinate",null,null,null,40.685000000000002,-73.314999999999998]
[null,null,null,"Barren Island, Rockaway Inlet","NY","NY,  Barren Island, Rockaway Inlet","Jamaica Bay",8517394,40.578299999999999,-73.888300000000001,"Subordinate",null,null,null,40.578299999999999,-73.888300000000001]
[null,null,null,"Bay Shore, Watchogue Creek Entrance","NY","NY,  Bay Shore, Watchogue Creek Entrance","Great South Bay",8515102,40.716700000000003,-73.239999999999995,"Subordinate",null,null,null,40.716700000000003,-73.239999999999995]
[null,null,null,"BAYVILLE BRIDGE","NY","NY,  BAYVILLE BRIDGE","Oyster Bay",8516299,40.903300000000002,-73.55,"Harmonic",null,null,null,40.903300000000002,-73.55]
[null,null,null,"Beach Channel (bridge)","NY","NY,  Beach Channel (bridge)","Jamaica Bay",8517137,40.588299999999997,-73.819999999999993,"Subordinate",null,null,null,40.588299999999997,-73.819999999999993]
[null,null,null,"Belleville","NY","NY,  Belleville","Passaic River",8530591,40.786700000000003,-74.146699999999996,"Subordinate",null,null,null,40.786700000000003,-74.146699999999996]
[null,null,null,"Bellmore, Bellmore Creek","NY","NY,  Bellmore, Bellmore Creek","Hempstead Bay",8516211,40.6633,-73.52,"Subordinate",null,null,null,40.6633,-73.52]
[null,null,null,"BERGEN POINT WEST REACH","NY","NY,  BERGEN POINT WEST REACH","Kill Van Kull",8519483,40.636699999999998,-74.1417,"Harmonic",null,null,null,40.636699999999998,-74.1417]
[null,null,null,"Biltmore Shores, South Oyster Bay","NY","NY,  Biltmore Shores, South Oyster Bay","Great South Bay",8516055,40.666699999999999,-73.468299999999999,"Subordinate",null,null,null,40.666699999999999,-73.468299999999999]
[null,null,null,"Canarsie","NY","NY,  Canarsie","Jamaica Bay",8517381,40.630000000000003,-73.885000000000005,"Subordinate",null,null,null,40.630000000000003,-73.885000000000005]
[null,null,null,"Carlstadt, Garretts Reach","NY","NY,  Carlstadt, Garretts Reach","Hackensack River",8530528,40.806699999999999,-74.06,"Subordinate",null,null,null,40.806699999999999,-74.06]
[null,null,null,"Carteret","NY","NY,  Carteret","Arthur Kill",8531095,40.5867,-74.209999999999994,"Subordinate",null,null,null,40.5867,-74.209999999999994]
[null,null,null,"Castleton","NY","NY,  Castleton","Hudson River",8518989,42.533299999999997,-73.7667,"Subordinate",null,null,null,42.533299999999997,-73.7667]
[null,null,null,"CEDAR BEACH","NY","NY,  CEDAR BEACH","Oyster Bay",8514422,40.965000000000003,-73.043300000000002,"Harmonic",null,null,null,40.965000000000003,-73.043300000000002]
[null,null,null,"Cheesequake Creek, Garden State Parkway","NY","NY,  Cheesequake Creek, Garden State Parkway","Raritan River",8531223,40.453299999999999,-74.273300000000006,"Subordinate",null,null,null,40.453299999999999,-74.273300000000006]
[null,null,null,"Chelsea","NY","NY,  Chelsea","Arthur Kill","TEC1645",40.6,-74.2,"Subordinate",null,null,null,40.6,-74.2]
[null,null,null,"COLD SPRING HARBOR","NY","NY,  COLD SPRING HARBOR","Oyster Bay",8516061,40.8733,-73.47,"Harmonic",null,null,null,40.8733,-73.47]
[null,null,null,"Coney Island","NY","NY,  Coney Island","New York Harbor",8517741,40.57,-73.9833,"Subordinate",null,null,null,40.57,-73.9833]
[null,null,null,"Constable Hook","NY","NY,  Constable Hook","Kill Van Kull",8530985,40.655000000000001,-74.084999999999994,"Subordinate",null,null,null,40.655000000000001,-74.084999999999994]
[null,null,null,"Cuba Island","NY","NY,  Cuba Island","Hempstead Bay",8516221,40.619999999999997,-73.523300000000006,"Subordinate",null,null,null,40.619999999999997,-73.523300000000006]
[null,null,null,"Deep Creek Meadow","NY","NY,  Deep Creek Meadow","Hempstead Bay",8516225,40.603299999999997,-73.525000000000006,"Subordinate",null,null,null,40.603299999999997,-73.525000000000006]
[null,null,null,"Democrat Point, Fire Island Inlet","NY","NY,  Democrat Point, Fire Island Inlet","Shinnecock Bay",8515228,40.633299999999998,-73.293300000000002,"Subordinate",null,null,null,40.633299999999998,-73.293300000000002]
[null,null,null,"East Rockaway Inlet","NY","NY,  East Rockaway Inlet","Hempstead Bay",8516881,40.594999999999999,-73.743300000000005,"Subordinate",null,null,null,40.594999999999999,-73.743300000000005]
[null,null,null,"East Rutherford","NY","NY,  East Rutherford","Passaic River",8530403,40.846699999999998,-74.12,"Subordinate",null,null,null,40.846699999999998,-74.12]
[null,null,null,"EATONS NECK","NY","NY,  EATONS NECK","Oyster Bay",8515786,40.953299999999999,-73.400000000000006,"Harmonic",null,null,null,40.953299999999999,-73.400000000000006]
[null,null,null,"Edgewater, N.J.","NY","NY,  Edgewater, N.J.","Hudson River",8530505,40.813299999999998,-73.978300000000004,"Subordinate",null,null,null,40.813299999999998,-73.978300000000004]
[null,null,null,"Fire Island Coast Guard Station","NY","NY,  Fire Island Coast Guard Station","Great South Bay",8515186,40.6267,-73.260000000000005,"Subordinate",null,null,null,40.6267,-73.260000000000005]
[null,null,null,"Fire Island Light","NY","NY,  Fire Island Light","Great South Bay",8515014,40.634999999999998,-73.22,"Subordinate",null,null,null,40.634999999999998,-73.22]
[null,null,null,"Fish Creek, Berrys Creek","NY","NY,  Fish Creek, Berrys Creek","Hackensack River",8530586,40.793300000000002,-74.091700000000003,"Subordinate",null,null,null,40.793300000000002,-74.091700000000003]
[null,null,null,"Fort Hamilton, The Narrows","NY","NY,  Fort Hamilton, The Narrows","New York Harbor",8517942,40.6083,-74.034999999999997,"Subordinate",null,null,null,40.6083,-74.034999999999997]
[null,null,null,"Fort Wadsworth, The Narrows","NY","NY,  Fort Wadsworth, The Narrows","New York Harbor",8519024,40.606699999999996,-74.055000000000007,"Subordinate",null,null,null,40.606699999999996,-74.055000000000007]
[null,null,null,"Freeport, Baldwin Bay","NY","NY,  Freeport, Baldwin Bay","Hempstead Bay",8516411,40.633299999999998,-73.586699999999993,"Subordinate",null,null,null,40.633299999999998,-73.586699999999993]
[null,null,null,"Gilgo Heading","NY","NY,  Gilgo Heading","Great South Bay",8515764,40.619999999999997,-73.394999999999996,"Subordinate",null,null,null,40.619999999999997,-73.394999999999996]
[null,null,null,"GLEN COVE, HEMPSTEAD HARBOR","NY","NY,  GLEN COVE, HEMPSTEAD HARBOR","Long Island, Long Island Sound",8516614,40.863300000000002,-73.655000000000001,"Harmonic",null,null,null,40.863300000000002,-73.655000000000001]
[null,null,null,"Gowanus Bay","NY","NY,  Gowanus Bay","New York Harbor",8517921,40.664999999999999,-74.013300000000001,"Subordinate",null,null,null,40.664999999999999,-74.013300000000001]
[null,null,null,"Great Kills Harbor","NY","NY,  Great Kills Harbor","Lower New York Bay, Raritan Bay, etc.",8519436,40.543300000000002,-74.14,"Subordinate",null,null,null,40.543300000000002,-74.14]
[null,null,null,"Great River, Connetquot River","NY","NY,  Great River, Connetquot River","Great South Bay",8514783,40.723300000000002,-73.151700000000005,"Subordinate",null,null,null,40.723300000000002,-73.151700000000005]
[null,null,null,"Green Island","NY","NY,  Green Island","Hempstead Bay",8516155,40.6233,-73.5017,"Subordinate",null,null,null,40.6233,-73.5017]
[null,null,null,"Greenport","NY","NY,  Greenport","Shelter Island Sound",8511907,41.101700000000001,-72.361699999999999,"Subordinate",null,null,null,41.101700000000001,-72.361699999999999]
[null,null,null,"Hackensack","NY","NY,  Hackensack","Hackensack River",8530278,40.880000000000003,-74.040000000000006,"Subordinate",null,null,null,40.880000000000003,-74.040000000000006]
[null,null,null,"Hashamomuck Beach","NY","NY,  Hashamomuck Beach","Oyster Bay",8512053,41.094999999999999,-72.398300000000006,"Subordinate",null,null,null,41.094999999999999,-72.398300000000006]
[null,null,null,"HAVERSTRAW","NY","NY,  HAVERSTRAW","Hudson River",8518924,41.218299999999999,-73.963300000000004,"Harmonic",null,null,null,41.218299999999999,-73.963300000000004]
[null,null,null,"Hudson","NY","NY,  Hudson","Hudson River",8518974,42.25,-73.8,"Subordinate",null,null,null,42.25,-73.8]
[null,null,null,"Hyde Park","NY","NY,  Hyde Park","Hudson River",8518951,41.783299999999997,-73.95,"Subordinate",null,null,null,41.783299999999997,-73.95]
[null,null,null,"J.F.K. International Airport","NY","NY,  J.F.K. International Airport","Jamaica Bay",8516999,40.6233,-73.783299999999997,"Subordinate",null,null,null,40.6233,-73.783299999999997]
[null,null,null,"Jones Inlet (Point Lookout)","NY","NY,  Jones Inlet (Point Lookout)","Great South Bay",8516385,40.5867,-73.578299999999999,"Subordinate",null,null,null,40.5867,-73.578299999999999]
[null,null,null,"Kearny Point","NY","NY,  Kearny Point","Hackensack River",8530772,40.728299999999997,-74.103300000000004,"Subordinate",null,null,null,40.728299999999997,-74.103300000000004]
[null,null,null,"Keasbey","NY","NY,  Keasbey","Raritan River",8531262,40.508299999999998,-74.311700000000002,"Subordinate",null,null,null,40.508299999999998,-74.311700000000002]
[null,null,null,"Keyport","NY","NY,  Keyport","Raritan River",8531545,40.44,-74.198300000000003,"Subordinate",null,null,null,40.44,-74.198300000000003]
[null,null,null,"KINGS POINT","NY","NY,  KINGS POINT","Long Island, Long Island Sound",8516945,40.810299999999998,-73.764899999999997,"Harmonic",null,null,null,40.810299999999998,-73.764899999999997]
[null,null,null,"Kingston","NY","NY,  Kingston","Hudson River",8518993,41.918300000000002,-73.9833,"Subordinate",null,null,null,41.918300000000002,-73.9833]
[null,null,null,"LAKE MONTAUK","NY","NY,  LAKE MONTAUK","Peconic Bays",8510448,41.073300000000003,-71.935000000000002,"Harmonic",null,null,null,41.073300000000003,-71.935000000000002]
[null,null,null,"Little Gull Island","NY","NY,  Little Gull Island","Oyster Bay",8510884,41.206699999999998,-72.101699999999994,"Subordinate",null,null,null,41.206699999999998,-72.101699999999994]
[null,null,null,"LLOYD HARBOR, HUNTINGTON BAY","NY","NY,  LLOYD HARBOR, HUNTINGTON BAY","Oyster Bay",8515921,40.909999999999997,-73.431700000000006,"Harmonic",null,null,null,40.909999999999997,-73.431700000000006]
[null,null,null,"Long Beach (Inside)","NY","NY,  Long Beach (Inside)","Hempstead Bay",8516601,40.6,-73.650000000000006,"Subordinate",null,null,null,40.6,-73.650000000000006]
[null,null,null,"Matawan Creek, Route 35 bridge","NY","NY,  Matawan Creek, Route 35 bridge","Raritan River",8531526,40.433300000000003,-74.218299999999999,"Subordinate",null,null,null,40.433300000000003,-74.218299999999999]
[null,null,null,"MATTITUCK INLET","NY","NY,  MATTITUCK INLET","Oyster Bay",8512668,41.015000000000001,-72.561700000000002,"Harmonic",null,null,null,41.015000000000001,-72.561700000000002]
[null,null,null,"Mill Basin","NY","NY,  Mill Basin","Jamaica Bay",8517519,40.6083,-73.921700000000001,"Subordinate",null,null,null,40.6083,-73.921700000000001]
[null,null,null,"MONTAUK","NY","NY,  MONTAUK","Peconic Bays",8510560,41.048299999999998,-71.959999999999994,"Harmonic",null,null,null,41.048299999999998,-71.959999999999994]
[null,null,null,"Montauk Harbor entrance","NY","NY,  Montauk Harbor entrance","Peconic Bays",8510502,41.075000000000003,-71.936700000000002,"Subordinate",null,null,null,41.075000000000003,-71.936700000000002]
[null,null,null,"Moriches Coast Guard Station","NY","NY,  Moriches Coast Guard Station","Shinnecock Bay",8513388,40.786700000000003,-72.75,"Subordinate",null,null,null,40.786700000000003,-72.75]
[null,null,null,"Moriches Inlet","NY","NY,  Moriches Inlet","Shinnecock Bay",8513387,40.765000000000001,-72.753299999999996,"Subordinate",null,null,null,40.765000000000001,-72.753299999999996]
[null,null,null,"Motts Basin","NY","NY,  Motts Basin","Jamaica Bay",8516925,40.616700000000002,-73.758300000000006,"Subordinate",null,null,null,40.616700000000002,-73.758300000000006]
[null,null,null,"Mount Sinai Harbor","NY","NY,  Mount Sinai Harbor","Oyster Bay",8514421,40.963299999999997,-73.040000000000006,"Subordinate",null,null,null,40.963299999999997,-73.040000000000006]
[null,null,null,"Neds Creek","NY","NY,  Neds Creek","Hempstead Bay",8516315,{"$f":"--O366","v":40.6233},-73.555000000000007,"Subordinate",null,null,null,40.6233,-73.555000000000007]
[null,null,null,"New Brunswick","NY","NY,  New Brunswick","Raritan River",8531463,40.488300000000002,-74.435000000000002,"Subordinate",null,null,null,40.488300000000002,-74.435000000000002]
[null,null,null,"New Hamburg","NY","NY,  New Hamburg","Hudson River",8518939,41.583300000000001,-73.95,"Subordinate",null,null,null,41.583300000000001,-73.95]
[null,null,null,"New Millford","NY","NY,  New Millford","Hackensack River",8530186,40.935000000000002,-74.03,"Subordinate",null,null,null,40.935000000000002,-74.03]
[null,null,null,"New Suffolk","NY","NY,  New Suffolk","Peconic Bays",8512328,40.991700000000002,-72.471699999999998,"Subordinate",null,null,null,40.991700000000002,-72.471699999999998]
[null,null,null,"Newburgh","NY","NY,  Newburgh","Hudson River",8518935,41.5,-74.006699999999995,"Subordinate",null,null,null,41.5,-74.006699999999995]
[null,null,null,"North Channel Bridge, Grassy Bay","NY","NY,  North Channel Bridge, Grassy Bay","Jamaica Bay",8517201,40.645000000000003,-73.836699999999993,"Subordinate",null,null,null,40.645000000000003,-73.836699999999993]
[null,null,null,"North Secaucus, Garretts Reach","NY","NY,  North Secaucus, Garretts Reach","Hackensack River",8530531,40.805,-74.053299999999993,"Subordinate",null,null,null,40.805,-74.053299999999993]
[null,null,null,"NORTHPORT, NORTHPORT BAY","NY","NY,  NORTHPORT, NORTHPORT BAY","Oyster Bay",8515586,40.9,-73.353300000000004,"Harmonic",null,null,null,40.9,-73.353300000000004]
[null,null,null,"NORTHVILLE","NY","NY,  NORTHVILLE","Oyster Bay",8512987,40.981699999999996,-72.644999999999996,"Harmonic",null,null,null,40.981699999999996,-72.644999999999996]
[null,null,null,"Norton Point, Gravesend Bay","NY","NY,  Norton Point, Gravesend Bay","New York Harbor",8517811,40.590000000000003,-73.9983,"Subordinate",null,null,null,40.590000000000003,-73.9983]
[null,null,null,"Norton Point, Head of Bay","NY","NY,  Norton Point, Head of Bay","Jamaica Bay",8516891,40.634999999999998,-73.746700000000004,"Subordinate",null,null,null,40.634999999999998,-73.746700000000004]
[null,null,null,"Noyack Bay","NY","NY,  Noyack Bay","Shelter Island Sound",8511779,40.994999999999997,-72.331699999999998,"Subordinate",null,null,null,40.994999999999997,-72.331699999999998]
[null,null,null,"Oak Beach","NY","NY,  Oak Beach","Great South Bay",8515336,40.64,-73.295000000000002,"Subordinate",null,null,null,40.64,-73.295000000000002]
[null,null,null,"Old Bridge, South River","NY","NY,  Old Bridge, South River","Raritan River",8531369,40.416699999999999,-74.363299999999995,"Subordinate",null,null,null,40.416699999999999,-74.363299999999995]
[null,null,null,"ORIENT HARBOR","NY","NY,  ORIENT HARBOR","Shelter Island Sound",8511671,41.136699999999998,-72.306700000000006,"Harmonic",null,null,null,41.136699999999998,-72.306700000000006]
[null,null,null,"Oyster Bay Harbor","NY","NY,  Oyster Bay Harbor","Oyster Bay",8516201,40.866700000000002,-73.5167,"Subordinate",null,null,null,40.866700000000002,-73.5167]
[null,null,null,"PATCHOGUE","NY","NY,  PATCHOGUE","Great South Bay",8514322,40.75,-73,"Harmonic",null,null,null,40.75,-73]
[null,null,null,"Peekskill","NY","NY,  Peekskill","Hudson River",8518949,41.2883,-73.931700000000006,"Subordinate",null,null,null,41.2883,-73.931700000000006]
[null,null,null,"PLUM GUT HARBOR, PLUM ISLAND","NY","NY,  PLUM GUT HARBOR, PLUM ISLAND","Oyster Bay",8511236,41.171700000000001,-72.204999999999998,"Harmonic",null,null,null,41.171700000000001,-72.204999999999998]
[null,null,null,"Plumb Beach Channel","NY","NY,  Plumb Beach Channel","Jamaica Bay",8517531,40.585000000000001,-73.924999999999997,"Subordinate",null,null,null,40.585000000000001,-73.924999999999997]
[null,null,null,"Point No Point","NY","NY,  Point No Point","Passaic River",8530743,40.731699999999996,-74.116699999999994,"Subordinate",null,null,null,40.731699999999996,-74.116699999999994]
[null,null,null,"Point o' Woods","NY","NY,  Point o' Woods","Great South Bay",8514733,40.651699999999998,-73.136700000000005,"Subordinate",null,null,null,40.651699999999998,-73.136700000000005]
[null,null,null,"Ponquoque Point","NY","NY,  Ponquoque Point","Shinnecock Bay",8512451,40.85,-72.503299999999996,"Subordinate",null,null,null,40.85,-72.503299999999996]
[null,null,null,"Port Elizabeth","NY","NY,  Port Elizabeth","Kill Van Kull",8530882,40.673299999999998,-74.14,"Subordinate",null,null,null,40.673299999999998,-74.14]
[null,null,null,"Port Ivory, Howland Hook, N.Y.","NY","NY,  Port Ivory, Howland Hook, N.Y.","Arthur Kill",8519200,40.645000000000003,-74.180000000000007,"Subordinate",null,null,null,40.645000000000003,-74.180000000000007]
[null,null,null,"Port Jefferson","NY","NY,  Port Jefferson","Oyster Bay",8514560,40.950000000000003,-73.076700000000002,"Subordinate",null,null,null,40.950000000000003,-73.076700000000002]
[null,null,null,"Port Jefferson Harbor entrance","NY","NY,  Port Jefferson Harbor entrance","Oyster Bay",8514594,40.971699999999998,-73.091700000000003,"Subordinate",null,null,null,40.971699999999998,-73.091700000000003]
[null,null,null,"Port Newark Terminal","NY","NY,  Port Newark Terminal","Kill Van Kull",8530884,40.69,-74.133300000000006,"Subordinate",null,null,null,40.69,-74.133300000000006]
[null,null,null,"PORT WASHINGTON, MANHASSET BAY","NY","NY,  PORT WASHINGTON, MANHASSET BAY","Long Island, Long Island Sound",8516761,40.831699999999998,-73.703299999999999,"Harmonic",null,null,null,40.831699999999998,-73.703299999999999]
[null,null,null,"Poughkeepsie","NY","NY,  Poughkeepsie","Hudson River",8518945,41.7,-73.933300000000003,"Subordinate",null,null,null,41.7,-73.933300000000003]
[null,null,null,"Princes Bay","NY","NY,  Princes Bay","Lower New York Bay, Raritan Bay, etc.",8519726,40.511699999999998,-74.2,"Subordinate",null,null,null,40.511699999999998,-74.2]
[null,null,null,"Rahway River, RR. Bridge","NY","NY,  Rahway River, RR. Bridge","Arthur Kill",8531077,40.598300000000002,-74.231700000000004,"Subordinate",null,null,null,40.598300000000002,-74.231700000000004]
[null,null,null,"Ridgefield Park","NY","NY,  Ridgefield Park","Hackensack River",8530398,40.85,-74.03,"Subordinate",null,null,null,40.85,-74.03]
[null,null,null,"Riverdale, N.Y.","NY","NY,  Riverdale, N.Y.","Hudson River",8518905,40.903300000000002,-73.916700000000006,"Subordinate",null,null,null,40.903300000000002,-73.916700000000006]
[null,null,null,"Rossville, N.Y.","NY","NY,  Rossville, N.Y.","Arthur Kill",8519789,40.556699999999999,-74.223299999999995,"Subordinate",null,null,null,40.556699999999999,-74.223299999999995]
[null,null,null,"Sag Harbor","NY","NY,  Sag Harbor","Shelter Island Sound",8511629,41.003300000000003,-72.296700000000001,"Subordinate",null,null,null,41.003300000000003,-72.296700000000001]
[null,null,null,"Sayreville","NY","NY,  Sayreville","Raritan River",8531390,40.478299999999997,-74.356700000000004,"Subordinate",null,null,null,40.478299999999997,-74.356700000000004]
[null,null,null,"Shinnecock Bay","NY","NY,  Shinnecock Bay","Shinnecock Bay",8512671,40.82,-72.561700000000002,"Subordinate",null,null,null,40.82,-72.561700000000002]
[null,null,null,"Shinnecock Inlet (ocean)","NY","NY,  Shinnecock Inlet (ocean)","Peconic Bays",8512354,40.8367,-72.48,"Subordinate",null,null,null,40.8367,-72.48]
[null,null,null,"SHINNECOCK YACHT CLUB, PENNIMAN CREEK","NY","NY,  SHINNECOCK YACHT CLUB, PENNIMAN CREEK","Shinnecock Bay",8512769,40.818300000000001,-72.553299999999993,"Harmonic",null,null,null,40.818300000000001,-72.553299999999993]
[null,null,null,"SMITH POINT BRIDGE, NARROW BAY","NY","NY,  SMITH POINT BRIDGE, NARROW BAY","Shinnecock Bay",8513825,40.738300000000002,-72.868300000000005,"Harmonic",null,null,null,40.738300000000002,-72.868300000000005]
[null,null,null,"South Amboy","NY","NY,  South Amboy","Raritan River",8531232,40.491700000000002,-74.281700000000001,"Subordinate",null,null,null,40.491700000000002,-74.281700000000001]
[null,null,null,"SOUTH JAMESPORT","NY","NY,  SOUTH JAMESPORT","Peconic Bays",8512735,40.935000000000002,-72.581699999999998,"Harmonic",null,null,null,40.935000000000002,-72.581699999999998]
[null,null,null,"Southold","NY","NY,  Southold","Shelter Island Sound",8512114,41.06,-72.413300000000007,"Subordinate",null,null,null,41.06,-72.413300000000007]
[null,null,null,"Spuyten Duyvil Creek ent., N.Y.","NY","NY,  Spuyten Duyvil Creek ent., N.Y.","Hudson River",8518903,40.878300000000003,-73.924999999999997,"Subordinate",null,null,null,40.878300000000003,-73.924999999999997]
[null,null,null,"St. George, Staten Island","NY","NY,  St. George, Staten Island","New York Harbor",8519112,40.643300000000004,-74.073300000000003,"Subordinate",null,null,null,40.643300000000004,-74.073300000000003]
[null,null,null,"Tarrytown","NY","NY,  Tarrytown","Hudson River",8518919,41.078299999999999,-73.87,"Subordinate",null,null,null,41.078299999999999,-73.87]
[null,null,null,"THE BATTERY","NY","NY,  THE BATTERY","New York Harbor",8518750,40.700600000000001,-74.014200000000002,"Harmonic",null,null,null,40.700600000000001,-74.014200000000002]
[null,null,null,"Threemile Harbor entrance, Gardiners Bay","NY","NY,  Threemile Harbor entrance, Gardiners Bay","Peconic Bays",8511171,41.034999999999997,-72.19,"Subordinate",null,null,null,41.034999999999997,-72.19]
[null,null,null,"Tivoli","NY","NY,  Tivoli","Hudson River",8518964,42.058300000000003,-73.916700000000006,"Subordinate",null,null,null,42.058300000000003,-73.916700000000006]
[null,null,null,"Troy","NY","NY,  Troy","Hudson River","TEC1603",42.716700000000003,-73.7,"Subordinate",null,null,null,42.716700000000003,-73.7]
[null,null,null,"Waackaack Creek","NY","NY,  Waackaack Creek","Raritan River",8531592,40.448300000000003,-74.143299999999996,"Subordinate",null,null,null,40.448300000000003,-74.143299999999996]
[null,null,null,"Weehawken, Union City, N.J.","NY","NY,  Weehawken, Union City, N.J.","Hudson River",8530645,40.765000000000001,-74.018299999999996,"Subordinate",null,null,null,40.765000000000001,-74.018299999999996]
[null,null,null,"West Fire Island","NY","NY,  West Fire Island","Great South Bay",8514961,40.656700000000001,-73.204999999999998,"Subordinate",null,null,null,40.656700000000001,-73.204999999999998]
[null,null,null,"WILLETS POINT","NY","NY,  WILLETS POINT","Long Island, Long Island Sound",8516990,40.793300000000002,-73.781700000000001,"Harmonic",null,null,null,40.793300000000002,-73.781700000000001]
[null,null,null,"Woodbridge Creek, 0.8 n.mi. above entrance","NY","NY,  Woodbridge Creek, 0.8 n.mi. above entrance","Arthur Kill",8531156,40.545000000000002,-74.265000000000001,"Subordinate",null,null,null,40.545000000000002,-74.265000000000001]
[null,null,null,"Woodmere, Brosewere Bay","NY","NY,  Woodmere, Brosewere Bay","Hempstead Bay",8516745,40.619999999999997,-73.698300000000003,"Subordinate",null,null,null,40.619999999999997,-73.698300000000003]
[null,null,null,"Anthony Point","RI","RI,  Anthony Point","Sakonnet River",8450948,41.638300000000001,-71.211699999999993,"Subordinate",null,null,null,41.638300000000001,-71.211699999999993]
[null,null,null,"Bay Spring, Bullock Cove","RI","RI,  Bay Spring, Bullock Cove","Conanicut Island",8453033,41.7517,-71.351699999999994,"Subordinate",null,null,null,41.7517,-71.351699999999994]
[null,null,null,"Beavertail Point","RI","RI,  Beavertail Point","Conanicut Island",8453999,41.451700000000002,-71.401700000000005,"Subordinate",null,null,null,41.451700000000002,-71.401700000000005]
[null,null,null,"BLOCK ISLAND","RI","RI,  BLOCK ISLAND","RHODE ISLAND, Outer Coast",8459681,41.1633,-71.61,"Harmonic",null,null,null,41.1633,-71.61]
[null,null,null,"BLOCK ISLAND","RI","RI,  BLOCK ISLAND","RHODE ISLAND, Outer Coast",8459338,41.173299999999998,-71.556700000000006,"Harmonic",null,null,null,41.173299999999998,-71.556700000000006]
[null,null,null,"BRISTOL FERRY","RI","RI,  BRISTOL FERRY","Conanicut Island",8451552,41.636699999999998,-71.254999999999995,"Harmonic",null,null,null,41.636699999999998,-71.254999999999995]
[null,null,null,"Bristol Highlands","RI","RI,  Bristol Highlands","Conanicut Island",8452154,{"$f":"--O430","v":41.6967},-71.293300000000002,"Subordinate",null,null,null,41.6967,-71.293300000000002]
[null,null,null,"Bristol, Bristol Harbor","RI","RI,  Bristol, Bristol Harbor","Conanicut Island",8451929,41.668300000000002,-71.28,"Subordinate",null,null,null,41.668300000000002,-71.28]
[null,null,null,"Castle Hill","RI","RI,  Castle Hill","Sakonnet River",8453201,41.463299999999997,-71.361699999999999,"Subordinate",null,null,null,41.463299999999997,-71.361699999999999]
[null,null,null,"Conanicut Point","RI","RI,  Conanicut Point","Conanicut Island",8453465,41.573300000000003,-71.371700000000004,"Subordinate",null,null,null,41.573300000000003,-71.371700000000004]
[null,null,null,"East Greenwich","RI","RI,  East Greenwich","Conanicut Island",8454578,41.664999999999999,-71.444999999999993,"Subordinate",null,null,null,41.664999999999999,-71.444999999999993]
[null,null,null,"FALL RIVER","RI","RI,  FALL RIVER","Conanicut Island",8447386,41.704300000000003,-71.164100000000005,"Harmonic",null,null,null,41.704300000000003,-71.164100000000005]
[null,null,null,"Nannaquaket Neck","RI","RI,  Nannaquaket Neck","Sakonnet River",8450954,41.618299999999998,-71.203299999999999,"Subordinate",null,null,null,41.618299999999998,-71.203299999999999]
[null,null,null,"Narragansett Pier","RI","RI,  Narragansett Pier","Conanicut Island",8454658,41.421700000000001,-71.454999999999998,"Subordinate",null,null,null,41.421700000000001,-71.454999999999998]
[null,null,null,"NEWPORT","RI","RI,  NEWPORT","Sakonnet River",8452660,41.505000000000003,-71.326700000000002,"Harmonic",null,null,null,41.505000000000003,-71.326700000000002]
[null,null,null,"North End, Bay Oil pier","RI","RI,  North End, Bay Oil pier","Sakonnet River",8450898,41.651699999999998,-71.209999999999994,"Subordinate",null,null,null,41.651699999999998,-71.209999999999994]
[null,null,null,"Pawtucket, Seekonk River","RI","RI,  Pawtucket, Seekonk River","Conanicut Island",8453611,41.868299999999998,-71.38,"Subordinate",null,null,null,41.868299999999998,-71.38]
[null,null,null,"Pawtuxet, Pawtuxet Cove","RI","RI,  Pawtuxet, Pawtuxet Cove","Conanicut Island",8453767,41.761699999999998,-71.388300000000001,"Subordinate",null,null,null,41.761699999999998,-71.388300000000001]
[null,null,null,"POINT JUDITH, HARBOR OF REFUGE","RI","RI,  POINT JUDITH, HARBOR OF REFUGE","RHODE ISLAND, Outer Coast",8455083,41.363300000000002,-71.489999999999995,"Harmonic",null,null,null,41.363300000000002,-71.489999999999995]
[null,null,null,"PROVIDENCE","RI","RI,  PROVIDENCE","Conanicut Island",8454000,41.807099999999998,-71.401200000000003,"Harmonic",null,null,null,41.807099999999998,-71.401200000000003]
[null,null,null,"Prudence Island, (south end)","RI","RI,  Prudence Island, (south end)","Conanicut Island",8452555,41.58,-71.321700000000007,"Subordinate",null,null,null,41.58,-71.321700000000007]
[null,null,null,"Rumford, Seekonk River","RI","RI,  Rumford, Seekonk River","Conanicut Island",8453433,41.84,-71.3733,"Subordinate",null,null,null,41.84,-71.3733]
[null,null,null,"Sachuest, Flint Point","RI","RI,  Sachuest, Flint Point","Sakonnet River",8451351,41.486699999999999,-71.238299999999995,"Subordinate",null,null,null,41.486699999999999,-71.238299999999995]
[null,null,null,"Sakonnet","RI","RI,  Sakonnet","Sakonnet River",8450768,41.465000000000003,-71.193299999999994,"Subordinate",null,null,null,41.465000000000003,-71.193299999999994]
[null,null,null,"Steep Brook, Taunton River","RI","RI,  Steep Brook, Taunton River","Conanicut Island",8447281,41.74,-71.131699999999995,"Subordinate",null,null,null,41.74,-71.131699999999995]
[null,null,null,"The Glen","RI","RI,  The Glen","Sakonnet River",8451301,41.558300000000003,-71.236699999999999,"Subordinate",null,null,null,41.558300000000003,-71.236699999999999]
[null,null,null,"Watch Hill Point","RI","RI,  Watch Hill Point","RHODE ISLAND, Outer Coast",8458694,41.305,-71.86,"Subordinate",null,null,null,41.305,-71.86]
[null,null,null,"Watson Pier, Boston Neck","RI","RI,  Watson Pier, Boston Neck","Conanicut Island",8454341,41.46,-71.428299999999993,"Subordinate",null,null,null,41.46,-71.428299999999993]
[null,null,null,"WEEKAPAUG POINT, BLOCK ISLAND SOUND","RI","RI,  WEEKAPAUG POINT, BLOCK ISLAND SOUND","RHODE ISLAND, Outer Coast",8458022,41.328299999999999,-71.761700000000005,"Harmonic",null,null,null,41.328299999999999,-71.761700000000005]
[null,null,null,"WEST JAMESTOWN, DUTCH ISLAND HARBOR","RI","RI,  WEST JAMESTOWN, DUTCH ISLAND HARBOR","Conanicut Island",8453742,41.496699999999997,-71.386700000000005,"Harmonic",null,null,null,41.496699999999997,-71.386700000000005]
[null,null,null,"Westerly, Pawcatuck River","RI","RI,  Westerly, Pawcatuck River","RHODE ISLAND, Outer Coast",8455189,41.381700000000002,-71.831699999999998,"Subordinate",null,null,null,41.381700000000002,-71.831699999999998]
[null,null,null,"WICKFORD","RI","RI,  WICKFORD","Conanicut Island",8454538,41.5717,-71.444999999999993,"Harmonic",null,null,null,41.5717,-71.444999999999993]

{"sheet":"Official Itinerary 2022","index":1,"n_rows":442,"n_cols":36,"rows_kept":442,"cut":false,"hidden":false,"merged":[[3,14,3,20],[3,3,3,5],[3,6,3,8],[0,3,0,5],[3,10,3,11],[3,12,3,13],[1,10,1,13],[2,3,2,9],[2,10,2,13]]}
[null,null,null,"2022 OSCA \nSummer Cruise"]
[]
[null,null,null,null,null,null,null,null,null,null,"Current Turns at Pollack Rip Channel"]
["Cumu NM",null,null,null,null,null,"Assumed speed (kts):  ",null,null,5,"Low \nFlood Starts(NW)",null,"Hi\nEbb Starts  (SE)",null,"Celestial Timetable Calculation"]
[0,null,"Day","Date","From","To","Depart ETD","Min. Distance NM","Estimated Transit Time","Arrive ETA","am","pm","am","pm","Location","Twilight Begins","Sun Rise","Sun Set","Twilight Ends","Moon Set","Moon Visibility","Notes from Eldridge Guide hourly currents","latitude in decimal degrees (positive in northern hemisphere)","longitude in decimal degrees (negative for western hemisphere)","year","month","day","time zone in hours relative to GMT/UTC (PST= -8, MST= -7, CST= -6, EST= -5)","daylight savings time (no= 0, yes= 1)",null,null,null,null,"Cum miles",null,"Tide Beginning"]
[14,1,{"$f":"D6","v":"2022-07-23"},"2022-07-23","Home/Wickford","Third Beach \nLo Newport 943am","13:00:00",{"$f":"AH6","v":18},{"$f":"IF(ISBLANK(G6),\"\",H6/EstAvgSpeed/24)","v":"03:36:00"},{"$f":"IF(ISBLANK(G6),\"\",G6+I6)","v":"16:36:00"},null,1218,630,1842,"RI,  Sakonnet",{"$f":"IF(ISBLANK(O6),\"\",dawn(W6,X6,Y6,Z6,AA6,AB6,AC6,12))","v":"04:18:43.877"},{"$f":"IF(ISBLANK(O6),\"\",sunrise(W6,X6,Y6,Z6,AA6,AB6,AC6))","v":"05:31:04.431"},{"$f":"IF(ISBLANK(O6),\"\",sunset(W6,X6,Y6,Z6,AA6,AB6,AC6))","v":"20:10:58.440"},{"$f":"IF(ISBLANK(O6),\"\",dusk(W6,X6,Y6,Z6,AA6,AB6,AC6,12))","v":"21:23:08.834"},"16:29:00",0.22800000000000001,null,{"$f":"VLOOKUP($O6,$G$161:$K$443,4,FALSE)","v":41.465000000000003},{"$f":"VLOOKUP($O6,$G$161:$K$443,5,FALSE)","v":-71.193299999999994},{"$f":"YEAR(D6)","v":2022},{"$f":"MONTH(D6)","v":7},{"$f":"DAY(D6)","v":23},-5,1,null,null,null,null,18]
[36,2,{"$f":"D7","v":"2022-07-24"},{"$f":"D6+1","v":"2022-07-24"},"Third Beach ","Tarpaulin Cove\nLo 4pm","10:00:00",{"$f":"AH7-SUM(H$6:H6)","v":27},"05:24:00","15:24:00","0048",1318,724,1936,"MA,  WOODS HOLE",{"$f":"IF(ISBLANK(O7),\"\",dawn(W7,X7,Y7,Z7,AA7,AB7,AC7,12))","v":"04:17:34.141"},"05:29:44.268","20:08:09.874","21:20:09.735","17:30:00",0.151,"Foul current begins 1030 +3 after Ebb Starts",{"$f":"VLOOKUP($O7,$G$161:$K$443,4,FALSE)","v":41.523299999999999},-70.671700000000001,{"$f":"YEAR(D7)","v":2022},{"$f":"MONTH(D7)","v":7},{"$f":"DAY(D7)","v":24},-5,1,null,null,null,null,45,124,"ebb"]
[64,3,"2022-07-25",{"$f":"D7+1","v":"2022-07-25"},"Tarpaulin Cove\nHi11am","Edgartown\ntide","09:30:00",{"$f":"AH8-SUM(H$6:H7)","v":16},"03:12:00","12:42:00",142,1412,818,2024,"MA,  EDGARTOWN","04:18:44.780","05:30:23.966","20:06:14.157","21:17:43.153","18:26:00",8.7999999999999995E-2,"Foul current begins 1118 3 hours after Ebb Starts",41.388300000000001,-70.511700000000005,2022,7,25,-5,1,null,null,null,null,61,218,"ebb"]
[64,4,"2022-07-26","2022-07-26","Edgartown","Edgartown\ntide",null,{"$f":"AH9-SUM(H$6:H8)","v":0},{"$f":"IF(ISBLANK(G9),\"\",H9/EstAvgSpeed/24)","v":""},{"$f":"IF(ISBLANK(G9),\"\",G9+I9)","v":""},224,1500,906,2121,"MA,  EDGARTOWN","04:19:57.464","05:31:19.894","20:05:17.636","21:16:29.849","19:16:00",4.1000000000000002E-2,"Foul Current Begins Ebb +3",41.388300000000001,-70.511700000000005,2022,7,26,-5,1,null,null,null,null,61,306,"ebb"]
[76,5,"2022-07-27","2022-07-27","Edgartown","Nantucket\nHi 1pm","08:30:00",{"$f":"AH10-SUM(H$6:H9)","v":24},"04:48:00","13:18:00",312,1542,948,2154,"MA,  NANTUCKET ISLAND","04:19:58.151","05:30:53.336","20:02:23.390","21:13:08.434","20:00:00",1.2E-2,"Foul Current Begins Ebb +3",41.284999999999997,-70.096699999999998,2022,7,27,-5,1,null,null,null,null,85,348,"ebb"]
[81,6,"2022-07-28","2022-07-28","Nantucket","Nantucket",null,{"$f":"AH11-SUM(H$6:H10)","v":0},"","",348,1618,1030,2230,"MA,  NANTUCKET ISLAND","04:21:11.602","05:31:50.037","20:01:23.740","21:11:52.033","20:36:00",2E-3,null,41.284999999999997,-70.096699999999998,2022,7,28,-5,1,null,null,null,null,85,436,"ebb"]
[103,7,"2022-07-29","2022-07-29","Nantucket\nLo 730am","Quissett/\nHadley Harbor","08:00:00",{"$f":"AH12-SUM(H$6:H11)","v":35},"07:00:00","15:00:00",424,1654,1106,2306,"MA,  WOODS HOLE","04:23:42.644","05:34:27.845","20:03:17.400","21:13:52.273","21:07:00",1.0999999999999999E-2,"Foul current in Nantucket Sound all AM \nWoods Hole slack 12:16p, Max Ebb 2:33p",41.523299999999999,-70.671700000000001,2022,7,29,-5,1,null,null,null,null,120,"1130a","flood"]
[112,8,"2022-07-30","2022-07-30","Quissett/\nCuttyhunk","Westport River F.L.Tripp & Sons\n","11:00:00",{"$f":"AH13-SUM(H$6:H12)","v":21},"04:12:00","15:12:00",500,1730,1142,2348,"MA,  Westport Harbor","04:26:42.944","05:37:09.546","20:03:52.749","21:14:09.062","21:33:00",0.04,"Westport Max Ebb-2.65kt 1:15pm, \nslack 5:13pm",41.508299999999998,-71.093299999999999,2022,7,30,-5,1,null,null,null,null,141]
[150,9,"2022-07-31","2022-07-31","Westport River","home/Newport \nHi 10:20AM","11:30:00",{"$f":"AH14-SUM(H$6:H13)","v":26},"05:12:00","16:42:00",536,1806,null,1218,"RI,  NEWPORT","04:28:55.382","05:39:04.578","20:03:43.219","21:13:42.167","21:56:00",8.8999999999999996E-2,"Westport max flood 2.35kt 9:02am, slack 11:29",41.505000000000003,-71.326700000000002,2022,7,31,-5,1,null,null,null,null,167]
[null,null,null,null,null,null,null,{"$f":"SUM(H6:H14)","v":167},{"$f":"H15/EstAvgSpeed","v":33.4}]
[]
[]
[]
[]
[]
[]
[]
[]
[]
[]
[]
[]
[]
[]
[]
[]
[]
[]
[]
[]
[]
[]
[]
[]
[]
[]
[]
[]
[]
[]
[]
[]
[]
[]
[]
[]
[]
[]
[]
[]
[]
[]
[]
[]
[]
[]
[]
[]
[]
[]
[]
[]
[]
[]
[]
[]
[]
[]
[]
[]
[]
[]
[]
[]
[]
[]
[]
[]
[]
[]
[]
[]
[]
[]
[]
[]
[]
[]
[]
[]
[]
[]
[]
[]
[]
[]
[]
[]
[]
[]
[]
[]
[]
[]
[]
[]
[]
[]
[]
[]
[]
[]
[]
[]
[]
[]
[]
[]
[]
[]
[]
[]
[]
[]
[]
[]
[]
[]
[]
[]
[]
[]
[]
[]
[]
[]
[]
[]
[]
[]
[]
[]
[]
[]
[]
[]
[]
[]
[]
[]
[]
[]
[]
[]
[null,null,null,null,"Location","st","st, location","Region","ID","Lat","Lon"]
[null,null,null,null,"BLACK ROCK HARBOR","CT","CT,  BLACK ROCK HARBOR","Housatonic River",8467373,{"$f":"--P161","v":41.156700000000001},{"$f":"--Q161","v":-73.213300000000004},"Harmonic",null,null,null,41.156700000000001,-73.213300000000004]
[null,null,null,null,"Branford, Branford River","CT","CT,  Branford, Branford River","Connecticut River",8465233,41.261699999999998,-72.818299999999994,"Subordinate",null,null,null,41.261699999999998,-72.818299999999994]
[null,null,null,null,"BRIDGEPORT","CT","CT,  BRIDGEPORT","Housatonic River",8467150,41.173299999999998,-73.181700000000006,"Harmonic",null,null,null,41.173299999999998,-73.181700000000006]
[null,null,null,null,"CLINTON HARBOR","CT","CT,  CLINTON HARBOR","Connecticut River",8463701,41.268300000000004,-72.531700000000001,"Harmonic",null,null,null,41.268300000000004,-72.531700000000001]
[null,null,null,null,"Cos Cob Harbor","CT","CT,  Cos Cob Harbor","Housatonic River",8469549,41.0167,-73.596699999999998,"Subordinate",null,null,null,41.0167,-73.596699999999998]
[null,null,null,null,"Essex","CT","CT,  Essex","Connecticut River",8462925,41.348300000000002,-72.385000000000005,"Subordinate",null,null,null,41.348300000000002,-72.385000000000005]
[null,null,null,null,"Guilford Harbor","CT","CT,  Guilford Harbor","Connecticut River",8464445,41.271700000000003,-72.666700000000006,"Subordinate",null,null,null,41.271700000000003,-72.666700000000006]
[null,null,null,null,"Gulf Beach","CT","CT,  Gulf Beach","Connecticut River",8466375,41.204999999999998,-73.041700000000006,"Subordinate",null,null,null,41.204999999999998,-73.041700000000006]
[null,null,null,null,"Haddam","CT","CT,  Haddam","Connecticut River",8463582,41.481699999999996,-72.506699999999995,"Subordinate",null,null,null,41.481699999999996,-72.506699999999995]
[null,null,null,null,"Hadlyme","CT","CT,  Hadlyme","Connecticut River",8463155,41.42,-72.428299999999993,"Subordinate",null,null,null,41.42,-72.428299999999993]
[null,null,null,null,"Hartford","CT","CT,  Hartford","Connecticut River",8464464,41.77,-72.668300000000002,"Subordinate",null,null,null,41.77,-72.668300000000002]
[null,null,null,null,"Higganum Creek","CT","CT,  Higganum Creek","Connecticut River",8463836,41.503300000000003,-72.553299999999993,"Subordinate",null,null,null,41.503300000000003,-72.553299999999993]
[null,null,null,null,"Lighthouse Point, New Haven Harbor","CT","CT,  Lighthouse Point, New Haven Harbor","Connecticut River",8465692,41.2517,-72.905000000000001,"Subordinate",null,null,null,41.2517,-72.905000000000001]
[null,null,null,null,"Long Hill","CT","CT,  Long Hill","Housatonic River",8466664,41.274999999999999,-73.088300000000004,"Subordinate",null,null,null,41.274999999999999,-73.088300000000004]
[null,null,null,null,"LONG NECK POINT","CT","CT,  LONG NECK POINT","Housatonic River",8468799,41.0383,-73.48,"Harmonic",null,null,null,41.0383,-73.48]
[null,null,null,null,"Lyme, highway bridge","CT","CT,  Lyme, highway bridge","Connecticut River",8462764,41.3217,-72.349999999999994,"Subordinate",null,null,null,41.3217,-72.349999999999994]
[null,null,null,null,"Madison","CT","CT,  Madison","Connecticut River",8464041,41.27,-72.59,"Subordinate",null,null,null,41.27,-72.59]
[null,null,null,null,"Maromas","CT","CT,  Maromas","Connecticut River",8463827,41.541699999999999,-72.551699999999997,"Subordinate",null,null,null,41.541699999999999,-72.551699999999997]
[null,null,null,null,"Middletown","CT","CT,  Middletown","Connecticut River",8464336,41.56,-72.644999999999996,"Subordinate",null,null,null,41.56,-72.644999999999996]
[null,null,null,null,"Milford Harbor","CT","CT,  Milford Harbor","Connecticut River",8466442,41.218299999999999,-73.055000000000007,"Subordinate",null,null,null,41.218299999999999,-73.055000000000007]
[null,null,null,null,"NEW HAVEN","CT","CT,  NEW HAVEN","Connecticut River",8465705,41.283299999999997,-72.908299999999997,"Harmonic",null,null,null,41.283299999999997,-72.908299999999997]
[null,null,null,null,"NEW LONDON","CT","CT,  NEW LONDON","Thames River",8461490,41.361400000000003,-72.09,"Harmonic",null,null,null,41.361400000000003,-72.09]
[null,null,null,null,"Niantic, Niantic River","CT","CT,  Niantic, Niantic River","Thames River",8461925,41.325000000000003,-72.186700000000002,"Subordinate",null,null,null,41.325000000000003,-72.186700000000002]
[null,null,null,null,"Norwich","CT","CT,  Norwich","Thames River",8461392,41.523299999999999,-72.078299999999999,"Subordinate",null,null,null,41.523299999999999,-72.078299999999999]
[null,null,null,null,"Rocky Hill","CT","CT,  Rocky Hill","Connecticut River",8464255,41.6633,-72.63,"Subordinate",null,null,null,41.6633,-72.63]
[null,null,null,null,"Rowayton, Fivemile River","CT","CT,  Rowayton, Fivemile River","Housatonic River",8468609,41.064999999999998,-73.444999999999993,"Subordinate",null,null,null,41.064999999999998,-73.444999999999993]
[null,null,null,null,"Sachem Head","CT","CT,  Sachem Head","Connecticut River",8464687,41.244999999999997,-72.708299999999994,"Subordinate",null,null,null,41.244999999999997,-72.708299999999994]
[null,null,null,null,"Saybrook Jetty","CT","CT,  Saybrook Jetty","Connecticut River",8462723,41.263300000000001,-72.343299999999999,"Subordinate",null,null,null,41.263300000000001,-72.343299999999999]
[null,null,null,null,"Saybrook Point","CT","CT,  Saybrook Point","Connecticut River",8462752,41.283299999999997,-72.349999999999994,"Subordinate",null,null,null,41.283299999999997,-72.349999999999994]
[null,null,null,null,"Shelton","CT","CT,  Shelton","Housatonic River",8466573,41.301699999999997,-73.071700000000007,"Subordinate",null,null,null,41.301699999999997,-73.071700000000007]
[null,null,null,null,"SILVER EEL POND","CT","CT,  SILVER EEL POND","CONNECTICUT, Long Island Sound",8510719,41.256700000000002,-72.03,"Harmonic",null,null,null,41.256700000000002,-72.03]
[null,null,null,null,"Sniffens Point","CT","CT,  Sniffens Point","Housatonic River",8466791,41.186700000000002,-73.113299999999995,"Subordinate",null,null,null,41.186700000000002,-73.113299999999995]
[null,null,null,null,"South Hartford","CT","CT,  South Hartford","Connecticut River",8464418,41.755000000000003,-72.658299999999997,"Subordinate",null,null,null,41.755000000000003,-72.658299999999997]
[null,null,null,null,"SOUTH NORWALK","CT","CT,  SOUTH NORWALK","Housatonic River",8468448,41.096699999999998,-73.415000000000006,"Harmonic",null,null,null,41.096699999999998,-73.415000000000006]
[null,null,null,null,"SOUTHPORT, SOUTHPORT HARBOR","CT","CT,  SOUTHPORT, SOUTHPORT HARBOR","Housatonic River",8467726,41.133299999999998,-73.283299999999997,"Harmonic",null,null,null,41.133299999999998,-73.283299999999997]
[null,null,null,null,"Stamford","CT","CT,  Stamford","Housatonic River",8469198,41.0383,-73.546700000000001,"Subordinate",null,null,null,41.0383,-73.546700000000001]
[null,null,null,null,"Stratford, I-95 bridge","CT","CT,  Stratford, I-95 bridge","Housatonic River",8466797,41.203299999999999,-73.111699999999999,"Subordinate",null,null,null,41.203299999999999,-73.111699999999999]
[null,null,null,null,"Tylerville","CT","CT,  Tylerville","Connecticut River",8463348,41.451700000000002,-72.465000000000003,"Subordinate",null,null,null,41.451700000000002,-72.465000000000003]
[null,null,null,null,"Westbrook, Duck Island Roads","CT","CT,  Westbrook, Duck Island Roads","Connecticut River",8463409,41.273299999999999,-72.474999999999994,"Subordinate",null,null,null,41.273299999999999,-72.474999999999994]
[null,null,null,null,"Yale boathouse","CT","CT,  Yale boathouse","Thames River",8461467,41.43,-72.093299999999999,"Subordinate",null,null,null,41.43,-72.093299999999999]
[null,null,null,null,"AMELIA EARHART DAM, MYSTIC RIVER","MA","MA,  AMELIA EARHART DAM, MYSTIC RIVER","Boston Harbor",8443662,42.395000000000003,-71.076700000000002,"Harmonic",null,null,null,42.395000000000003,-71.076700000000002]
[null,null,null,null,"Annisquam, Lobster Cove","MA","MA,  Annisquam, Lobster Cove","Merrimack River",8441571,42.655000000000001,-70.676699999999997,"Subordinate",null,null,null,42.655000000000001,-70.676699999999997]
[null,null,null,null,"Barnstable Harbor, Beach Point","MA","MA,  Barnstable Harbor, Beach Point","Cape Cod Bay",8447335,41.721699999999998,-70.284999999999997,"Subordinate",null,null,null,41.721699999999998,-70.284999999999997]
[null,null,null,null,"BOSTON","MA","MA,  BOSTON","Boston Harbor",8443970,42.354799999999997,-71.053399999999996,"Harmonic",null,null,null,42.354799999999997,-71.053399999999996]
[null,null,null,null,"BOSTON LIGHT","MA","MA,  BOSTON LIGHT","Boston Harbor",8444162,42.328299999999999,-70.8917,"Harmonic",null,null,null,42.328299999999999,-70.8917]
[null,null,null,null,"BOURNE BRIDGE, CAPE COD CANAL (STA. 320)","MA","MA,  BOURNE BRIDGE, CAPE COD CANAL (STA. 320)","Cape Cod Bay",8447259,41.744999999999997,-70.593299999999999,"Harmonic",null,null,null,41.744999999999997,-70.593299999999999]
[null,null,null,null,"BOURNEDALE, CAPE COD CANAL (STA. 200)","MA","MA,  BOURNEDALE, CAPE COD CANAL (STA. 200)","Cape Cod Bay",8447191,41.77,-70.561700000000002,"Harmonic",null,null,null,41.77,-70.561700000000002]
[null,null,null,null,"BRANT ROCK, GREEN HARBOR RIVER","MA","MA,  BRANT ROCK, GREEN HARBOR RIVER","Cohasset Harbor to Davis Bank",8446009,42.083300000000001,-70.646699999999996,"Harmonic",null,null,null,42.083300000000001,-70.646699999999996]
[null,null,null,null,"BUZZARDS BAY","MA","MA,  BUZZARDS BAY","Buzzards Bay",8447270,41.741700000000002,-70.616699999999994,"Harmonic",null,null,null,41.741700000000002,-70.616699999999994]
[null,null,null,null,"Cedar Tree Neck","MA","MA,  Cedar Tree Neck","Martha's Vineyard",8448325,41.435000000000002,-70.696700000000007,"Subordinate",null,null,null,41.435000000000002,-70.696700000000007]
[null,null,null,null,"Chappaquoit Point","MA","MA,  Chappaquoit Point","Buzzards Bay",8447685,41.604999999999997,-70.651700000000005,"Subordinate",null,null,null,41.604999999999997,-70.651700000000005]
[null,null,null,null,"Charlestown, Charles River entrance","MA","MA,  Charlestown, Charles River entrance","Boston Harbor",8443838,42.371699999999997,-71.055000000000007,"Subordinate",null,null,null,42.371699999999997,-71.055000000000007]
[null,null,null,null,"CHATHAM","MA","MA,  CHATHAM","Cape Cod",8447435,41.688499999999998,-69.951099999999997,"Harmonic",null,null,null,41.688499999999998,-69.951099999999997]
[null,null,null,null,"CHATHAM, STAGE HARBOR","MA","MA,  CHATHAM, STAGE HARBOR","Cape Cod",8447505,41.666699999999999,-69.966700000000003,"Harmonic",null,null,null,41.666699999999999,-69.966700000000003]
[null,null,null,null,"CHELSEA","MA","MA,  CHELSEA","Boston Harbor",8443725,42.386699999999998,-71.023300000000006,"Harmonic",null,null,null,42.386699999999998,-71.023300000000006]
[null,null,null,null,"CLARKS POINT","MA","MA,  CLARKS POINT","Buzzards Bay",8447712,41.593299999999999,-70.900000000000006,"Harmonic",null,null,null,41.593299999999999,-70.900000000000006]
[null,null,null,null,"Cohasset Harbor (White Head)","MA","MA,  Cohasset Harbor (White Head)","Cohasset Harbor to Davis Bank",8444762,42.2483,-70.784999999999997,"Subordinate",null,null,null,42.2483,-70.784999999999997]
[null,null,null,null,"Cotuit Highlands","MA","MA,  Cotuit Highlands","Nantucket Sound, north side",8447675,41.6083,-70.436700000000002,"Subordinate",null,null,null,41.6083,-70.436700000000002]
[null,null,null,null,"Crow Point, Hingham Harbor entrance","MA","MA,  Crow Point, Hingham Harbor entrance","Hingham Bay",8444662,42.261699999999998,-70.893299999999996,"Subordinate",null,null,null,42.261699999999998,-70.893299999999996]
[null,null,null,null,"Cuttyhunk","MA","MA,  Cuttyhunk","Woods Hole",8448376,41.424999999999997,-70.916700000000006,"Subordinate",null,null,null,41.424999999999997,-70.916700000000006]
[null,null,null,null,"Damons Point, North River","MA","MA,  Damons Point, North River","Cohasset Harbor to Davis Bank",8445425,42.16,-70.7333,"Subordinate",null,null,null,42.16,-70.7333]
[null,null,null,null,"Deer Island (south end)","MA","MA,  Deer Island (south end)","Boston Harbor",8444012,42.348300000000002,-70.959999999999994,"Subordinate",null,null,null,42.348300000000002,-70.959999999999994]
[null,null,null,null,"Dennisport","MA","MA,  Dennisport","Nantucket Sound, north side",8447525,41.658299999999997,-70.114999999999995,"Subordinate",null,null,null,41.658299999999997,-70.114999999999995]
[null,null,null,null,"DUXBURY, DUXBURY HARBOR","MA","MA,  DUXBURY, DUXBURY HARBOR","Cape Cod Bay",8446166,42.0383,-70.67,"Harmonic",null,null,null,42.0383,-70.67]
[null,null,null,null,"EDGARTOWN","MA","MA,  EDGARTOWN","Martha's Vineyard",8448558,{"$f":"--P225","v":41.388300000000001},{"$f":"--Q225","v":-70.511700000000005},"Harmonic",null,null,null,41.388300000000001,-70.511700000000005]
[null,null,null,null,"Eel Point","MA","MA,  Eel Point","Nantucket Island",8449062,41.291699999999999,-70.208299999999994,"Subordinate",null,null,null,41.291699999999999,-70.208299999999994]
[null,null,null,null,"ESSEX","MA","MA,  ESSEX","Merrimack River",8441771,42.631700000000002,-70.776700000000005,"Harmonic",null,null,null,42.631700000000002,-70.776700000000005]
[null,null,null,null,"Falmouth Heights","MA","MA,  Falmouth Heights","Nantucket Sound, north side",8447865,41.545000000000002,-70.593299999999999,"Subordinate",null,null,null,41.545000000000002,-70.593299999999999]
[null,null,null,null,"Gay Head","MA","MA,  Gay Head","Martha's Vineyard",8448733,41.353299999999997,-70.83,"Subordinate",null,null,null,41.353299999999997,-70.83]
[null,null,null,null,"Georges Shoal, Texas Tower","MA","MA,  Georges Shoal, Texas Tower","Cape Cod",8447436,41.688299999999998,-67.760000000000005,"Subordinate",null,null,null,41.688299999999998,-67.760000000000005]
[null,null,null,null,"Gloucester Harbor","MA","MA,  Gloucester Harbor","Merrimack River",8441841,42.61,-70.66,"Subordinate",null,null,null,42.61,-70.66]
[null,null,null,null,"GRAY GABLES","MA","MA,  GRAY GABLES","Buzzards Bay",8447295,41.734999999999999,-70.6233,"Harmonic",null,null,null,41.734999999999999,-70.6233]
[null,null,null,null,"GREAT HILL","MA","MA,  GREAT HILL","Buzzards Bay",8447368,41.7117,-70.715000000000003,"Harmonic",null,null,null,41.7117,-70.715000000000003]
[null,null,null,null,"Great Point","MA","MA,  Great Point","Nantucket Island",8448566,41.386699999999998,-70.046700000000001,"Subordinate",null,null,null,41.386699999999998,-70.046700000000001]
[null,null,null,null,"Hingham","MA","MA,  Hingham","Hingham Bay",8444775,42.246699999999997,-70.885000000000005,"Subordinate",null,null,null,42.246699999999997,-70.885000000000005]
[null,null,null,null,"Hix Bridge, East Branch","MA","MA,  Hix Bridge, East Branch","Westport River",8447791,41.57,-71.073300000000003,"Subordinate",null,null,null,41.57,-71.073300000000003]
[null,null,null,null,"Hull","MA","MA,  Hull","Hingham Bay",8444351,42.3033,-70.92,"Subordinate",null,null,null,42.3033,-70.92]
[null,null,null,null,"HYANNIS PORT","MA","MA,  HYANNIS PORT","Nantucket Sound, north side",8447605,41.631700000000002,-70.3,"Harmonic",null,null,null,41.631700000000002,-70.3]
[null,null,null,null,"Little Harbor","MA","MA,  Little Harbor","Woods Hole",8447939,41.52,-70.665000000000006,"Subordinate",null,null,null,41.52,-70.665000000000006]
[null,null,null,null,"LYNN, LYNN HARBOR","MA","MA,  LYNN, LYNN HARBOR","Merrimack River",8443187,42.458300000000001,-70.943299999999994,"Harmonic",null,null,null,42.458300000000001,-70.943299999999994]
[null,null,null,null,"Marion, Sippican Harbor","MA","MA,  Marion, Sippican Harbor","Buzzards Bay",8447385,41.704999999999998,-70.761700000000005,"Subordinate",null,null,null,41.704999999999998,-70.761700000000005]
[null,null,null,null,"Mattapoisett, Mattapoisett Harbor","MA","MA,  Mattapoisett, Mattapoisett Harbor","Buzzards Bay",8447531,41.656700000000001,-70.813299999999998,"Subordinate",null,null,null,41.656700000000001,-70.813299999999998]
[null,null,null,null,"MERRIMACPORT","MA","MA,  MERRIMACPORT","Merrimack River",8440369,42.825000000000003,-70.988299999999995,"Harmonic",null,null,null,42.825000000000003,-70.988299999999995]
[null,null,null,null,"Monument Beach","MA","MA,  Monument Beach","Buzzards Bay",8447355,41.715000000000003,-70.616699999999994,"Subordinate",null,null,null,41.715000000000003,-70.616699999999994]
[null,null,null,null,"Moon Head","MA","MA,  Moon Head","Boston Harbor",8444312,42.308300000000003,-70.991699999999994,"Subordinate",null,null,null,42.308300000000003,-70.991699999999994]
[null,null,null,null,"Muskeget Island, north side","MA","MA,  Muskeget Island, north side","Nantucket Island",8448817,41.3367,-70.305000000000007,"Subordinate",null,null,null,41.3367,-70.305000000000007]
[null,null,null,null,"Nantasket Beach, Weir River","MA","MA,  Nantasket Beach, Weir River","Hingham Bay",8444601,42.27,-70.86,"Subordinate",null,null,null,42.27,-70.86]
[null,null,null,null,"NANTUCKET ISLAND","MA","MA,  NANTUCKET ISLAND","Nantucket Island",8449130,41.284999999999997,-70.096699999999998,"Harmonic",null,null,null,41.284999999999997,-70.096699999999998]
[null,null,null,null,"Neponset, Neponset River","MA","MA,  Neponset, Neponset River","Boston Harbor",8444488,42.284999999999997,-71.040000000000006,"Subordinate",null,null,null,42.284999999999997,-71.040000000000006]
[null,null,null,null,"New Bedford","MA","MA,  New Bedford","Buzzards Bay",8447584,41.64,-70.918300000000002,"Subordinate",null,null,null,41.64,-70.918300000000002]
[null,null,null,null,"NEWBURYPORT","MA","MA,  NEWBURYPORT","Merrimack River",8440466,42.814999999999998,-70.8733,"Harmonic",null,null,null,42.814999999999998,-70.8733]
[null,null,null,null,"Nomans Land","MA","MA,  Nomans Land","Martha's Vineyard",8449287,41.261699999999998,-70.818299999999994,"Subordinate",null,null,null,41.261699999999998,-70.818299999999994]
[null,null,null,null,"NUT ISLAND","MA","MA,  NUT ISLAND","Hingham Bay",8444525,42.28,-70.953299999999999,"Harmonic",null,null,null,42.28,-70.953299999999999]
[null,null,null,null,"Oak Bluffs","MA","MA,  Oak Bluffs","Martha's Vineyard",8448208,41.458300000000001,-70.555000000000007,"Subordinate",null,null,null,41.458300000000001,-70.555000000000007]
[null,null,null,null,"Onset Beach, Onset Bay","MA","MA,  Onset Beach, Onset Bay","Buzzards Bay",8447277,41.741700000000002,-70.658299999999997,"Subordinate",null,null,null,41.741700000000002,-70.658299999999997]
[null,null,null,null,"PENIKESE ISLAND","MA","MA,  PENIKESE ISLAND","Buzzards Bay",8448248,41.45,-70.921700000000001,"Harmonic",null,null,null,41.45,-70.921700000000001]
[null,null,null,null,"PINEY POINT","MA","MA,  PINEY POINT","Buzzards Bay",8447416,41.695,-70.72,"Harmonic",null,null,null,41.695,-70.72]
[null,null,null,null,"Pleasant Bay","MA","MA,  Pleasant Bay","Cape Cod",8447291,41.736699999999999,-69.981700000000004,"Subordinate",null,null,null,41.736699999999999,-69.981700000000004]
[null,null,null,null,"PLUM ISLAND SOUTH","MA","MA,  PLUM ISLAND SOUTH","Merrimack River",8441241,42.710099999999997,-70.788600000000002,"Harmonic",null,null,null,42.710099999999997,-70.788600000000002]
[null,null,null,null,"PLUM ISLAND, MERRIMACK RIVER ENTRANCE","MA","MA,  PLUM ISLAND, MERRIMACK RIVER ENTRANCE","Merrimack River",8440452,42.816699999999997,-70.819999999999993,"Harmonic",null,null,null,42.816699999999997,-70.819999999999993]
[null,null,null,null,"PLYMOUTH","MA","MA,  PLYMOUTH","Cape Cod Bay",8446493,41.96,-70.661699999999996,"Harmonic",null,null,null,41.96,-70.661699999999996]
[null,null,null,null,"Poponesset Island, Poponesset Bay","MA","MA,  Poponesset Island, Poponesset Bay","Nantucket Sound, north side",8447742,41.5867,-70.463300000000004,"Subordinate",null,null,null,41.5867,-70.463300000000004]
[null,null,null,null,"PROVINCETOWN","MA","MA,  PROVINCETOWN","Cape Cod Bay",8446121,42.049599999999998,-70.182199999999995,"Harmonic",null,null,null,42.049599999999998,-70.182199999999995]
[null,null,null,null,"Quick's Hole","MA","MA,  Quick's Hole","Woods Hole",8448251,41.448300000000003,-70.856700000000004,"Subordinate",null,null,null,41.448300000000003,-70.856700000000004]
[null,null,null,null,"RIVERSIDE","MA","MA,  RIVERSIDE","Merrimack River",8440889,42.763300000000001,-71.076700000000002,"Harmonic",null,null,null,42.763300000000001,-71.076700000000002]
[null,null,null,null,"ROCKPORT","MA","MA,  ROCKPORT","Merrimack River",8441551,42.658299999999997,-70.614999999999995,"Harmonic",null,null,null,42.658299999999997,-70.614999999999995]
[null,null,null,null,"ROUND HILL POINT","MA","MA,  ROUND HILL POINT","Buzzards Bay",8447842,41.5383,-70.928299999999993,"Harmonic",null,null,null,41.5383,-70.928299999999993]
[null,null,null,null,"SAGAMORE, CAPE COD CANAL (STA. 115)","MA","MA,  SAGAMORE, CAPE COD CANAL (STA. 115)","Cape Cod Bay",8447173,41.774999999999999,-70.534999999999997,"Harmonic",null,null,null,41.774999999999999,-70.534999999999997]
[null,null,null,null,"SALEM, SALEM HARBOR","MA","MA,  SALEM, SALEM HARBOR","Merrimack River",8442645,42.523299999999999,-70.8767,"Harmonic",null,null,null,42.523299999999999,-70.8767]
[null,null,null,null,"SALISBURY POINT","MA","MA,  SALISBURY POINT","Merrimack River",8440273,42.838299999999997,-70.908299999999997,"Harmonic",null,null,null,42.838299999999997,-70.908299999999997]
[null,null,null,null,"Sandwich","MA","MA,  Sandwich","Cape Cod Bay",8447180,41.771700000000003,-70.506699999999995,"Subordinate",null,null,null,41.771700000000003,-70.506699999999995]
[null,null,null,null,"SAQUATUCKET HARBOR","MA","MA,  SAQUATUCKET HARBOR","Nantucket Sound, north side",8447495,41.668300000000002,-70.056700000000006,"Harmonic",null,null,null,41.668300000000002,-70.056700000000006]
[null,null,null,null,"SCITUATE, SCITUATE HARBOR","MA","MA,  SCITUATE, SCITUATE HARBOR","Cohasset Harbor to Davis Bank",8445138,42.201700000000002,-70.726699999999994,"Harmonic",null,null,null,42.201700000000002,-70.726699999999994]
[null,null,null,null,"SESUIT HARBOR, EAST DENNIS","MA","MA,  SESUIT HARBOR, EAST DENNIS","Cape Cod Bay",8447241,41.7517,-70.155000000000001,"Harmonic",null,null,null,41.7517,-70.155000000000001]
[null,null,null,null,"South Yarmouth, Bass River","MA","MA,  South Yarmouth, Bass River","Nantucket Sound, north side",8447504,41.664999999999999,-70.183300000000003,"Subordinate",null,null,null,41.664999999999999,-70.183300000000003]
[null,null,null,null,"Squibnocket Point","MA","MA,  Squibnocket Point","Martha's Vineyard",8448942,41.311700000000002,-70.768299999999996,"Subordinate",null,null,null,41.311700000000002,-70.768299999999996]
[null,null,null,null,"Uncatena Island (south side)","MA","MA,  Uncatena Island (south side)","Woods Hole",8447941,41.52,-70.708299999999994,"Subordinate",null,null,null,41.52,-70.708299999999994]
[null,null,null,null,"VINEYARD HAVEN, VINEYARD HVN HBR","MA","MA,  VINEYARD HAVEN, VINEYARD HVN HBR","Martha's Vineyard",8448157,41.458300000000001,-70.599999999999994,"Harmonic",null,null,null,41.458300000000001,-70.599999999999994]
[null,null,null,null,"Wasque Point, Chappaquiddick Island","MA","MA,  Wasque Point, Chappaquiddick Island","Martha's Vineyard",8448683,41.363300000000002,-70.45,"Subordinate",null,null,null,41.363300000000002,-70.45]
[null,null,null,null,"Wellfleet","MA","MA,  Wellfleet","Cape Cod Bay",8446613,41.93,-70.041700000000006,"Subordinate",null,null,null,41.93,-70.041700000000006]
[null,null,null,null,"Westport Harbor","MA","MA,  Westport Harbor","Westport River",8447975,41.508299999999998,-71.093299999999999,"Subordinate",null,null,null,41.508299999999998,-71.093299999999999]
[null,null,null,null,"WEYMOUTH FORE RIVER","MA","MA,  WEYMOUTH FORE RIVER","Hingham Bay",8444788,42.2483,-70.966700000000003,"Harmonic",null,null,null,42.2483,-70.966700000000003]
[null,null,null,null,"WOODS HOLE","MA","MA,  WOODS HOLE","Woods Hole",8447930,41.523299999999999,-70.671700000000001,"Harmonic",null,null,null,41.523299999999999,-70.671700000000001]
[null,null,null,null,"Wychmere Harbor","MA","MA,  Wychmere Harbor","Nantucket Sound, north side",8447506,41.664999999999999,-70.064999999999998,"Subordinate",null,null,null,41.664999999999999,-70.064999999999998]
[null,null,null,null,"ALBANY","NY","NY,  ALBANY","Hudson River",8518995,42.65,-73.746700000000004,"Harmonic",null,null,null,42.65,-73.746700000000004]
[null,null,null,null,"Alpine, N.J.","NY","NY,  Alpine, N.J.","Hudson River",8530095,40.945,-73.918300000000002,"Subordinate",null,null,null,40.945,-73.918300000000002]
[null,null,null,null,"Amityville","NY","NY,  Amityville","Great South Bay",8515864,40.655000000000001,-73.418300000000002,"Subordinate",null,null,null,40.655000000000001,-73.418300000000002]
[null,null,null,null,"Amtrak RR. swing bridge","NY","NY,  Amtrak RR. swing bridge","Hackensack River",8530696,40.7517,-74.096699999999998,"Subordinate",null,null,null,40.7517,-74.096699999999998]
[null,null,null,null,"Babylon","NY","NY,  Babylon","Great South Bay",8515421,{"$f":"--P289","v":40.685000000000002},{"$f":"--Q289","v":-73.314999999999998},"Subordinate",null,null,null,40.685000000000002,-73.314999999999998]
[null,null,null,null,"Barren Island, Rockaway Inlet","NY","NY,  Barren Island, Rockaway Inlet","Jamaica Bay",8517394,40.578299999999999,-73.888300000000001,"Subordinate",null,null,null,40.578299999999999,-73.888300000000001]
[null,null,null,null,"Bay Shore, Watchogue Creek Entrance","NY","NY,  Bay Shore, Watchogue Creek Entrance","Great South Bay",8515102,40.716700000000003,-73.239999999999995,"Subordinate",null,null,null,40.716700000000003,-73.239999999999995]
[null,null,null,null,"BAYVILLE BRIDGE","NY","NY,  BAYVILLE BRIDGE","Oyster Bay",8516299,40.903300000000002,-73.55,"Harmonic",null,null,null,40.903300000000002,-73.55]
[null,null,null,null,"Beach Channel (bridge)","NY","NY,  Beach Channel (bridge)","Jamaica Bay",8517137,40.588299999999997,-73.819999999999993,"Subordinate",null,null,null,40.588299999999997,-73.819999999999993]
[null,null,null,null,"Belleville","NY","NY,  Belleville","Passaic River",8530591,40.786700000000003,-74.146699999999996,"Subordinate",null,null,null,40.786700000000003,-74.146699999999996]
[null,null,null,null,"Bellmore, Bellmore Creek","NY","NY,  Bellmore, Bellmore Creek","Hempstead Bay",8516211,40.6633,-73.52,"Subordinate",null,null,null,40.6633,-73.52]
[null,null,null,null,"BERGEN POINT WEST REACH","NY","NY,  BERGEN POINT WEST REACH","Kill Van Kull",8519483,40.636699999999998,-74.1417,"Harmonic",null,null,null,40.636699999999998,-74.1417]
[null,null,null,null,"Biltmore Shores, South Oyster Bay","NY","NY,  Biltmore Shores, South Oyster Bay","Great South Bay",8516055,40.666699999999999,-73.468299999999999,"Subordinate",null,null,null,40.666699999999999,-73.468299999999999]
[null,null,null,null,"Canarsie","NY","NY,  Canarsie","Jamaica Bay",8517381,40.630000000000003,-73.885000000000005,"Subordinate",null,null,null,40.630000000000003,-73.885000000000005]
[null,null,null,null,"Carlstadt, Garretts Reach","NY","NY,  Carlstadt, Garretts Reach","Hackensack River",8530528,40.806699999999999,-74.06,"Subordinate",null,null,null,40.806699999999999,-74.06]
[null,null,null,null,"Carteret","NY","NY,  Carteret","Arthur Kill",8531095,40.5867,-74.209999999999994,"Subordinate",null,null,null,40.5867,-74.209999999999994]
[null,null,null,null,"Castleton","NY","NY,  Castleton","Hudson River",8518989,42.533299999999997,-73.7667,"Subordinate",null,null,null,42.533299999999997,-73.7667]
[null,null,null,null,"CEDAR BEACH","NY","NY,  CEDAR BEACH","Oyster Bay",8514422,40.965000000000003,-73.043300000000002,"Harmonic",null,null,null,40.965000000000003,-73.043300000000002]
[null,null,null,null,"Cheesequake Creek, Garden State Parkway","NY","NY,  Cheesequake Creek, Garden State Parkway","Raritan River",8531223,40.453299999999999,-74.273300000000006,"Subordinate",null,null,null,40.453299999999999,-74.273300000000006]
[null,null,null,null,"Chelsea","NY","NY,  Chelsea","Arthur Kill","TEC1645",40.6,-74.2,"Subordinate",null,null,null,40.6,-74.2]
[null,null,null,null,"COLD SPRING HARBOR","NY","NY,  COLD SPRING HARBOR","Oyster Bay",8516061,40.8733,-73.47,"Harmonic",null,null,null,40.8733,-73.47]
[null,null,null,null,"Coney Island","NY","NY,  Coney Island","New York Harbor",8517741,40.57,-73.9833,"Subordinate",null,null,null,40.57,-73.9833]
[null,null,null,null,"Constable Hook","NY","NY,  Constable Hook","Kill Van Kull",8530985,40.655000000000001,-74.084999999999994,"Subordinate",null,null,null,40.655000000000001,-74.084999999999994]
[null,null,null,null,"Cuba Island","NY","NY,  Cuba Island","Hempstead Bay",8516221,40.619999999999997,-73.523300000000006,"Subordinate",null,null,null,40.619999999999997,-73.523300000000006]
[null,null,null,null,"Deep Creek Meadow","NY","NY,  Deep Creek Meadow","Hempstead Bay",8516225,40.603299999999997,-73.525000000000006,"Subordinate",null,null,null,40.603299999999997,-73.525000000000006]
[null,null,null,null,"Democrat Point, Fire Island Inlet","NY","NY,  Democrat Point, Fire Island Inlet","Shinnecock Bay",8515228,40.633299999999998,-73.293300000000002,"Subordinate",null,null,null,40.633299999999998,-73.293300000000002]
[null,null,null,null,"East Rockaway Inlet","NY","NY,  East Rockaway Inlet","Hempstead Bay",8516881,40.594999999999999,-73.743300000000005,"Subordinate",null,null,null,40.594999999999999,-73.743300000000005]
[null,null,null,null,"East Rutherford","NY","NY,  East Rutherford","Passaic River",8530403,40.846699999999998,-74.12,"Subordinate",null,null,null,40.846699999999998,-74.12]
[null,null,null,null,"EATONS NECK","NY","NY,  EATONS NECK","Oyster Bay",8515786,40.953299999999999,-73.400000000000006,"Harmonic",null,null,null,40.953299999999999,-73.400000000000006]
[null,null,null,null,"Edgewater, N.J.","NY","NY,  Edgewater, N.J.","Hudson River",8530505,40.813299999999998,-73.978300000000004,"Subordinate",null,null,null,40.813299999999998,-73.978300000000004]
[null,null,null,null,"Fire Island Coast Guard Station","NY","NY,  Fire Island Coast Guard Station","Great South Bay",8515186,40.6267,-73.260000000000005,"Subordinate",null,null,null,40.6267,-73.260000000000005]
[null,null,null,null,"Fire Island Light","NY","NY,  Fire Island Light","Great South Bay",8515014,40.634999999999998,-73.22,"Subordinate",null,null,null,40.634999999999998,-73.22]
[null,null,null,null,"Fish Creek, Berrys Creek","NY","NY,  Fish Creek, Berrys Creek","Hackensack River",8530586,40.793300000000002,-74.091700000000003,"Subordinate",null,null,null,40.793300000000002,-74.091700000000003]
[null,null,null,null,"Fort Hamilton, The Narrows","NY","NY,  Fort Hamilton, The Narrows","New York Harbor",8517942,40.6083,-74.034999999999997,"Subordinate",null,null,null,40.6083,-74.034999999999997]
[null,null,null,null,"Fort Wadsworth, The Narrows","NY","NY,  Fort Wadsworth, The Narrows","New York Harbor",8519024,40.606699999999996,-74.055000000000007,"Subordinate",null,null,null,40.606699999999996,-74.055000000000007]
[null,null,null,null,"Freeport, Baldwin Bay","NY","NY,  Freeport, Baldwin Bay","Hempstead Bay",8516411,40.633299999999998,-73.586699999999993,"Subordinate",null,null,null,40.633299999999998,-73.586699999999993]
[null,null,null,null,"Gilgo Heading","NY","NY,  Gilgo Heading","Great South Bay",8515764,40.619999999999997,-73.394999999999996,"Subordinate",null,null,null,40.619999999999997,-73.394999999999996]
[null,null,null,null,"GLEN COVE, HEMPSTEAD HARBOR","NY","NY,  GLEN COVE, HEMPSTEAD HARBOR","Long Island, Long Island Sound",8516614,40.863300000000002,-73.655000000000001,"Harmonic",null,null,null,40.863300000000002,-73.655000000000001]
[null,null,null,null,"Gowanus Bay","NY","NY,  Gowanus Bay","New York Harbor",8517921,40.664999999999999,-74.013300000000001,"Subordinate",null,null,null,40.664999999999999,-74.013300000000001]
[null,null,null,null,"Great Kills Harbor","NY","NY,  Great Kills Harbor","Lower New York Bay, Raritan Bay, etc.",8519436,40.543300000000002,-74.14,"Subordinate",null,null,null,40.543300000000002,-74.14]
[null,null,null,null,"Great River, Connetquot River","NY","NY,  Great River, Connetquot River","Great South Bay",8514783,40.723300000000002,-73.151700000000005,"Subordinate",null,null,null,40.723300000000002,-73.151700000000005]
[null,null,null,null,"Green Island","NY","NY,  Green Island","Hempstead Bay",8516155,40.6233,-73.5017,"Subordinate",null,null,null,40.6233,-73.5017]
[null,null,null,null,"Greenport","NY","NY,  Greenport","Shelter Island Sound",8511907,41.101700000000001,-72.361699999999999,"Subordinate",null,null,null,41.101700000000001,-72.361699999999999]
[null,null,null,null,"Hackensack","NY","NY,  Hackensack","Hackensack River",8530278,40.880000000000003,-74.040000000000006,"Subordinate",null,null,null,40.880000000000003,-74.040000000000006]
[null,null,null,null,"Hashamomuck Beach","NY","NY,  Hashamomuck Beach","Oyster Bay",8512053,41.094999999999999,-72.398300000000006,"Subordinate",null,null,null,41.094999999999999,-72.398300000000006]
[null,null,null,null,"HAVERSTRAW","NY","NY,  HAVERSTRAW","Hudson River",8518924,41.218299999999999,-73.963300000000004,"Harmonic",null,null,null,41.218299999999999,-73.963300000000004]
[null,null,null,null,"Hudson","NY","NY,  Hudson","Hudson River",8518974,42.25,-73.8,"Subordinate",null,null,null,42.25,-73.8]
[null,null,null,null,"Hyde Park","NY","NY,  Hyde Park","Hudson River",8518951,41.783299999999997,-73.95,"Subordinate",null,null,null,41.783299999999997,-73.95]
[null,null,null,null,"J.F.K. International Airport","NY","NY,  J.F.K. International Airport","Jamaica Bay",8516999,40.6233,-73.783299999999997,"Subordinate",null,null,null,40.6233,-73.783299999999997]
[null,null,null,null,"Jones Inlet (Point Lookout)","NY","NY,  Jones Inlet (Point Lookout)","Great South Bay",8516385,40.5867,-73.578299999999999,"Subordinate",null,null,null,40.5867,-73.578299999999999]
[null,null,null,null,"Kearny Point","NY","NY,  Kearny Point","Hackensack River",8530772,40.728299999999997,-74.103300000000004,"Subordinate",null,null,null,40.728299999999997,-74.103300000000004]
[null,null,null,null,"Keasbey","NY","NY,  Keasbey","Raritan River",8531262,40.508299999999998,-74.311700000000002,"Subordinate",null,null,null,40.508299999999998,-74.311700000000002]
[null,null,null,null,"Keyport","NY","NY,  Keyport","Raritan River",8531545,40.44,-74.198300000000003,"Subordinate",null,null,null,40.44,-74.198300000000003]
[null,null,null,null,"KINGS POINT","NY","NY,  KINGS POINT","Long Island, Long Island Sound",8516945,40.810299999999998,-73.764899999999997,"Harmonic",null,null,null,40.810299999999998,-73.764899999999997]
[null,null,null,null,"Kingston","NY","NY,  Kingston","Hudson River",8518993,41.918300000000002,-73.9833,"Subordinate",null,null,null,41.918300000000002,-73.9833]
[null,null,null,null,"LAKE MONTAUK","NY","NY,  LAKE MONTAUK","Peconic Bays",8510448,41.073300000000003,-71.935000000000002,"Harmonic",null,null,null,41.073300000000003,-71.935000000000002]
[null,null,null,null,"Little Gull Island","NY","NY,  Little Gull Island","Oyster Bay",8510884,41.206699999999998,-72.101699999999994,"Subordinate",null,null,null,41.206699999999998,-72.101699999999994]
[null,null,null,null,"LLOYD HARBOR, HUNTINGTON BAY","NY","NY,  LLOYD HARBOR, HUNTINGTON BAY","Oyster Bay",8515921,40.909999999999997,-73.431700000000006,"Harmonic",null,null,null,40.909999999999997,-73.431700000000006]
[null,null,null,null,"Long Beach (Inside)","NY","NY,  Long Beach (Inside)","Hempstead Bay",8516601,40.6,-73.650000000000006,"Subordinate",null,null,null,40.6,-73.650000000000006]
[null,null,null,null,"Matawan Creek, Route 35 bridge","NY","NY,  Matawan Creek, Route 35 bridge","Raritan River",8531526,40.433300000000003,-74.218299999999999,"Subordinate",null,null,null,40.433300000000003,-74.218299999999999]
[null,null,null,null,"MATTITUCK INLET","NY","NY,  MATTITUCK INLET","Oyster Bay",8512668,41.015000000000001,-72.561700000000002,"Harmonic",null,null,null,41.015000000000001,-72.561700000000002]
[null,null,null,null,"Mill Basin","NY","NY,  Mill Basin","Jamaica Bay",8517519,40.6083,-73.921700000000001,"Subordinate",null,null,null,40.6083,-73.921700000000001]
[null,null,null,null,"MONTAUK","NY","NY,  MONTAUK","Peconic Bays",8510560,41.048299999999998,-71.959999999999994,"Harmonic",null,null,null,41.048299999999998,-71.959999999999994]
[null,null,null,null,"Montauk Harbor entrance","NY","NY,  Montauk Harbor entrance","Peconic Bays",8510502,41.075000000000003,-71.936700000000002,"Subordinate",null,null,null,41.075000000000003,-71.936700000000002]
[null,null,null,null,"Moriches Coast Guard Station","NY","NY,  Moriches Coast Guard Station","Shinnecock Bay",8513388,40.786700000000003,-72.75,"Subordinate",null,null,null,40.786700000000003,-72.75]
[null,null,null,null,"Moriches Inlet","NY","NY,  Moriches Inlet","Shinnecock Bay",8513387,40.765000000000001,-72.753299999999996,"Subordinate",null,null,null,40.765000000000001,-72.753299999999996]
[null,null,null,null,"Motts Basin","NY","NY,  Motts Basin","Jamaica Bay",8516925,40.616700000000002,-73.758300000000006,"Subordinate",null,null,null,40.616700000000002,-73.758300000000006]
[null,null,null,null,"Mount Sinai Harbor","NY","NY,  Mount Sinai Harbor","Oyster Bay",8514421,40.963299999999997,-73.040000000000006,"Subordinate",null,null,null,40.963299999999997,-73.040000000000006]
[null,null,null,null,"Neds Creek","NY","NY,  Neds Creek","Hempstead Bay",8516315,{"$f":"--P353","v":40.6233},{"$f":"--Q353","v":-73.555000000000007},"Subordinate",null,null,null,40.6233,-73.555000000000007]
[null,null,null,null,"New Brunswick","NY","NY,  New Brunswick","Raritan River",8531463,40.488300000000002,-74.435000000000002,"Subordinate",null,null,null,40.488300000000002,-74.435000000000002]
[null,null,null,null,"New Hamburg","NY","NY,  New Hamburg","Hudson River",8518939,41.583300000000001,-73.95,"Subordinate",null,null,null,41.583300000000001,-73.95]
[null,null,null,null,"New Millford","NY","NY,  New Millford","Hackensack River",8530186,40.935000000000002,-74.03,"Subordinate",null,null,null,40.935000000000002,-74.03]
[null,null,null,null,"New Suffolk","NY","NY,  New Suffolk","Peconic Bays",8512328,40.991700000000002,-72.471699999999998,"Subordinate",null,null,null,40.991700000000002,-72.471699999999998]
[null,null,null,null,"Newburgh","NY","NY,  Newburgh","Hudson River",8518935,41.5,-74.006699999999995,"Subordinate",null,null,null,41.5,-74.006699999999995]
[null,null,null,null,"North Channel Bridge, Grassy Bay","NY","NY,  North Channel Bridge, Grassy Bay","Jamaica Bay",8517201,40.645000000000003,-73.836699999999993,"Subordinate",null,null,null,40.645000000000003,-73.836699999999993]
[null,null,null,null,"North Secaucus, Garretts Reach","NY","NY,  North Secaucus, Garretts Reach","Hackensack River",8530531,40.805,-74.053299999999993,"Subordinate",null,null,null,40.805,-74.053299999999993]
[null,null,null,null,"NORTHPORT, NORTHPORT BAY","NY","NY,  NORTHPORT, NORTHPORT BAY","Oyster Bay",8515586,40.9,-73.353300000000004,"Harmonic",null,null,null,40.9,-73.353300000000004]
[null,null,null,null,"NORTHVILLE","NY","NY,  NORTHVILLE","Oyster Bay",8512987,40.981699999999996,-72.644999999999996,"Harmonic",null,null,null,40.981699999999996,-72.644999999999996]
[null,null,null,null,"Norton Point, Gravesend Bay","NY","NY,  Norton Point, Gravesend Bay","New York Harbor",8517811,40.590000000000003,-73.9983,"Subordinate",null,null,null,40.590000000000003,-73.9983]
[null,null,null,null,"Norton Point, Head of Bay","NY","NY,  Norton Point, Head of Bay","Jamaica Bay",8516891,40.634999999999998,-73.746700000000004,"Subordinate",null,null,null,40.634999999999998,-73.746700000000004]
[null,null,null,null,"Noyack Bay","NY","NY,  Noyack Bay","Shelter Island Sound",8511779,40.994999999999997,-72.331699999999998,"Subordinate",null,null,null,40.994999999999997,-72.331699999999998]
[null,null,null,null,"Oak Beach","NY","NY,  Oak Beach","Great South Bay",8515336,40.64,-73.295000000000002,"Subordinate",null,null,null,40.64,-73.295000000000002]
[null,null,null,null,"Old Bridge, South River","NY","NY,  Old Bridge, South River","Raritan River",8531369,40.416699999999999,-74.363299999999995,"Subordinate",null,null,null,40.416699999999999,-74.363299999999995]
[null,null,null,null,"ORIENT HARBOR","NY","NY,  ORIENT HARBOR","Shelter Island Sound",8511671,41.136699999999998,-72.306700000000006,"Harmonic",null,null,null,41.136699999999998,-72.306700000000006]
[null,null,null,null,"Oyster Bay Harbor","NY","NY,  Oyster Bay Harbor","Oyster Bay",8516201,40.866700000000002,-73.5167,"Subordinate",null,null,null,40.866700000000002,-73.5167]
[null,null,null,null,"PATCHOGUE","NY","NY,  PATCHOGUE","Great South Bay",8514322,40.75,-73,"Harmonic",null,null,null,40.75,-73]
[null,null,null,null,"Peekskill","NY","NY,  Peekskill","Hudson River",8518949,41.2883,-73.931700000000006,"Subordinate",null,null,null,41.2883,-73.931700000000006]
[null,null,null,null,"PLUM GUT HARBOR, PLUM ISLAND","NY","NY,  PLUM GUT HARBOR, PLUM ISLAND","Oyster Bay",8511236,41.171700000000001,-72.204999999999998,"Harmonic",null,null,null,41.171700000000001,-72.204999999999998]
[null,null,null,null,"Plumb Beach Channel","NY","NY,  Plumb Beach Channel","Jamaica Bay",8517531,40.585000000000001,-73.924999999999997,"Subordinate",null,null,null,40.585000000000001,-73.924999999999997]
[null,null,null,null,"Point No Point","NY","NY,  Point No Point","Passaic River",8530743,40.731699999999996,-74.116699999999994,"Subordinate",null,null,null,40.731699999999996,-74.116699999999994]
[null,null,null,null,"Point o' Woods","NY","NY,  Point o' Woods","Great South Bay",8514733,40.651699999999998,-73.136700000000005,"Subordinate",null,null,null,40.651699999999998,-73.136700000000005]
[null,null,null,null,"Ponquoque Point","NY","NY,  Ponquoque Point","Shinnecock Bay",8512451,40.85,-72.503299999999996,"Subordinate",null,null,null,40.85,-72.503299999999996]
[null,null,null,null,"Port Elizabeth","NY","NY,  Port Elizabeth","Kill Van Kull",8530882,40.673299999999998,-74.14,"Subordinate",null,null,null,40.673299999999998,-74.14]
[null,null,null,null,"Port Ivory, Howland Hook, N.Y.","NY","NY,  Port Ivory, Howland Hook, N.Y.","Arthur Kill",8519200,40.645000000000003,-74.180000000000007,"Subordinate",null,null,null,40.645000000000003,-74.180000000000007]
[null,null,null,null,"Port Jefferson","NY","NY,  Port Jefferson","Oyster Bay",8514560,40.950000000000003,-73.076700000000002,"Subordinate",null,null,null,40.950000000000003,-73.076700000000002]
[null,null,null,null,"Port Jefferson Harbor entrance","NY","NY,  Port Jefferson Harbor entrance","Oyster Bay",8514594,40.971699999999998,-73.091700000000003,"Subordinate",null,null,null,40.971699999999998,-73.091700000000003]
[null,null,null,null,"Port Newark Terminal","NY","NY,  Port Newark Terminal","Kill Van Kull",8530884,40.69,-74.133300000000006,"Subordinate",null,null,null,40.69,-74.133300000000006]
[null,null,null,null,"PORT WASHINGTON, MANHASSET BAY","NY","NY,  PORT WASHINGTON, MANHASSET BAY","Long Island, Long Island Sound",8516761,40.831699999999998,-73.703299999999999,"Harmonic",null,null,null,40.831699999999998,-73.703299999999999]
[null,null,null,null,"Poughkeepsie","NY","NY,  Poughkeepsie","Hudson River",8518945,41.7,-73.933300000000003,"Subordinate",null,null,null,41.7,-73.933300000000003]
[null,null,null,null,"Princes Bay","NY","NY,  Princes Bay","Lower New York Bay, Raritan Bay, etc.",8519726,40.511699999999998,-74.2,"Subordinate",null,null,null,40.511699999999998,-74.2]
[null,null,null,null,"Rahway River, RR. Bridge","NY","NY,  Rahway River, RR. Bridge","Arthur Kill",8531077,40.598300000000002,-74.231700000000004,"Subordinate",null,null,null,40.598300000000002,-74.231700000000004]
[null,null,null,null,"Ridgefield Park","NY","NY,  Ridgefield Park","Hackensack River",8530398,40.85,-74.03,"Subordinate",null,null,null,40.85,-74.03]
[null,null,null,null,"Riverdale, N.Y.","NY","NY,  Riverdale, N.Y.","Hudson River",8518905,40.903300000000002,-73.916700000000006,"Subordinate",null,null,null,40.903300000000002,-73.916700000000006]
[null,null,null,null,"Rossville, N.Y.","NY","NY,  Rossville, N.Y.","Arthur Kill",8519789,40.556699999999999,-74.223299999999995,"Subordinate",null,null,null,40.556699999999999,-74.223299999999995]
[null,null,null,null,"Sag Harbor","NY","NY,  Sag Harbor","Shelter Island Sound",8511629,41.003300000000003,-72.296700000000001,"Subordinate",null,null,null,41.003300000000003,-72.296700000000001]
[null,null,null,null,"Sayreville","NY","NY,  Sayreville","Raritan River",8531390,40.478299999999997,-74.356700000000004,"Subordinate",null,null,null,40.478299999999997,-74.356700000000004]
[null,null,null,null,"Shinnecock Bay","NY","NY,  Shinnecock Bay","Shinnecock Bay",8512671,40.82,-72.561700000000002,"Subordinate",null,null,null,40.82,-72.561700000000002]
[null,null,null,null,"Shinnecock Inlet (ocean)","NY","NY,  Shinnecock Inlet (ocean)","Peconic Bays",8512354,40.8367,-72.48,"Subordinate",null,null,null,40.8367,-72.48]
[null,null,null,null,"SHINNECOCK YACHT CLUB, PENNIMAN CREEK","NY","NY,  SHINNECOCK YACHT CLUB, PENNIMAN CREEK","Shinnecock Bay",8512769,40.818300000000001,-72.553299999999993,"Harmonic",null,null,null,40.818300000000001,-72.553299999999993]
[null,null,null,null,"SMITH POINT BRIDGE, NARROW BAY","NY","NY,  SMITH POINT BRIDGE, NARROW BAY","Shinnecock Bay",8513825,40.738300000000002,-72.868300000000005,"Harmonic",null,null,null,40.738300000000002,-72.868300000000005]
[null,null,null,null,"South Amboy","NY","NY,  South Amboy","Raritan River",8531232,40.491700000000002,-74.281700000000001,"Subordinate",null,null,null,40.491700000000002,-74.281700000000001]
[null,null,null,null,"SOUTH JAMESPORT","NY","NY,  SOUTH JAMESPORT","Peconic Bays",8512735,40.935000000000002,-72.581699999999998,"Harmonic",null,null,null,40.935000000000002,-72.581699999999998]
[null,null,null,null,"Southold","NY","NY,  Southold","Shelter Island Sound",8512114,41.06,-72.413300000000007,"Subordinate",null,null,null,41.06,-72.413300000000007]
[null,null,null,null,"Spuyten Duyvil Creek ent., N.Y.","NY","NY,  Spuyten Duyvil Creek ent., N.Y.","Hudson River",8518903,40.878300000000003,-73.924999999999997,"Subordinate",null,null,null,40.878300000000003,-73.924999999999997]
[null,null,null,null,"St. George, Staten Island","NY","NY,  St. George, Staten Island","New York Harbor",8519112,40.643300000000004,-74.073300000000003,"Subordinate",null,null,null,40.643300000000004,-74.073300000000003]
[null,null,null,null,"Tarrytown","NY","NY,  Tarrytown","Hudson River",8518919,41.078299999999999,-73.87,"Subordinate",null,null,null,41.078299999999999,-73.87]
[null,null,null,null,"THE BATTERY","NY","NY,  THE BATTERY","New York Harbor",8518750,40.700600000000001,-74.014200000000002,"Harmonic",null,null,null,40.700600000000001,-74.014200000000002]
[null,null,null,null,"Threemile Harbor entrance, Gardiners Bay","NY","NY,  Threemile Harbor entrance, Gardiners Bay","Peconic Bays",8511171,41.034999999999997,-72.19,"Subordinate",null,null,null,41.034999999999997,-72.19]
[null,null,null,null,"Tivoli","NY","NY,  Tivoli","Hudson River",8518964,42.058300000000003,-73.916700000000006,"Subordinate",null,null,null,42.058300000000003,-73.916700000000006]
[null,null,null,null,"Troy","NY","NY,  Troy","Hudson River","TEC1603",42.716700000000003,-73.7,"Subordinate",null,null,null,42.716700000000003,-73.7]
[null,null,null,null,"Waackaack Creek","NY","NY,  Waackaack Creek","Raritan River",8531592,40.448300000000003,-74.143299999999996,"Subordinate",null,null,null,40.448300000000003,-74.143299999999996]
[null,null,null,null,"Weehawken, Union City, N.J.","NY","NY,  Weehawken, Union City, N.J.","Hudson River",8530645,40.765000000000001,-74.018299999999996,"Subordinate",null,null,null,40.765000000000001,-74.018299999999996]
[null,null,null,null,"West Fire Island","NY","NY,  West Fire Island","Great South Bay",8514961,40.656700000000001,-73.204999999999998,"Subordinate",null,null,null,40.656700000000001,-73.204999999999998]
[null,null,null,null,"WILLETS POINT","NY","NY,  WILLETS POINT","Long Island, Long Island Sound",8516990,40.793300000000002,-73.781700000000001,"Harmonic",null,null,null,40.793300000000002,-73.781700000000001]
[null,null,null,null,"Woodbridge Creek, 0.8 n.mi. above entrance","NY","NY,  Woodbridge Creek, 0.8 n.mi. above entrance","Arthur Kill",8531156,40.545000000000002,-74.265000000000001,"Subordinate",null,null,null,40.545000000000002,-74.265000000000001]
[null,null,null,null,"Woodmere, Brosewere Bay","NY","NY,  Woodmere, Brosewere Bay","Hempstead Bay",8516745,40.619999999999997,-73.698300000000003,"Subordinate",null,null,null,40.619999999999997,-73.698300000000003]
[null,null,null,null,"Anthony Point","RI","RI,  Anthony Point","Sakonnet River",8450948,41.638300000000001,-71.211699999999993,"Subordinate",null,null,null,41.638300000000001,-71.211699999999993]
[null,null,null,null,"Bay Spring, Bullock Cove","RI","RI,  Bay Spring, Bullock Cove","Conanicut Island",8453033,41.7517,-71.351699999999994,"Subordinate",null,null,null,41.7517,-71.351699999999994]
[null,null,null,null,"Beavertail Point","RI","RI,  Beavertail Point","Conanicut Island",8453999,41.451700000000002,-71.401700000000005,"Subordinate",null,null,null,41.451700000000002,-71.401700000000005]
[null,null,null,null,"BLOCK ISLAND","RI","RI,  BLOCK ISLAND","RHODE ISLAND, Outer Coast",8459681,41.1633,-71.61,"Harmonic",null,null,null,41.1633,-71.61]
[null,null,null,null,"BLOCK ISLAND","RI","RI,  BLOCK ISLAND","RHODE ISLAND, Outer Coast",8459338,41.173299999999998,-71.556700000000006,"Harmonic",null,null,null,41.173299999999998,-71.556700000000006]
[null,null,null,null,"BRISTOL FERRY","RI","RI,  BRISTOL FERRY","Conanicut Island",8451552,41.636699999999998,-71.254999999999995,"Harmonic",null,null,null,41.636699999999998,-71.254999999999995]
[null,null,null,null,"Bristol Highlands","RI","RI,  Bristol Highlands","Conanicut Island",8452154,{"$f":"--P417","v":41.6967},{"$f":"--Q417","v":-71.293300000000002},"Subordinate",null,null,null,41.6967,-71.293300000000002]
[null,null,null,null,"Bristol, Bristol Harbor","RI","RI,  Bristol, Bristol Harbor","Conanicut Island",8451929,41.668300000000002,-71.28,"Subordinate",null,null,null,41.668300000000002,-71.28]
[null,null,null,null,"Castle Hill","RI","RI,  Castle Hill","Sakonnet River",8453201,41.463299999999997,-71.361699999999999,"Subordinate",null,null,null,41.463299999999997,-71.361699999999999]
[null,null,null,null,"Conanicut Point","RI","RI,  Conanicut Point","Conanicut Island",8453465,41.573300000000003,-71.371700000000004,"Subordinate",null,null,null,41.573300000000003,-71.371700000000004]
[null,null,null,null,"East Greenwich","RI","RI,  East Greenwich","Conanicut Island",8454578,41.664999999999999,-71.444999999999993,"Subordinate",null,null,null,41.664999999999999,-71.444999999999993]
[null,null,null,null,"FALL RIVER","RI","RI,  FALL RIVER","Conanicut Island",8447386,41.704300000000003,-71.164100000000005,"Harmonic",null,null,null,41.704300000000003,-71.164100000000005]
[null,null,null,null,"Nannaquaket Neck","RI","RI,  Nannaquaket Neck","Sakonnet River",8450954,41.618299999999998,-71.203299999999999,"Subordinate",null,null,null,41.618299999999998,-71.203299999999999]
[null,null,null,null,"Narragansett Pier","RI","RI,  Narragansett Pier","Conanicut Island",8454658,41.421700000000001,-71.454999999999998,"Subordinate",null,null,null,41.421700000000001,-71.454999999999998]
[null,null,null,null,"NEWPORT","RI","RI,  NEWPORT","Sakonnet River",8452660,41.505000000000003,-71.326700000000002,"Harmonic",null,null,null,41.505000000000003,-71.326700000000002]
[null,null,null,null,"North End, Bay Oil pier","RI","RI,  North End, Bay Oil pier","Sakonnet River",8450898,41.651699999999998,-71.209999999999994,"Subordinate",null,null,null,41.651699999999998,-71.209999999999994]
[null,null,null,null,"Pawtucket, Seekonk River","RI","RI,  Pawtucket, Seekonk River","Conanicut Island",8453611,41.868299999999998,-71.38,"Subordinate",null,null,null,41.868299999999998,-71.38]
[null,null,null,null,"Pawtuxet, Pawtuxet Cove","RI","RI,  Pawtuxet, Pawtuxet Cove","Conanicut Island",8453767,41.761699999999998,-71.388300000000001,"Subordinate",null,null,null,41.761699999999998,-71.388300000000001]
[null,null,null,null,"POINT JUDITH, HARBOR OF REFUGE","RI","RI,  POINT JUDITH, HARBOR OF REFUGE","RHODE ISLAND, Outer Coast",8455083,41.363300000000002,-71.489999999999995,"Harmonic",null,null,null,41.363300000000002,-71.489999999999995]
[null,null,null,null,"PROVIDENCE","RI","RI,  PROVIDENCE","Conanicut Island",8454000,41.807099999999998,-71.401200000000003,"Harmonic",null,null,null,41.807099999999998,-71.401200000000003]
[null,null,null,null,"Prudence Island, (south end)","RI","RI,  Prudence Island, (south end)","Conanicut Island",8452555,41.58,-71.321700000000007,"Subordinate",null,null,null,41.58,-71.321700000000007]
[null,null,null,null,"Rumford, Seekonk River","RI","RI,  Rumford, Seekonk River","Conanicut Island",8453433,41.84,-71.3733,"Subordinate",null,null,null,41.84,-71.3733]
[null,null,null,null,"Sachuest, Flint Point","RI","RI,  Sachuest, Flint Point","Sakonnet River",8451351,41.486699999999999,-71.238299999999995,"Subordinate",null,null,null,41.486699999999999,-71.238299999999995]
[null,null,null,null,"Sakonnet","RI","RI,  Sakonnet","Sakonnet River",8450768,41.465000000000003,-71.193299999999994,"Subordinate",null,null,null,41.465000000000003,-71.193299999999994]
[null,null,null,null,"Steep Brook, Taunton River","RI","RI,  Steep Brook, Taunton River","Conanicut Island",8447281,41.74,-71.131699999999995,"Subordinate",null,null,null,41.74,-71.131699999999995]
[null,null,null,null,"The Glen","RI","RI,  The Glen","Sakonnet River",8451301,41.558300000000003,-71.236699999999999,"Subordinate",null,null,null,41.558300000000003,-71.236699999999999]
[null,null,null,null,"Watch Hill Point","RI","RI,  Watch Hill Point","RHODE ISLAND, Outer Coast",8458694,41.305,-71.86,"Subordinate",null,null,null,41.305,-71.86]
[null,null,null,null,"Watson Pier, Boston Neck","RI","RI,  Watson Pier, Boston Neck","Conanicut Island",8454341,41.46,-71.428299999999993,"Subordinate",null,null,null,41.46,-71.428299999999993]
[null,null,null,null,"WEEKAPAUG POINT, BLOCK ISLAND SOUND","RI","RI,  WEEKAPAUG POINT, BLOCK ISLAND SOUND","RHODE ISLAND, Outer Coast",8458022,41.328299999999999,-71.761700000000005,"Harmonic",null,null,null,41.328299999999999,-71.761700000000005]
[null,null,null,null,"WEST JAMESTOWN, DUTCH ISLAND HARBOR","RI","RI,  WEST JAMESTOWN, DUTCH ISLAND HARBOR","Conanicut Island",8453742,41.496699999999997,-71.386700000000005,"Harmonic",null,null,null,41.496699999999997,-71.386700000000005]
[null,null,null,null,"Westerly, Pawcatuck River","RI","RI,  Westerly, Pawcatuck River","RHODE ISLAND, Outer Coast",8455189,41.381700000000002,-71.831699999999998,"Subordinate",null,null,null,41.381700000000002,-71.831699999999998]
[null,null,null,null,"WICKFORD","RI","RI,  WICKFORD","Conanicut Island",8454538,41.5717,-71.444999999999993,"Harmonic",null,null,null,41.5717,-71.444999999999993]

{"sheet":"Cruising Guide","index":2,"n_rows":441,"n_cols":11,"rows_kept":441,"cut":false,"hidden":false,"merged":[[0,2,0,4],[7,4,7,12],[8,4,8,12],[9,4,9,12],[10,4,10,12],[2,4,2,12],[4,4,4,12],[5,4,5,12],[6,4,6,12],[3,4,3,12]]}
[null,null,"2022 OSCA Summer Cruise"]
[null,"Day","Date","Port of Call","Facility"]
[1,{"$f":"'Official Itinerary 2022'!C6","v":"2022-07-23"},{"$f":"'Official Itinerary 2022'!D6","v":"2022-07-23"},{"$f":"'Official Itinerary 2022'!E7","v":"Third Beach "},"Middletown Harbor Master is on Dockwa for $20 per night.  Reservations accepted beginning May 1.   401-871-6544"]
[2,{"$f":"'Official Itinerary 2022'!C7","v":"2022-07-24"},{"$f":"'Official Itinerary 2022'!D7","v":"2022-07-24"},{"$f":"'Official Itinerary 2022'!E8","v":"Tarpaulin Cove\nHi11am"},"Anchorage\nWide open anchorage.  On a settled summer evening there are few nicer places than Tarpaulin Cove.  Well protected from prevailing south-southwest winds.  There will be only a few boats on most nights.  Not suggested if a SE or E wind is forecasted.  Holding ground is generally good in the bare patches between some eelgrass.  You can get up quite close to the beach in smaller craft.  Outboards can beach themselves and step ashore.\nTons of ticks.  Don't walk inland as the sign advises.\nLot's of history here during the coastal schooner days.  The existing house was a post office, store and rumored to be a house of ill repute for those rollicking windjammers"]
[3,{"$f":"'Official Itinerary 2022'!C8","v":"2022-07-25"},{"$f":"'Official Itinerary 2022'!D8","v":"2022-07-25"},{"$f":"'Official Itinerary 2022'!E9","v":"Edgartown"},"Edgartown Harbormaster rents moornings via Dockwa $45 per night\n checkin After 11:00    VHF 74     508-627-4746"]
[4,{"$f":"'Official Itinerary 2022'!C9","v":"2022-07-26"},{"$f":"'Official Itinerary 2022'!D9","v":"2022-07-26"},{"$f":"'Official Itinerary 2022'!E10","v":"Edgartown"},"Edgartown Harbormaster rents moornings via Dockwa $45 per night"]
[5,{"$f":"'Official Itinerary 2022'!C10","v":"2022-07-27"},{"$f":"'Official Itinerary 2022'!D10","v":"2022-07-27"},{"$f":"'Official Itinerary 2022'!E11","v":"Nantucket"},"Nantucket Moorings rents via dockwa for $90.31/night.  For that price you should expect concierge service to your ball and a nice welcome packet…or the e-version in this post pandemic era.    508-228-4472\n\n"]
[6,{"$f":"'Official Itinerary 2022'!C11","v":"2022-07-28"},{"$f":"'Official Itinerary 2022'!D11","v":"2022-07-28"},{"$f":"'Official Itinerary 2022'!E12","v":"Nantucket\nLo 730am"},"Dockwa"]
[7,{"$f":"'Official Itinerary 2022'!C12","v":"2022-07-29"},{"$f":"'Official Itinerary 2022'!D12","v":"2022-07-29"},{"$f":"'Official Itinerary 2022'!E13","v":"Quissett/\nCuttyhunk"},"***Do not contact Quissett Boatyard individually.***\nFleet Captain has notified the manager at  Quisset Boatyard, Weatherly and she is expecting our group.   Quissett does not guarantee reservations and only accepts cash payments.     Because the situation there is so technologically \"flimsy\", it's important that we maintain a solid reputation by not perturbing them with numerous/confusing phone calls.   \n That weekend Thursday - Sunday they are hosting the Herreshoff 12 1/2 regatta so we should see lots of pretty scenes tansiting the outer harbor.    The fleet captain will need to connect with Weatherly a few days before our arrival to confirm our group size and ETA.       Transient Rental Moorings\n { \"we offer transient rental moorings on a first-come-first-served basis in the outer harbor, just past nun #6. Our rental moorings are white with a blue stripe and marked QBY. We will come to you in the early evening to collect the mooring fee, $40/boat. We do not process credit cards. Occasionally we are able to offer moorings in the inner harbor, $50/boat. You may inquire when you are nearby. The dinghy dock is on the north side of our pier. We do not run a launch service.\"}"]
[8,{"$f":"'Official Itinerary 2022'!C13","v":"2022-07-30"},{"$f":"'Official Itinerary 2022'!D13","v":"2022-07-30"},{"$f":"'Official Itinerary 2022'!E14","v":"Westport River"},"FL Tripp & Sons    Moorings $47.81  Check-in After 1:00pm  Checkout by 11:00      508-636-4058"]
[9,{"$f":"'Official Itinerary 2022'!C14","v":"2022-07-31"},{"$f":"'Official Itinerary 2022'!D14","v":"2022-07-31"},"Home","You know where you're going"]
[]
[]
[]
[]
[]
[]
[]
[]
[]
[]
[]
[]
[]
[]
[]
[]
[]
[]
[]
[]
[]
[]
[]
[]
[]
[]
[]
[]
[]
[]
[]
[]
[]
[]
[]
[]
[]
[]
[]
[]
[]
[]
[]
[]
[]
[]
[]
[]
[]
[]
[]
[]
[]
[]
[]
[]
[]
[]
[]
[]
[]
[]
[]
[]
[]
[]
[]
[]
[]
[]
[]
[]
[]
[]
[]
[]
[]
[]
[]
[]
[]
[]
[]
[]
[]
[]
[]
[]
[]
[]
[]
[]
[]
[]
[]
[]
[]
[]
[]
[]
[]
[]
[]
[]
[]
[]
[]
[]
[]
[]
[]
[]
[]
[]
[]
[]
[]
[]
[]
[]
[]
[]
[]
[]
[]
[]
[]
[]
[]
[]
[]
[]
[]
[]
[]
[]
[]
[]
[]
[]
[]
[]
[]
[]
[]
[]
[]
[null,null,null,"Location","st","st, location","Region","ID","Lat","Lon"]
[null,null,null,"BLACK ROCK HARBOR","CT","CT,  BLACK ROCK HARBOR","Housatonic River",8467373,{"$f":"--#REF!","v":{"$error":"#REF!"}},{"$f":"--#REF!","v":{"$error":"#REF!"}},"Harmonic"]
[null,null,null,"Branford, Branford River","CT","CT,  Branford, Branford River","Connecticut River",8465233,{"$f":"--#REF!","v":{"$error":"#REF!"}},{"$f":"--#REF!","v":{"$error":"#REF!"}},"Subordinate"]
[null,null,null,"BRIDGEPORT","CT","CT,  BRIDGEPORT","Housatonic River",8467150,{"$f":"--#REF!","v":{"$error":"#REF!"}},{"$f":"--#REF!","v":{"$error":"#REF!"}},"Harmonic"]
[null,null,null,"CLINTON HARBOR","CT","CT,  CLINTON HARBOR","Connecticut River",8463701,{"$f":"--#REF!","v":{"$error":"#REF!"}},{"$f":"--#REF!","v":{"$error":"#REF!"}},"Harmonic"]
[null,null,null,"Cos Cob Harbor","CT","CT,  Cos Cob Harbor","Housatonic River",8469549,{"$f":"--#REF!","v":{"$error":"#REF!"}},{"$f":"--#REF!","v":{"$error":"#REF!"}},"Subordinate"]
[null,null,null,"Essex","CT","CT,  Essex","Connecticut River",8462925,{"$f":"--#REF!","v":{"$error":"#REF!"}},{"$f":"--#REF!","v":{"$error":"#REF!"}},"Subordinate"]
[null,null,null,"Guilford Harbor","CT","CT,  Guilford Harbor","Connecticut River",8464445,{"$f":"--#REF!","v":{"$error":"#REF!"}},{"$f":"--#REF!","v":{"$error":"#REF!"}},"Subordinate"]
[null,null,null,"Gulf Beach","CT","CT,  Gulf Beach","Connecticut River",8466375,{"$f":"--#REF!","v":{"$error":"#REF!"}},{"$f":"--#REF!","v":{"$error":"#REF!"}},"Subordinate"]
[null,null,null,"Haddam","CT","CT,  Haddam","Connecticut River",8463582,{"$f":"--#REF!","v":{"$error":"#REF!"}},{"$f":"--#REF!","v":{"$error":"#REF!"}},"Subordinate"]
[null,null,null,"Hadlyme","CT","CT,  Hadlyme","Connecticut River",8463155,{"$f":"--#REF!","v":{"$error":"#REF!"}},{"$f":"--#REF!","v":{"$error":"#REF!"}},"Subordinate"]
[null,null,null,"Hartford","CT","CT,  Hartford","Connecticut River",8464464,{"$f":"--#REF!","v":{"$error":"#REF!"}},{"$f":"--#REF!","v":{"$error":"#REF!"}},"Subordinate"]
[null,null,null,"Higganum Creek","CT","CT,  Higganum Creek","Connecticut River",8463836,{"$f":"--#REF!","v":{"$error":"#REF!"}},{"$f":"--#REF!","v":{"$error":"#REF!"}},"Subordinate"]
[null,null,null,"Lighthouse Point, New Haven Harbor","CT","CT,  Lighthouse Point, New Haven Harbor","Connecticut River",8465692,{"$f":"--#REF!","v":{"$error":"#REF!"}},{"$f":"--#REF!","v":{"$error":"#REF!"}},"Subordinate"]
[null,null,null,"Long Hill","CT","CT,  Long Hill","Housatonic River",8466664,{"$f":"--#REF!","v":{"$error":"#REF!"}},{"$f":"--#REF!","v":{"$error":"#REF!"}},"Subordinate"]
[null,null,null,"LONG NECK POINT","CT","CT,  LONG NECK POINT","Housatonic River",8468799,{"$f":"--#REF!","v":{"$error":"#REF!"}},{"$f":"--#REF!","v":{"$error":"#REF!"}},"Harmonic"]
[null,null,null,"Lyme, highway bridge","CT","CT,  Lyme, highway bridge","Connecticut River",8462764,{"$f":"--#REF!","v":{"$error":"#REF!"}},{"$f":"--#REF!","v":{"$error":"#REF!"}},"Subordinate"]
[null,null,null,"Madison","CT","CT,  Madison","Connecticut River",8464041,{"$f":"--#REF!","v":{"$error":"#REF!"}},{"$f":"--#REF!","v":{"$error":"#REF!"}},"Subordinate"]
[null,null,null,"Maromas","CT","CT,  Maromas","Connecticut River",8463827,{"$f":"--#REF!","v":{"$error":"#REF!"}},{"$f":"--#REF!","v":{"$error":"#REF!"}},"Subordinate"]
[null,null,null,"Middletown","CT","CT,  Middletown","Connecticut River",8464336,{"$f":"--#REF!","v":{"$error":"#REF!"}},{"$f":"--#REF!","v":{"$error":"#REF!"}},"Subordinate"]
[null,null,null,"Milford Harbor","CT","CT,  Milford Harbor","Connecticut River",8466442,{"$f":"--#REF!","v":{"$error":"#REF!"}},{"$f":"--#REF!","v":{"$error":"#REF!"}},"Subordinate"]
[null,null,null,"NEW HAVEN","CT","CT,  NEW HAVEN","Connecticut River",8465705,{"$f":"--#REF!","v":{"$error":"#REF!"}},{"$f":"--#REF!","v":{"$error":"#REF!"}},"Harmonic"]
[null,null,null,"NEW LONDON","CT","CT,  NEW LONDON","Thames River",8461490,{"$f":"--#REF!","v":{"$error":"#REF!"}},{"$f":"--#REF!","v":{"$error":"#REF!"}},"Harmonic"]
[null,null,null,"Niantic, Niantic River","CT","CT,  Niantic, Niantic River","Thames River",8461925,{"$f":"--#REF!","v":{"$error":"#REF!"}},{"$f":"--#REF!","v":{"$error":"#REF!"}},"Subordinate"]
[null,null,null,"Norwich","CT","CT,  Norwich","Thames River",8461392,{"$f":"--#REF!","v":{"$error":"#REF!"}},{"$f":"--#REF!","v":{"$error":"#REF!"}},"Subordinate"]
[null,null,null,"Rocky Hill","CT","CT,  Rocky Hill","Connecticut River",8464255,{"$f":"--#REF!","v":{"$error":"#REF!"}},{"$f":"--#REF!","v":{"$error":"#REF!"}},"Subordinate"]
[null,null,null,"Rowayton, Fivemile River","CT","CT,  Rowayton, Fivemile River","Housatonic River",8468609,{"$f":"--#REF!","v":{"$error":"#REF!"}},{"$f":"--#REF!","v":{"$error":"#REF!"}},"Subordinate"]
[null,null,null,"Sachem Head","CT","CT,  Sachem Head","Connecticut River",8464687,{"$f":"--#REF!","v":{"$error":"#REF!"}},{"$f":"--#REF!","v":{"$error":"#REF!"}},"Subordinate"]
[null,null,null,"Saybrook Jetty","CT","CT,  Saybrook Jetty","Connecticut River",8462723,{"$f":"--#REF!","v":{"$error":"#REF!"}},{"$f":"--#REF!","v":{"$error":"#REF!"}},"Subordinate"]
[null,null,null,"Saybrook Point","CT","CT,  Saybrook Point","Connecticut River",8462752,{"$f":"--#REF!","v":{"$error":"#REF!"}},{"$f":"--#REF!","v":{"$error":"#REF!"}},"Subordinate"]
[null,null,null,"Shelton","CT","CT,  Shelton","Housatonic River",8466573,{"$f":"--#REF!","v":{"$error":"#REF!"}},{"$f":"--#REF!","v":{"$error":"#REF!"}},"Subordinate"]
[null,null,null,"SILVER EEL POND","CT","CT,  SILVER EEL POND","CONNECTICUT, Long Island Sound",8510719,{"$f":"--#REF!","v":{"$error":"#REF!"}},{"$f":"--#REF!","v":{"$error":"#REF!"}},"Harmonic"]
[null,null,null,"Sniffens Point","CT","CT,  Sniffens Point","Housatonic River",8466791,{"$f":"--#REF!","v":{"$error":"#REF!"}},{"$f":"--#REF!","v":{"$error":"#REF!"}},"Subordinate"]
[null,null,null,"South Hartford","CT","CT,  South Hartford","Connecticut River",8464418,{"$f":"--#REF!","v":{"$error":"#REF!"}},{"$f":"--#REF!","v":{"$error":"#REF!"}},"Subordinate"]
[null,null,null,"SOUTH NORWALK","CT","CT,  SOUTH NORWALK","Housatonic River",8468448,{"$f":"--#REF!","v":{"$error":"#REF!"}},{"$f":"--#REF!","v":{"$error":"#REF!"}},"Harmonic"]
[null,null,null,"SOUTHPORT, SOUTHPORT HARBOR","CT","CT,  SOUTHPORT, SOUTHPORT HARBOR","Housatonic River",8467726,{"$f":"--#REF!","v":{"$error":"#REF!"}},{"$f":"--#REF!","v":{"$error":"#REF!"}},"Harmonic"]
[null,null,null,"Stamford","CT","CT,  Stamford","Housatonic River",8469198,{"$f":"--#REF!","v":{"$error":"#REF!"}},{"$f":"--#REF!","v":{"$error":"#REF!"}},"Subordinate"]
[null,null,null,"Stratford, I-95 bridge","CT","CT,  Stratford, I-95 bridge","Housatonic River",8466797,{"$f":"--#REF!","v":{"$error":"#REF!"}},{"$f":"--#REF!","v":{"$error":"#REF!"}},"Subordinate"]
[null,null,null,"Tylerville","CT","CT,  Tylerville","Connecticut River",8463348,{"$f":"--#REF!","v":{"$error":"#REF!"}},{"$f":"--#REF!","v":{"$error":"#REF!"}},"Subordinate"]
[null,null,null,"Westbrook, Duck Island Roads","CT","CT,  Westbrook, Duck Island Roads","Connecticut River",8463409,{"$f":"--#REF!","v":{"$error":"#REF!"}},{"$f":"--#REF!","v":{"$error":"#REF!"}},"Subordinate"]
[null,null,null,"Yale boathouse","CT","CT,  Yale boathouse","Thames River",8461467,{"$f":"--#REF!","v":{"$error":"#REF!"}},{"$f":"--#REF!","v":{"$error":"#REF!"}},"Subordinate"]
[null,null,null,"AMELIA EARHART DAM, MYSTIC RIVER","MA","MA,  AMELIA EARHART DAM, MYSTIC RIVER","Boston Harbor",8443662,{"$f":"--#REF!","v":{"$error":"#REF!"}},{"$f":"--#REF!","v":{"$error":"#REF!"}},"Harmonic"]
[null,null,null,"Annisquam, Lobster Cove","MA","MA,  Annisquam, Lobster Cove","Merrimack River",8441571,{"$f":"--#REF!","v":{"$error":"#REF!"}},{"$f":"--#REF!","v":{"$error":"#REF!"}},"Subordinate"]
[null,null,null,"Barnstable Harbor, Beach Point","MA","MA,  Barnstable Harbor, Beach Point","Cape Cod Bay",8447335,{"$f":"--#REF!","v":{"$error":"#REF!"}},{"$f":"--#REF!","v":{"$error":"#REF!"}},"Subordinate"]
[null,null,null,"BOSTON","MA","MA,  BOSTON","Boston Harbor",8443970,{"$f":"--#REF!","v":{"$error":"#REF!"}},{"$f":"--#REF!","v":{"$error":"#REF!"}},"Harmonic"]
[null,null,null,"BOSTON LIGHT","MA","MA,  BOSTON LIGHT","Boston Harbor",8444162,{"$f":"--#REF!","v":{"$error":"#REF!"}},{"$f":"--#REF!","v":{"$error":"#REF!"}},"Harmonic"]
[null,null,null,"BOURNE BRIDGE, CAPE COD CANAL (STA. 320)","MA","MA,  BOURNE BRIDGE, CAPE COD CANAL (STA. 320)","Cape Cod Bay",8447259,{"$f":"--#REF!","v":{"$error":"#REF!"}},{"$f":"--#REF!","v":{"$error":"#REF!"}},"Harmonic"]
[null,null,null,"BOURNEDALE, CAPE COD CANAL (STA. 200)","MA","MA,  BOURNEDALE, CAPE COD CANAL (STA. 200)","Cape Cod Bay",8447191,{"$f":"--#REF!","v":{"$error":"#REF!"}},{"$f":"--#REF!","v":{"$error":"#REF!"}},"Harmonic"]
[null,null,null,"BRANT ROCK, GREEN HARBOR RIVER","MA","MA,  BRANT ROCK, GREEN HARBOR RIVER","Cohasset Harbor to Davis Bank",8446009,{"$f":"--#REF!","v":{"$error":"#REF!"}},{"$f":"--#REF!","v":{"$error":"#REF!"}},"Harmonic"]
[null,null,null,"BUZZARDS BAY","MA","MA,  BUZZARDS BAY","Buzzards Bay",8447270,{"$f":"--#REF!","v":{"$error":"#REF!"}},{"$f":"--#REF!","v":{"$error":"#REF!"}},"Harmonic"]
[null,null,null,"Cedar Tree Neck","MA","MA,  Cedar Tree Neck","Martha's Vineyard",8448325,{"$f":"--#REF!","v":{"$error":"#REF!"}},{"$f":"--#REF!","v":{"$error":"#REF!"}},"Subordinate"]
[null,null,null,"Chappaquoit Point","MA","MA,  Chappaquoit Point","Buzzards Bay",8447685,{"$f":"--#REF!","v":{"$error":"#REF!"}},{"$f":"--#REF!","v":{"$error":"#REF!"}},"Subordinate"]
[null,null,null,"Charlestown, Charles River entrance","MA","MA,  Charlestown, Charles River entrance","Boston Harbor",8443838,{"$f":"--#REF!","v":{"$error":"#REF!"}},{"$f":"--#REF!","v":{"$error":"#REF!"}},"Subordinate"]
[null,null,null,"CHATHAM","MA","MA,  CHATHAM","Cape Cod",8447435,{"$f":"--#REF!","v":{"$error":"#REF!"}},{"$f":"--#REF!","v":{"$error":"#REF!"}},"Harmonic"]
[null,null,null,"CHATHAM, STAGE HARBOR","MA","MA,  CHATHAM, STAGE HARBOR","Cape Cod",8447505,{"$f":"--#REF!","v":{"$error":"#REF!"}},{"$f":"--#REF!","v":{"$error":"#REF!"}},"Harmonic"]
[null,null,null,"CHELSEA","MA","MA,  CHELSEA","Boston Harbor",8443725,{"$f":"--#REF!","v":{"$error":"#REF!"}},{"$f":"--#REF!","v":{"$error":"#REF!"}},"Harmonic"]
[null,null,null,"CLARKS POINT","MA","MA,  CLARKS POINT","Buzzards Bay",8447712,{"$f":"--#REF!","v":{"$error":"#REF!"}},{"$f":"--#REF!","v":{"$error":"#REF!"}},"Harmonic"]
[null,null,null,"Cohasset Harbor (White Head)","MA","MA,  Cohasset Harbor (White Head)","Cohasset Harbor to Davis Bank",8444762,{"$f":"--#REF!","v":{"$error":"#REF!"}},{"$f":"--#REF!","v":{"$error":"#REF!"}},"Subordinate"]
[null,null,null,"Cotuit Highlands","MA","MA,  Cotuit Highlands","Nantucket Sound, north side",8447675,{"$f":"--#REF!","v":{"$error":"#REF!"}},{"$f":"--#REF!","v":{"$error":"#REF!"}},"Subordinate"]
[null,null,null,"Crow Point, Hingham Harbor entrance","MA","MA,  Crow Point, Hingham Harbor entrance","Hingham Bay",8444662,{"$f":"--#REF!","v":{"$error":"#REF!"}},{"$f":"--#REF!","v":{"$error":"#REF!"}},"Subordinate"]
[null,null,null,"Cuttyhunk","MA","MA,  Cuttyhunk","Woods Hole",8448376,{"$f":"--#REF!","v":{"$error":"#REF!"}},{"$f":"--#REF!","v":{"$error":"#REF!"}},"Subordinate"]
[null,null,null,"Damons Point, North River","MA","MA,  Damons Point, North River","Cohasset Harbor to Davis Bank",8445425,{"$f":"--#REF!","v":{"$error":"#REF!"}},{"$f":"--#REF!","v":{"$error":"#REF!"}},"Subordinate"]
[null,null,null,"Deer Island (south end)","MA","MA,  Deer Island (south end)","Boston Harbor",8444012,{"$f":"--#REF!","v":{"$error":"#REF!"}},{"$f":"--#REF!","v":{"$error":"#REF!"}},"Subordinate"]
[null,null,null,"Dennisport","MA","MA,  Dennisport","Nantucket Sound, north side",8447525,{"$f":"--#REF!","v":{"$error":"#REF!"}},{"$f":"--#REF!","v":{"$error":"#REF!"}},"Subordinate"]
[null,null,null,"DUXBURY, DUXBURY HARBOR","MA","MA,  DUXBURY, DUXBURY HARBOR","Cape Cod Bay",8446166,{"$f":"--#REF!","v":{"$error":"#REF!"}},{"$f":"--#REF!","v":{"$error":"#REF!"}},"Harmonic"]
[null,null,null,"EDGARTOWN","MA","MA,  EDGARTOWN","Martha's Vineyard",8448558,{"$f":"--#REF!","v":{"$error":"#REF!"}},{"$f":"--#REF!","v":{"$error":"#REF!"}},"Harmonic"]
[null,null,null,"Eel Point","MA","MA,  Eel Point","Nantucket Island",8449062,{"$f":"--#REF!","v":{"$error":"#REF!"}},{"$f":"--#REF!","v":{"$error":"#REF!"}},"Subordinate"]
[null,null,null,"ESSEX","MA","MA,  ESSEX","Merrimack River",8441771,{"$f":"--#REF!","v":{"$error":"#REF!"}},{"$f":"--#REF!","v":{"$error":"#REF!"}},"Harmonic"]
[null,null,null,"Falmouth Heights","MA","MA,  Falmouth Heights","Nantucket Sound, north side",8447865,{"$f":"--#REF!","v":{"$error":"#REF!"}},{"$f":"--#REF!","v":{"$error":"#REF!"}},"Subordinate"]
[null,null,null,"Gay Head","MA","MA,  Gay Head","Martha's Vineyard",8448733,{"$f":"--#REF!","v":{"$error":"#REF!"}},{"$f":"--#REF!","v":{"$error":"#REF!"}},"Subordinate"]
[null,null,null,"Georges Shoal, Texas Tower","MA","MA,  Georges Shoal, Texas Tower","Cape Cod",8447436,{"$f":"--#REF!","v":{"$error":"#REF!"}},{"$f":"--#REF!","v":{"$error":"#REF!"}},"Subordinate"]
[null,null,null,"Gloucester Harbor","MA","MA,  Gloucester Harbor","Merrimack River",8441841,{"$f":"--#REF!","v":{"$error":"#REF!"}},{"$f":"--#REF!","v":{"$error":"#REF!"}},"Subordinate"]
[null,null,null,"GRAY GABLES","MA","MA,  GRAY GABLES","Buzzards Bay",8447295,{"$f":"--#REF!","v":{"$error":"#REF!"}},{"$f":"--#REF!","v":{"$error":"#REF!"}},"Harmonic"]
[null,null,null,"GREAT HILL","MA","MA,  GREAT HILL","Buzzards Bay",8447368,{"$f":"--#REF!","v":{"$error":"#REF!"}},{"$f":"--#REF!","v":{"$error":"#REF!"}},"Harmonic"]
[null,null,null,"Great Point","MA","MA,  Great Point","Nantucket Island",8448566,{"$f":"--#REF!","v":{"$error":"#REF!"}},{"$f":"--#REF!","v":{"$error":"#REF!"}},"Subordinate"]
[null,null,null,"Hingham","MA","MA,  Hingham","Hingham Bay",8444775,{"$f":"--#REF!","v":{"$error":"#REF!"}},{"$f":"--#REF!","v":{"$error":"#REF!"}},"Subordinate"]
[null,null,null,"Hix Bridge, East Branch","MA","MA,  Hix Bridge, East Branch","Westport River",8447791,{"$f":"--#REF!","v":{"$error":"#REF!"}},{"$f":"--#REF!","v":{"$error":"#REF!"}},"Subordinate"]
[null,null,null,"Hull","MA","MA,  Hull","Hingham Bay",8444351,{"$f":"--#REF!","v":{"$error":"#REF!"}},{"$f":"--#REF!","v":{"$error":"#REF!"}},"Subordinate"]
[null,null,null,"HYANNIS PORT","MA","MA,  HYANNIS PORT","Nantucket Sound, north side",8447605,{"$f":"--#REF!","v":{"$error":"#REF!"}},{"$f":"--#REF!","v":{"$error":"#REF!"}},"Harmonic"]
[null,null,null,"Little Harbor","MA","MA,  Little Harbor","Woods Hole",8447939,{"$f":"--#REF!","v":{"$error":"#REF!"}},{"$f":"--#REF!","v":{"$error":"#REF!"}},"Subordinate"]
[null,null,null,"LYNN, LYNN HARBOR","MA","MA,  LYNN, LYNN HARBOR","Merrimack River",8443187,{"$f":"--#REF!","v":{"$error":"#REF!"}},{"$f":"--#REF!","v":{"$error":"#REF!"}},"Harmonic"]
[null,null,null,"Marion, Sippican Harbor","MA","MA,  Marion, Sippican Harbor","Buzzards Bay",8447385,{"$f":"--#REF!","v":{"$error":"#REF!"}},{"$f":"--#REF!","v":{"$error":"#REF!"}},"Subordinate"]
[null,null,null,"Mattapoisett, Mattapoisett Harbor","MA","MA,  Mattapoisett, Mattapoisett Harbor","Buzzards Bay",8447531,{"$f":"--#REF!","v":{"$error":"#REF!"}},{"$f":"--#REF!","v":{"$error":"#REF!"}},"Subordinate"]
[null,null,null,"MERRIMACPORT","MA","MA,  MERRIMACPORT","Merrimack River",8440369,{"$f":"--#REF!","v":{"$error":"#REF!"}},{"$f":"--#REF!","v":{"$error":"#REF!"}},"Harmonic"]
[null,null,null,"Monument Beach","MA","MA,  Monument Beach","Buzzards Bay",8447355,{"$f":"--#REF!","v":{"$error":"#REF!"}},{"$f":"--#REF!","v":{"$error":"#REF!"}},"Subordinate"]
[null,null,null,"Moon Head","MA","MA,  Moon Head","Boston Harbor",8444312,{"$f":"--#REF!","v":{"$error":"#REF!"}},{"$f":"--#REF!","v":{"$error":"#REF!"}},"Subordinate"]
[null,null,null,"Muskeget Island, north side","MA","MA,  Muskeget Island, north side","Nantucket Island",8448817,{"$f":"--#REF!","v":{"$error":"#REF!"}},{"$f":"--#REF!","v":{"$error":"#REF!"}},"Subordinate"]
[null,null,null,"Nantasket Beach, Weir River","MA","MA,  Nantasket Beach, Weir River","Hingham Bay",8444601,{"$f":"--#REF!","v":{"$error":"#REF!"}},{"$f":"--#REF!","v":{"$error":"#REF!"}},"Subordinate"]
[null,null,null,"NANTUCKET ISLAND","MA","MA,  NANTUCKET ISLAND","Nantucket Island",8449130,{"$f":"--#REF!","v":{"$error":"#REF!"}},{"$f":"--#REF!","v":{"$error":"#REF!"}},"Harmonic"]
[null,null,null,"Neponset, Neponset River","MA","MA,  Neponset, Neponset River","Boston Harbor",8444488,{"$f":"--#REF!","v":{"$error":"#REF!"}},{"$f":"--#REF!","v":{"$error":"#REF!"}},"Subordinate"]
[null,null,null,"New Bedford","MA","MA,  New Bedford","Buzzards Bay",8447584,{"$f":"--#REF!","v":{"$error":"#REF!"}},{"$f":"--#REF!","v":{"$error":"#REF!"}},"Subordinate"]
[null,null,null,"NEWBURYPORT","MA","MA,  NEWBURYPORT","Merrimack River",8440466,{"$f":"--#REF!","v":{"$error":"#REF!"}},{"$f":"--#REF!","v":{"$error":"#REF!"}},"Harmonic"]
[null,null,null,"Nomans Land","MA","MA,  Nomans Land","Martha's Vineyard",8449287,{"$f":"--#REF!","v":{"$error":"#REF!"}},{"$f":"--#REF!","v":{"$error":"#REF!"}},"Subordinate"]
[null,null,null,"NUT ISLAND","MA","MA,  NUT ISLAND","Hingham Bay",8444525,{"$f":"--#REF!","v":{"$error":"#REF!"}},{"$f":"--#REF!","v":{"$error":"#REF!"}},"Harmonic"]
[null,null,null,"Oak Bluffs","MA","MA,  Oak Bluffs","Martha's Vineyard",8448208,{"$f":"--#REF!","v":{"$error":"#REF!"}},{"$f":"--#REF!","v":{"$error":"#REF!"}},"Subordinate"]
[null,null,null,"Onset Beach, Onset Bay","MA","MA,  Onset Beach, Onset Bay","Buzzards Bay",8447277,{"$f":"--#REF!","v":{"$error":"#REF!"}},{"$f":"--#REF!","v":{"$error":"#REF!"}},"Subordinate"]
[null,null,null,"PENIKESE ISLAND","MA","MA,  PENIKESE ISLAND","Buzzards Bay",8448248,{"$f":"--#REF!","v":{"$error":"#REF!"}},{"$f":"--#REF!","v":{"$error":"#REF!"}},"Harmonic"]
[null,null,null,"PINEY POINT","MA","MA,  PINEY POINT","Buzzards Bay",8447416,{"$f":"--#REF!","v":{"$error":"#REF!"}},{"$f":"--#REF!","v":{"$error":"#REF!"}},"Harmonic"]
[null,null,null,"Pleasant Bay","MA","MA,  Pleasant Bay","Cape Cod",8447291,{"$f":"--#REF!","v":{"$error":"#REF!"}},{"$f":"--#REF!","v":{"$error":"#REF!"}},"Subordinate"]
[null,null,null,"PLUM ISLAND SOUTH","MA","MA,  PLUM ISLAND SOUTH","Merrimack River",8441241,{"$f":"--#REF!","v":{"$error":"#REF!"}},{"$f":"--#REF!","v":{"$error":"#REF!"}},"Harmonic"]
[null,null,null,"PLUM ISLAND, MERRIMACK RIVER ENTRANCE","MA","MA,  PLUM ISLAND, MERRIMACK RIVER ENTRANCE","Merrimack River",8440452,{"$f":"--#REF!","v":{"$error":"#REF!"}},{"$f":"--#REF!","v":{"$error":"#REF!"}},"Harmonic"]
[null,null,null,"PLYMOUTH","MA","MA,  PLYMOUTH","Cape Cod Bay",8446493,{"$f":"--#REF!","v":{"$error":"#REF!"}},{"$f":"--#REF!","v":{"$error":"#REF!"}},"Harmonic"]
[null,null,null,"Poponesset Island, Poponesset Bay","MA","MA,  Poponesset Island, Poponesset Bay","Nantucket Sound, north side",8447742,{"$f":"--#REF!","v":{"$error":"#REF!"}},{"$f":"--#REF!","v":{"$error":"#REF!"}},"Subordinate"]
[null,null,null,"PROVINCETOWN","MA","MA,  PROVINCETOWN","Cape Cod Bay",8446121,{"$f":"--#REF!","v":{"$error":"#REF!"}},{"$f":"--#REF!","v":{"$error":"#REF!"}},"Harmonic"]
[null,null,null,"Quick's Hole","MA","MA,  Quick's Hole","Woods Hole",8448251,{"$f":"--#REF!","v":{"$error":"#REF!"}},{"$f":"--#REF!","v":{"$error":"#REF!"}},"Subordinate"]
[null,null,null,"RIVERSIDE","MA","MA,  RIVERSIDE","Merrimack River",8440889,{"$f":"--#REF!","v":{"$error":"#REF!"}},{"$f":"--#REF!","v":{"$error":"#REF!"}},"Harmonic"]
[null,null,null,"ROCKPORT","MA","MA,  ROCKPORT","Merrimack River",8441551,{"$f":"--#REF!","v":{"$error":"#REF!"}},{"$f":"--#REF!","v":{"$error":"#REF!"}},"Harmonic"]
[null,null,null,"ROUND HILL POINT","MA","MA,  ROUND HILL POINT","Buzzards Bay",8447842,{"$f":"--#REF!","v":{"$error":"#REF!"}},{"$f":"--#REF!","v":{"$error":"#REF!"}},"Harmonic"]
[null,null,null,"SAGAMORE, CAPE COD CANAL (STA. 115)","MA","MA,  SAGAMORE, CAPE COD CANAL (STA. 115)","Cape Cod Bay",8447173,{"$f":"--#REF!","v":{"$error":"#REF!"}},{"$f":"--#REF!","v":{"$error":"#REF!"}},"Harmonic"]
[null,null,null,"SALEM, SALEM HARBOR","MA","MA,  SALEM, SALEM HARBOR","Merrimack River",8442645,{"$f":"--#REF!","v":{"$error":"#REF!"}},{"$f":"--#REF!","v":{"$error":"#REF!"}},"Harmonic"]
[null,null,null,"SALISBURY POINT","MA","MA,  SALISBURY POINT","Merrimack River",8440273,{"$f":"--#REF!","v":{"$error":"#REF!"}},{"$f":"--#REF!","v":{"$error":"#REF!"}},"Harmonic"]
[null,null,null,"Sandwich","MA","MA,  Sandwich","Cape Cod Bay",8447180,{"$f":"--#REF!","v":{"$error":"#REF!"}},{"$f":"--#REF!","v":{"$error":"#REF!"}},"Subordinate"]
[null,null,null,"SAQUATUCKET HARBOR","MA","MA,  SAQUATUCKET HARBOR","Nantucket Sound, north side",8447495,{"$f":"--#REF!","v":{"$error":"#REF!"}},{"$f":"--#REF!","v":{"$error":"#REF!"}},"Harmonic"]
[null,null,null,"SCITUATE, SCITUATE HARBOR","MA","MA,  SCITUATE, SCITUATE HARBOR","Cohasset Harbor to Davis Bank",8445138,{"$f":"--#REF!","v":{"$error":"#REF!"}},{"$f":"--#REF!","v":{"$error":"#REF!"}},"Harmonic"]
[null,null,null,"SESUIT HARBOR, EAST DENNIS","MA","MA,  SESUIT HARBOR, EAST DENNIS","Cape Cod Bay",8447241,{"$f":"--#REF!","v":{"$error":"#REF!"}},{"$f":"--#REF!","v":{"$error":"#REF!"}},"Harmonic"]
[null,null,null,"South Yarmouth, Bass River","MA","MA,  South Yarmouth, Bass River","Nantucket Sound, north side",8447504,{"$f":"--#REF!","v":{"$error":"#REF!"}},{"$f":"--#REF!","v":{"$error":"#REF!"}},"Subordinate"]
[null,null,null,"Squibnocket Point","MA","MA,  Squibnocket Point","Martha's Vineyard",8448942,{"$f":"--#REF!","v":{"$error":"#REF!"}},{"$f":"--#REF!","v":{"$error":"#REF!"}},"Subordinate"]
[null,null,null,"Uncatena Island (south side)","MA","MA,  Uncatena Island (south side)","Woods Hole",8447941,{"$f":"--#REF!","v":{"$error":"#REF!"}},{"$f":"--#REF!","v":{"$error":"#REF!"}},"Subordinate"]
[null,null,null,"VINEYARD HAVEN, VINEYARD HVN HBR","MA","MA,  VINEYARD HAVEN, VINEYARD HVN HBR","Martha's Vineyard",8448157,{"$f":"--#REF!","v":{"$error":"#REF!"}},{"$f":"--#REF!","v":{"$error":"#REF!"}},"Harmonic"]
[null,null,null,"Wasque Point, Chappaquiddick Island","MA","MA,  Wasque Point, Chappaquiddick Island","Martha's Vineyard",8448683,{"$f":"--#REF!","v":{"$error":"#REF!"}},{"$f":"--#REF!","v":{"$error":"#REF!"}},"Subordinate"]
[null,null,null,"Wellfleet","MA","MA,  Wellfleet","Cape Cod Bay",8446613,{"$f":"--#REF!","v":{"$error":"#REF!"}},{"$f":"--#REF!","v":{"$error":"#REF!"}},"Subordinate"]
[null,null,null,"Westport Harbor","MA","MA,  Westport Harbor","Westport River",8447975,{"$f":"--#REF!","v":{"$error":"#REF!"}},{"$f":"--#REF!","v":{"$error":"#REF!"}},"Subordinate"]
[null,null,null,"WEYMOUTH FORE RIVER","MA","MA,  WEYMOUTH FORE RIVER","Hingham Bay",8444788,{"$f":"--#REF!","v":{"$error":"#REF!"}},{"$f":"--#REF!","v":{"$error":"#REF!"}},"Harmonic"]
[null,null,null,"WOODS HOLE","MA","MA,  WOODS HOLE","Woods Hole",8447930,{"$f":"--#REF!","v":{"$error":"#REF!"}},{"$f":"--#REF!","v":{"$error":"#REF!"}},"Harmonic"]
[null,null,null,"Wychmere Harbor","MA","MA,  Wychmere Harbor","Nantucket Sound, north side",8447506,{"$f":"--#REF!","v":{"$error":"#REF!"}},{"$f":"--#REF!","v":{"$error":"#REF!"}},"Subordinate"]
[null,null,null,"ALBANY","NY","NY,  ALBANY","Hudson River",8518995,{"$f":"--#REF!","v":{"$error":"#REF!"}},{"$f":"--#REF!","v":{"$error":"#REF!"}},"Harmonic"]
[null,null,null,"Alpine, N.J.","NY","NY,  Alpine, N.J.","Hudson River",8530095,{"$f":"--#REF!","v":{"$error":"#REF!"}},{"$f":"--#REF!","v":{"$error":"#REF!"}},"Subordinate"]
[null,null,null,"Amityville","NY","NY,  Amityville","Great South Bay",8515864,{"$f":"--#REF!","v":{"$error":"#REF!"}},{"$f":"--#REF!","v":{"$error":"#REF!"}},"Subordinate"]
[null,null,null,"Amtrak RR. swing bridge","NY","NY,  Amtrak RR. swing bridge","Hackensack River",8530696,{"$f":"--#REF!","v":{"$error":"#REF!"}},{"$f":"--#REF!","v":{"$error":"#REF!"}},"Subordinate"]
[null,null,null,"Babylon","NY","NY,  Babylon","Great South Bay",8515421,{"$f":"--#REF!","v":{"$error":"#REF!"}},{"$f":"--#REF!","v":{"$error":"#REF!"}},"Subordinate"]
[null,null,null,"Barren Island, Rockaway Inlet","NY","NY,  Barren Island, Rockaway Inlet","Jamaica Bay",8517394,{"$f":"--#REF!","v":{"$error":"#REF!"}},{"$f":"--#REF!","v":{"$error":"#REF!"}},"Subordinate"]
[null,null,null,"Bay Shore, Watchogue Creek Entrance","NY","NY,  Bay Shore, Watchogue Creek Entrance","Great South Bay",8515102,{"$f":"--#REF!","v":{"$error":"#REF!"}},{"$f":"--#REF!","v":{"$error":"#REF!"}},"Subordinate"]
[null,null,null,"BAYVILLE BRIDGE","NY","NY,  BAYVILLE BRIDGE","Oyster Bay",8516299,{"$f":"--#REF!","v":{"$error":"#REF!"}},{"$f":"--#REF!","v":{"$error":"#REF!"}},"Harmonic"]
[null,null,null,"Beach Channel (bridge)","NY","NY,  Beach Channel (bridge)","Jamaica Bay",8517137,{"$f":"--#REF!","v":{"$error":"#REF!"}},{"$f":"--#REF!","v":{"$error":"#REF!"}},"Subordinate"]
[null,null,null,"Belleville","NY","NY,  Belleville","Passaic River",8530591,{"$f":"--#REF!","v":{"$error":"#REF!"}},{"$f":"--#REF!","v":{"$error":"#REF!"}},"Subordinate"]
[null,null,null,"Bellmore, Bellmore Creek","NY","NY,  Bellmore, Bellmore Creek","Hempstead Bay",8516211,{"$f":"--#REF!","v":{"$error":"#REF!"}},{"$f":"--#REF!","v":{"$error":"#REF!"}},"Subordinate"]
[null,null,null,"BERGEN POINT WEST REACH","NY","NY,  BERGEN POINT WEST REACH","Kill Van Kull",8519483,{"$f":"--#REF!","v":{"$error":"#REF!"}},{"$f":"--#REF!","v":{"$error":"#REF!"}},"Harmonic"]
[null,null,null,"Biltmore Shores, South Oyster Bay","NY","NY,  Biltmore Shores, South Oyster Bay","Great South Bay",8516055,{"$f":"--#REF!","v":{"$error":"#REF!"}},{"$f":"--#REF!","v":{"$error":"#REF!"}},"Subordinate"]
[null,null,null,"Canarsie","NY","NY,  Canarsie","Jamaica Bay",8517381,{"$f":"--#REF!","v":{"$error":"#REF!"}},{"$f":"--#REF!","v":{"$error":"#REF!"}},"Subordinate"]
[null,null,null,"Carlstadt, Garretts Reach","NY","NY,  Carlstadt, Garretts Reach","Hackensack River",8530528,{"$f":"--#REF!","v":{"$error":"#REF!"}},{"$f":"--#REF!","v":{"$error":"#REF!"}},"Subordinate"]
[null,null,null,"Carteret","NY","NY,  Carteret","Arthur Kill",8531095,{"$f":"--#REF!","v":{"$error":"#REF!"}},{"$f":"--#REF!","v":{"$error":"#REF!"}},"Subordinate"]
[null,null,null,"Castleton","NY","NY,  Castleton","Hudson River",8518989,{"$f":"--#REF!","v":{"$error":"#REF!"}},{"$f":"--#REF!","v":{"$error":"#REF!"}},"Subordinate"]
[null,null,null,"CEDAR BEACH","NY","NY,  CEDAR BEACH","Oyster Bay",8514422,{"$f":"--#REF!","v":{"$error":"#REF!"}},{"$f":"--#REF!","v":{"$error":"#REF!"}},"Harmonic"]
[null,null,null,"Cheesequake Creek, Garden State Parkway","NY","NY,  Cheesequake Creek, Garden State Parkway","Raritan River",8531223,{"$f":"--#REF!","v":{"$error":"#REF!"}},{"$f":"--#REF!","v":{"$error":"#REF!"}},"Subordinate"]
[null,null,null,"Chelsea","NY","NY,  Chelsea","Arthur Kill","TEC1645",{"$f":"--#REF!","v":{"$error":"#REF!"}},{"$f":"--#REF!","v":{"$error":"#REF!"}},"Subordinate"]
[null,null,null,"COLD SPRING HARBOR","NY","NY,  COLD SPRING HARBOR","Oyster Bay",8516061,{"$f":"--#REF!","v":{"$error":"#REF!"}},{"$f":"--#REF!","v":{"$error":"#REF!"}},"Harmonic"]
[null,null,null,"Coney Island","NY","NY,  Coney Island","New York Harbor",8517741,{"$f":"--#REF!","v":{"$error":"#REF!"}},{"$f":"--#REF!","v":{"$error":"#REF!"}},"Subordinate"]
[null,null,null,"Constable Hook","NY","NY,  Constable Hook","Kill Van Kull",8530985,{"$f":"--#REF!","v":{"$error":"#REF!"}},{"$f":"--#REF!","v":{"$error":"#REF!"}},"Subordinate"]
[null,null,null,"Cuba Island","NY","NY,  Cuba Island","Hempstead Bay",8516221,{"$f":"--#REF!","v":{"$error":"#REF!"}},{"$f":"--#REF!","v":{"$error":"#REF!"}},"Subordinate"]
[null,null,null,"Deep Creek Meadow","NY","NY,  Deep Creek Meadow","Hempstead Bay",8516225,{"$f":"--#REF!","v":{"$error":"#REF!"}},{"$f":"--#REF!","v":{"$error":"#REF!"}},"Subordinate"]
[null,null,null,"Democrat Point, Fire Island Inlet","NY","NY,  Democrat Point, Fire Island Inlet","Shinnecock Bay",8515228,{"$f":"--#REF!","v":{"$error":"#REF!"}},{"$f":"--#REF!","v":{"$error":"#REF!"}},"Subordinate"]
[null,null,null,"East Rockaway Inlet","NY","NY,  East Rockaway Inlet","Hempstead Bay",8516881,{"$f":"--#REF!","v":{"$error":"#REF!"}},{"$f":"--#REF!","v":{"$error":"#REF!"}},"Subordinate"]
[null,null,null,"East Rutherford","NY","NY,  East Rutherford","Passaic River",8530403,{"$f":"--#REF!","v":{"$error":"#REF!"}},{"$f":"--#REF!","v":{"$error":"#REF!"}},"Subordinate"]
[null,null,null,"EATONS NECK","NY","NY,  EATONS NECK","Oyster Bay",8515786,{"$f":"--#REF!","v":{"$error":"#REF!"}},{"$f":"--#REF!","v":{"$error":"#REF!"}},"Harmonic"]
[null,null,null,"Edgewater, N.J.","NY","NY,  Edgewater, N.J.","Hudson River",8530505,{"$f":"--#REF!","v":{"$error":"#REF!"}},{"$f":"--#REF!","v":{"$error":"#REF!"}},"Subordinate"]
[null,null,null,"Fire Island Coast Guard Station","NY","NY,  Fire Island Coast Guard Station","Great South Bay",8515186,{"$f":"--#REF!","v":{"$error":"#REF!"}},{"$f":"--#REF!","v":{"$error":"#REF!"}},"Subordinate"]
[null,null,null,"Fire Island Light","NY","NY,  Fire Island Light","Great South Bay",8515014,{"$f":"--#REF!","v":{"$error":"#REF!"}},{"$f":"--#REF!","v":{"$error":"#REF!"}},"Subordinate"]
[null,null,null,"Fish Creek, Berrys Creek","NY","NY,  Fish Creek, Berrys Creek","Hackensack River",8530586,{"$f":"--#REF!","v":{"$error":"#REF!"}},{"$f":"--#REF!","v":{"$error":"#REF!"}},"Subordinate"]
[null,null,null,"Fort Hamilton, The Narrows","NY","NY,  Fort Hamilton, The Narrows","New York Harbor",8517942,{"$f":"--#REF!","v":{"$error":"#REF!"}},{"$f":"--#REF!","v":{"$error":"#REF!"}},"Subordinate"]
[null,null,null,"Fort Wadsworth, The Narrows","NY","NY,  Fort Wadsworth, The Narrows","New York Harbor",8519024,{"$f":"--#REF!","v":{"$error":"#REF!"}},{"$f":"--#REF!","v":{"$error":"#REF!"}},"Subordinate"]
[null,null,null,"Freeport, Baldwin Bay","NY","NY,  Freeport, Baldwin Bay","Hempstead Bay",8516411,{"$f":"--#REF!","v":{"$error":"#REF!"}},{"$f":"--#REF!","v":{"$error":"#REF!"}},"Subordinate"]
[null,null,null,"Gilgo Heading","NY","NY,  Gilgo Heading","Great South Bay",8515764,{"$f":"--#REF!","v":{"$error":"#REF!"}},{"$f":"--#REF!","v":{"$error":"#REF!"}},"Subordinate"]
[null,null,null,"GLEN COVE, HEMPSTEAD HARBOR","NY","NY,  GLEN COVE, HEMPSTEAD HARBOR","Long Island, Long Island Sound",8516614,{"$f":"--#REF!","v":{"$error":"#REF!"}},{"$f":"--#REF!","v":{"$error":"#REF!"}},"Harmonic"]
[null,null,null,"Gowanus Bay","NY","NY,  Gowanus Bay","New York Harbor",8517921,{"$f":"--#REF!","v":{"$error":"#REF!"}},{"$f":"--#REF!","v":{"$error":"#REF!"}},"Subordinate"]
[null,null,null,"Great Kills Harbor","NY","NY,  Great Kills Harbor","Lower New York Bay, Raritan Bay, etc.",8519436,{"$f":"--#REF!","v":{"$error":"#REF!"}},{"$f":"--#REF!","v":{"$error":"#REF!"}},"Subordinate"]
[null,null,null,"Great River, Connetquot River","NY","NY,  Great River, Connetquot River","Great South Bay",8514783,{"$f":"--#REF!","v":{"$error":"#REF!"}},{"$f":"--#REF!","v":{"$error":"#REF!"}},"Subordinate"]
[null,null,null,"Green Island","NY","NY,  Green Island","Hempstead Bay",8516155,{"$f":"--#REF!","v":{"$error":"#REF!"}},{"$f":"--#REF!","v":{"$error":"#REF!"}},"Subordinate"]
[null,null,null,"Greenport","NY","NY,  Greenport","Shelter Island Sound",8511907,{"$f":"--#REF!","v":{"$error":"#REF!"}},{"$f":"--#REF!","v":{"$error":"#REF!"}},"Subordinate"]
[null,null,null,"Hackensack","NY","NY,  Hackensack","Hackensack River",8530278,{"$f":"--#REF!","v":{"$error":"#REF!"}},{"$f":"--#REF!","v":{"$error":"#REF!"}},"Subordinate"]
[null,null,null,"Hashamomuck Beach","NY","NY,  Hashamomuck Beach","Oyster Bay",8512053,{"$f":"--#REF!","v":{"$error":"#REF!"}},{"$f":"--#REF!","v":{"$error":"#REF!"}},"Subordinate"]
[null,null,null,"HAVERSTRAW","NY","NY,  HAVERSTRAW","Hudson River",8518924,{"$f":"--#REF!","v":{"$error":"#REF!"}},{"$f":"--#REF!","v":{"$error":"#REF!"}},"Harmonic"]
[null,null,null,"Hudson","NY","NY,  Hudson","Hudson River",8518974,{"$f":"--#REF!","v":{"$error":"#REF!"}},{"$f":"--#REF!","v":{"$error":"#REF!"}},"Subordinate"]
[null,null,null,"Hyde Park","NY","NY,  Hyde Park","Hudson River",8518951,{"$f":"--#REF!","v":{"$error":"#REF!"}},{"$f":"--#REF!","v":{"$error":"#REF!"}},"Subordinate"]
[null,null,null,"J.F.K. International Airport","NY","NY,  J.F.K. International Airport","Jamaica Bay",8516999,{"$f":"--#REF!","v":{"$error":"#REF!"}},{"$f":"--#REF!","v":{"$error":"#REF!"}},"Subordinate"]
[null,null,null,"Jones Inlet (Point Lookout)","NY","NY,  Jones Inlet (Point Lookout)","Great South Bay",8516385,{"$f":"--#REF!","v":{"$error":"#REF!"}},{"$f":"--#REF!","v":{"$error":"#REF!"}},"Subordinate"]
[null,null,null,"Kearny Point","NY","NY,  Kearny Point","Hackensack River",8530772,{"$f":"--#REF!","v":{"$error":"#REF!"}},{"$f":"--#REF!","v":{"$error":"#REF!"}},"Subordinate"]
[null,null,null,"Keasbey","NY","NY,  Keasbey","Raritan River",8531262,{"$f":"--#REF!","v":{"$error":"#REF!"}},{"$f":"--#REF!","v":{"$error":"#REF!"}},"Subordinate"]
[null,null,null,"Keyport","NY","NY,  Keyport","Raritan River",8531545,{"$f":"--#REF!","v":{"$error":"#REF!"}},{"$f":"--#REF!","v":{"$error":"#REF!"}},"Subordinate"]
[null,null,null,"KINGS POINT","NY","NY,  KINGS POINT","Long Island, Long Island Sound",8516945,{"$f":"--#REF!","v":{"$error":"#REF!"}},{"$f":"--#REF!","v":{"$error":"#REF!"}},"Harmonic"]
[null,null,null,"Kingston","NY","NY,  Kingston","Hudson River",8518993,{"$f":"--#REF!","v":{"$error":"#REF!"}},{"$f":"--#REF!","v":{"$error":"#REF!"}},"Subordinate"]
[null,null,null,"LAKE MONTAUK","NY","NY,  LAKE MONTAUK","Peconic Bays",8510448,{"$f":"--#REF!","v":{"$error":"#REF!"}},{"$f":"--#REF!","v":{"$error":"#REF!"}},"Harmonic"]
[null,null,null,"Little Gull Island","NY","NY,  Little Gull Island","Oyster Bay",8510884,{"$f":"--#REF!","v":{"$error":"#REF!"}},{"$f":"--#REF!","v":{"$error":"#REF!"}},"Subordinate"]
[null,null,null,"LLOYD HARBOR, HUNTINGTON BAY","NY","NY,  LLOYD HARBOR, HUNTINGTON BAY","Oyster Bay",8515921,{"$f":"--#REF!","v":{"$error":"#REF!"}},{"$f":"--#REF!","v":{"$error":"#REF!"}},"Harmonic"]
[null,null,null,"Long Beach (Inside)","NY","NY,  Long Beach (Inside)","Hempstead Bay",8516601,{"$f":"--#REF!","v":{"$error":"#REF!"}},{"$f":"--#REF!","v":{"$error":"#REF!"}},"Subordinate"]
[null,null,null,"Matawan Creek, Route 35 bridge","NY","NY,  Matawan Creek, Route 35 bridge","Raritan River",8531526,{"$f":"--#REF!","v":{"$error":"#REF!"}},{"$f":"--#REF!","v":{"$error":"#REF!"}},"Subordinate"]
[null,null,null,"MATTITUCK INLET","NY","NY,  MATTITUCK INLET","Oyster Bay",8512668,{"$f":"--#REF!","v":{"$error":"#REF!"}},{"$f":"--#REF!","v":{"$error":"#REF!"}},"Harmonic"]
[null,null,null,"Mill Basin","NY","NY,  Mill Basin","Jamaica Bay",8517519,{"$f":"--#REF!","v":{"$error":"#REF!"}},{"$f":"--#REF!","v":{"$error":"#REF!"}},"Subordinate"]
[null,null,null,"MONTAUK","NY","NY,  MONTAUK","Peconic Bays",8510560,{"$f":"--#REF!","v":{"$error":"#REF!"}},{"$f":"--#REF!","v":{"$error":"#REF!"}},"Harmonic"]
[null,null,null,"Montauk Harbor entrance","NY","NY,  Montauk Harbor entrance","Peconic Bays",8510502,{"$f":"--#REF!","v":{"$error":"#REF!"}},{"$f":"--#REF!","v":{"$error":"#REF!"}},"Subordinate"]
[null,null,null,"Moriches Coast Guard Station","NY","NY,  Moriches Coast Guard Station","Shinnecock Bay",8513388,{"$f":"--#REF!","v":{"$error":"#REF!"}},{"$f":"--#REF!","v":{"$error":"#REF!"}},"Subordinate"]
[null,null,null,"Moriches Inlet","NY","NY,  Moriches Inlet","Shinnecock Bay",8513387,{"$f":"--#REF!","v":{"$error":"#REF!"}},{"$f":"--#REF!","v":{"$error":"#REF!"}},"Subordinate"]
[null,null,null,"Motts Basin","NY","NY,  Motts Basin","Jamaica Bay",8516925,{"$f":"--#REF!","v":{"$error":"#REF!"}},{"$f":"--#REF!","v":{"$error":"#REF!"}},"Subordinate"]
[null,null,null,"Mount Sinai Harbor","NY","NY,  Mount Sinai Harbor","Oyster Bay",8514421,{"$f":"--#REF!","v":{"$error":"#REF!"}},{"$f":"--#REF!","v":{"$error":"#REF!"}},"Subordinate"]
[null,null,null,"Neds Creek","NY","NY,  Neds Creek","Hempstead Bay",8516315,{"$f":"--#REF!","v":{"$error":"#REF!"}},{"$f":"--#REF!","v":{"$error":"#REF!"}},"Subordinate"]
[null,null,null,"New Brunswick","NY","NY,  New Brunswick","Raritan River",8531463,{"$f":"--#REF!","v":{"$error":"#REF!"}},{"$f":"--#REF!","v":{"$error":"#REF!"}},"Subordinate"]
[null,null,null,"New Hamburg","NY","NY,  New Hamburg","Hudson River",8518939,{"$f":"--#REF!","v":{"$error":"#REF!"}},{"$f":"--#REF!","v":{"$error":"#REF!"}},"Subordinate"]
[null,null,null,"New Millford","NY","NY,  New Millford","Hackensack River",8530186,{"$f":"--#REF!","v":{"$error":"#REF!"}},{"$f":"--#REF!","v":{"$error":"#REF!"}},"Subordinate"]
[null,null,null,"New Suffolk","NY","NY,  New Suffolk","Peconic Bays",8512328,{"$f":"--#REF!","v":{"$error":"#REF!"}},{"$f":"--#REF!","v":{"$error":"#REF!"}},"Subordinate"]
[null,null,null,"Newburgh","NY","NY,  Newburgh","Hudson River",8518935,{"$f":"--#REF!","v":{"$error":"#REF!"}},{"$f":"--#REF!","v":{"$error":"#REF!"}},"Subordinate"]
[null,null,null,"North Channel Bridge, Grassy Bay","NY","NY,  North Channel Bridge, Grassy Bay","Jamaica Bay",8517201,{"$f":"--#REF!","v":{"$error":"#REF!"}},{"$f":"--#REF!","v":{"$error":"#REF!"}},"Subordinate"]
[null,null,null,"North Secaucus, Garretts Reach","NY","NY,  North Secaucus, Garretts Reach","Hackensack River",8530531,{"$f":"--#REF!","v":{"$error":"#REF!"}},{"$f":"--#REF!","v":{"$error":"#REF!"}},"Subordinate"]
[null,null,null,"NORTHPORT, NORTHPORT BAY","NY","NY,  NORTHPORT, NORTHPORT BAY","Oyster Bay",8515586,{"$f":"--#REF!","v":{"$error":"#REF!"}},{"$f":"--#REF!","v":{"$error":"#REF!"}},"Harmonic"]
[null,null,null,"NORTHVILLE","NY","NY,  NORTHVILLE","Oyster Bay",8512987,{"$f":"--#REF!","v":{"$error":"#REF!"}},{"$f":"--#REF!","v":{"$error":"#REF!"}},"Harmonic"]
[null,null,null,"Norton Point, Gravesend Bay","NY","NY,  Norton Point, Gravesend Bay","New York Harbor",8517811,{"$f":"--#REF!","v":{"$error":"#REF!"}},{"$f":"--#REF!","v":{"$error":"#REF!"}},"Subordinate"]
[null,null,null,"Norton Point, Head of Bay","NY","NY,  Norton Point, Head of Bay","Jamaica Bay",8516891,{"$f":"--#REF!","v":{"$error":"#REF!"}},{"$f":"--#REF!","v":{"$error":"#REF!"}},"Subordinate"]
[null,null,null,"Noyack Bay","NY","NY,  Noyack Bay","Shelter Island Sound",8511779,{"$f":"--#REF!","v":{"$error":"#REF!"}},{"$f":"--#REF!","v":{"$error":"#REF!"}},"Subordinate"]
[null,null,null,"Oak Beach","NY","NY,  Oak Beach","Great South Bay",8515336,{"$f":"--#REF!","v":{"$error":"#REF!"}},{"$f":"--#REF!","v":{"$error":"#REF!"}},"Subordinate"]
[null,null,null,"Old Bridge, South River","NY","NY,  Old Bridge, South River","Raritan River",8531369,{"$f":"--#REF!","v":{"$error":"#REF!"}},{"$f":"--#REF!","v":{"$error":"#REF!"}},"Subordinate"]
[null,null,null,"ORIENT HARBOR","NY","NY,  ORIENT HARBOR","Shelter Island Sound",8511671,{"$f":"--#REF!","v":{"$error":"#REF!"}},{"$f":"--#REF!","v":{"$error":"#REF!"}},"Harmonic"]
[null,null,null,"Oyster Bay Harbor","NY","NY,  Oyster Bay Harbor","Oyster Bay",8516201,{"$f":"--#REF!","v":{"$error":"#REF!"}},{"$f":"--#REF!","v":{"$error":"#REF!"}},"Subordinate"]
[null,null,null,"PATCHOGUE","NY","NY,  PATCHOGUE","Great South Bay",8514322,{"$f":"--#REF!","v":{"$error":"#REF!"}},{"$f":"--#REF!","v":{"$error":"#REF!"}},"Harmonic"]
[null,null,null,"Peekskill","NY","NY,  Peekskill","Hudson River",8518949,{"$f":"--#REF!","v":{"$error":"#REF!"}},{"$f":"--#REF!","v":{"$error":"#REF!"}},"Subordinate"]
[null,null,null,"PLUM GUT HARBOR, PLUM ISLAND","NY","NY,  PLUM GUT HARBOR, PLUM ISLAND","Oyster Bay",8511236,{"$f":"--#REF!","v":{"$error":"#REF!"}},{"$f":"--#REF!","v":{"$error":"#REF!"}},"Harmonic"]
[null,null,null,"Plumb Beach Channel","NY","NY,  Plumb Beach Channel","Jamaica Bay",8517531,{"$f":"--#REF!","v":{"$error":"#REF!"}},{"$f":"--#REF!","v":{"$error":"#REF!"}},"Subordinate"]
[null,null,null,"Point No Point","NY","NY,  Point No Point","Passaic River",8530743,{"$f":"--#REF!","v":{"$error":"#REF!"}},{"$f":"--#REF!","v":{"$error":"#REF!"}},"Subordinate"]
[null,null,null,"Point o' Woods","NY","NY,  Point o' Woods","Great South Bay",8514733,{"$f":"--#REF!","v":{"$error":"#REF!"}},{"$f":"--#REF!","v":{"$error":"#REF!"}},"Subordinate"]
[null,null,null,"Ponquoque Point","NY","NY,  Ponquoque Point","Shinnecock Bay",8512451,{"$f":"--#REF!","v":{"$error":"#REF!"}},{"$f":"--#REF!","v":{"$error":"#REF!"}},"Subordinate"]
[null,null,null,"Port Elizabeth","NY","NY,  Port Elizabeth","Kill Van Kull",8530882,{"$f":"--#REF!","v":{"$error":"#REF!"}},{"$f":"--#REF!","v":{"$error":"#REF!"}},"Subordinate"]
[null,null,null,"Port Ivory, Howland Hook, N.Y.","NY","NY,  Port Ivory, Howland Hook, N.Y.","Arthur Kill",8519200,{"$f":"--#REF!","v":{"$error":"#REF!"}},{"$f":"--#REF!","v":{"$error":"#REF!"}},"Subordinate"]
[null,null,null,"Port Jefferson","NY","NY,  Port Jefferson","Oyster Bay",8514560,{"$f":"--#REF!","v":{"$error":"#REF!"}},{"$f":"--#REF!","v":{"$error":"#REF!"}},"Subordinate"]
[null,null,null,"Port Jefferson Harbor entrance","NY","NY,  Port Jefferson Harbor entrance","Oyster Bay",8514594,{"$f":"--#REF!","v":{"$error":"#REF!"}},{"$f":"--#REF!","v":{"$error":"#REF!"}},"Subordinate"]
[null,null,null,"Port Newark Terminal","NY","NY,  Port Newark Terminal","Kill Van Kull",8530884,{"$f":"--#REF!","v":{"$error":"#REF!"}},{"$f":"--#REF!","v":{"$error":"#REF!"}},"Subordinate"]
[null,null,null,"PORT WASHINGTON, MANHASSET BAY","NY","NY,  PORT WASHINGTON, MANHASSET BAY","Long Island, Long Island Sound",8516761,{"$f":"--#REF!","v":{"$error":"#REF!"}},{"$f":"--#REF!","v":{"$error":"#REF!"}},"Harmonic"]
[null,null,null,"Poughkeepsie","NY","NY,  Poughkeepsie","Hudson River",8518945,{"$f":"--#REF!","v":{"$error":"#REF!"}},{"$f":"--#REF!","v":{"$error":"#REF!"}},"Subordinate"]
[null,null,null,"Princes Bay","NY","NY,  Princes Bay","Lower New York Bay, Raritan Bay, etc.",8519726,{"$f":"--#REF!","v":{"$error":"#REF!"}},{"$f":"--#REF!","v":{"$error":"#REF!"}},"Subordinate"]
[null,null,null,"Rahway River, RR. Bridge","NY","NY,  Rahway River, RR. Bridge","Arthur Kill",8531077,{"$f":"--#REF!","v":{"$error":"#REF!"}},{"$f":"--#REF!","v":{"$error":"#REF!"}},"Subordinate"]
[null,null,null,"Ridgefield Park","NY","NY,  Ridgefield Park","Hackensack River",8530398,{"$f":"--#REF!","v":{"$error":"#REF!"}},{"$f":"--#REF!","v":{"$error":"#REF!"}},"Subordinate"]
[null,null,null,"Riverdale, N.Y.","NY","NY,  Riverdale, N.Y.","Hudson River",8518905,{"$f":"--#REF!","v":{"$error":"#REF!"}},{"$f":"--#REF!","v":{"$error":"#REF!"}},"Subordinate"]
[null,null,null,"Rossville, N.Y.","NY","NY,  Rossville, N.Y.","Arthur Kill",8519789,{"$f":"--#REF!","v":{"$error":"#REF!"}},{"$f":"--#REF!","v":{"$error":"#REF!"}},"Subordinate"]
[null,null,null,"Sag Harbor","NY","NY,  Sag Harbor","Shelter Island Sound",8511629,{"$f":"--#REF!","v":{"$error":"#REF!"}},{"$f":"--#REF!","v":{"$error":"#REF!"}},"Subordinate"]
[null,null,null,"Sayreville","NY","NY,  Sayreville","Raritan River",8531390,{"$f":"--#REF!","v":{"$error":"#REF!"}},{"$f":"--#REF!","v":{"$error":"#REF!"}},"Subordinate"]
[null,null,null,"Shinnecock Bay","NY","NY,  Shinnecock Bay","Shinnecock Bay",8512671,{"$f":"--#REF!","v":{"$error":"#REF!"}},{"$f":"--#REF!","v":{"$error":"#REF!"}},"Subordinate"]
[null,null,null,"Shinnecock Inlet (ocean)","NY","NY,  Shinnecock Inlet (ocean)","Peconic Bays",8512354,{"$f":"--#REF!","v":{"$error":"#REF!"}},{"$f":"--#REF!","v":{"$error":"#REF!"}},"Subordinate"]
[null,null,null,"SHINNECOCK YACHT CLUB, PENNIMAN CREEK","NY","NY,  SHINNECOCK YACHT CLUB, PENNIMAN CREEK","Shinnecock Bay",8512769,{"$f":"--#REF!","v":{"$error":"#REF!"}},{"$f":"--#REF!","v":{"$error":"#REF!"}},"Harmonic"]
[null,null,null,"SMITH POINT BRIDGE, NARROW BAY","NY","NY,  SMITH POINT BRIDGE, NARROW BAY","Shinnecock Bay",8513825,{"$f":"--#REF!","v":{"$error":"#REF!"}},{"$f":"--#REF!","v":{"$error":"#REF!"}},"Harmonic"]
[null,null,null,"South Amboy","NY","NY,  South Amboy","Raritan River",8531232,{"$f":"--#REF!","v":{"$error":"#REF!"}},{"$f":"--#REF!","v":{"$error":"#REF!"}},"Subordinate"]
[null,null,null,"SOUTH JAMESPORT","NY","NY,  SOUTH JAMESPORT","Peconic Bays",8512735,{"$f":"--#REF!","v":{"$error":"#REF!"}},{"$f":"--#REF!","v":{"$error":"#REF!"}},"Harmonic"]
[null,null,null,"Southold","NY","NY,  Southold","Shelter Island Sound",8512114,{"$f":"--#REF!","v":{"$error":"#REF!"}},{"$f":"--#REF!","v":{"$error":"#REF!"}},"Subordinate"]
[null,null,null,"Spuyten Duyvil Creek ent., N.Y.","NY","NY,  Spuyten Duyvil Creek ent., N.Y.","Hudson River",8518903,{"$f":"--#REF!","v":{"$error":"#REF!"}},{"$f":"--#REF!","v":{"$error":"#REF!"}},"Subordinate"]
[null,null,null,"St. George, Staten Island","NY","NY,  St. George, Staten Island","New York Harbor",8519112,{"$f":"--#REF!","v":{"$error":"#REF!"}},{"$f":"--#REF!","v":{"$error":"#REF!"}},"Subordinate"]
[null,null,null,"Tarrytown","NY","NY,  Tarrytown","Hudson River",8518919,{"$f":"--#REF!","v":{"$error":"#REF!"}},{"$f":"--#REF!","v":{"$error":"#REF!"}},"Subordinate"]
[null,null,null,"THE BATTERY","NY","NY,  THE BATTERY","New York Harbor",8518750,{"$f":"--#REF!","v":{"$error":"#REF!"}},{"$f":"--#REF!","v":{"$error":"#REF!"}},"Harmonic"]
[null,null,null,"Threemile Harbor entrance, Gardiners Bay","NY","NY,  Threemile Harbor entrance, Gardiners Bay","Peconic Bays",8511171,{"$f":"--#REF!","v":{"$error":"#REF!"}},{"$f":"--#REF!","v":{"$error":"#REF!"}},"Subordinate"]
[null,null,null,"Tivoli","NY","NY,  Tivoli","Hudson River",8518964,{"$f":"--#REF!","v":{"$error":"#REF!"}},{"$f":"--#REF!","v":{"$error":"#REF!"}},"Subordinate"]
[null,null,null,"Troy","NY","NY,  Troy","Hudson River","TEC1603",{"$f":"--#REF!","v":{"$error":"#REF!"}},{"$f":"--#REF!","v":{"$error":"#REF!"}},"Subordinate"]
[null,null,null,"Waackaack Creek","NY","NY,  Waackaack Creek","Raritan River",8531592,{"$f":"--#REF!","v":{"$error":"#REF!"}},{"$f":"--#REF!","v":{"$error":"#REF!"}},"Subordinate"]
[null,null,null,"Weehawken, Union City, N.J.","NY","NY,  Weehawken, Union City, N.J.","Hudson River",8530645,{"$f":"--#REF!","v":{"$error":"#REF!"}},{"$f":"--#REF!","v":{"$error":"#REF!"}},"Subordinate"]
[null,null,null,"West Fire Island","NY","NY,  West Fire Island","Great South Bay",8514961,{"$f":"--#REF!","v":{"$error":"#REF!"}},{"$f":"--#REF!","v":{"$error":"#REF!"}},"Subordinate"]
[null,null,null,"WILLETS POINT","NY","NY,  WILLETS POINT","Long Island, Long Island Sound",8516990,{"$f":"--#REF!","v":{"$error":"#REF!"}},{"$f":"--#REF!","v":{"$error":"#REF!"}},"Harmonic"]
[null,null,null,"Woodbridge Creek, 0.8 n.mi. above entrance","NY","NY,  Woodbridge Creek, 0.8 n.mi. above entrance","Arthur Kill",8531156,{"$f":"--#REF!","v":{"$error":"#REF!"}},{"$f":"--#REF!","v":{"$error":"#REF!"}},"Subordinate"]
[null,null,null,"Woodmere, Brosewere Bay","NY","NY,  Woodmere, Brosewere Bay","Hempstead Bay",8516745,{"$f":"--#REF!","v":{"$error":"#REF!"}},{"$f":"--#REF!","v":{"$error":"#REF!"}},"Subordinate"]
[null,null,null,"Anthony Point","RI","RI,  Anthony Point","Sakonnet River",8450948,{"$f":"--#REF!","v":{"$error":"#REF!"}},{"$f":"--#REF!","v":{"$error":"#REF!"}},"Subordinate"]
[null,null,null,"Bay Spring, Bullock Cove","RI","RI,  Bay Spring, Bullock Cove","Conanicut Island",8453033,{"$f":"--#REF!","v":{"$error":"#REF!"}},{"$f":"--#REF!","v":{"$error":"#REF!"}},"Subordinate"]
[null,null,null,"Beavertail Point","RI","RI,  Beavertail Point","Conanicut Island",8453999,{"$f":"--#REF!","v":{"$error":"#REF!"}},{"$f":"--#REF!","v":{"$error":"#REF!"}},"Subordinate"]
[null,null,null,"BLOCK ISLAND","RI","RI,  BLOCK ISLAND","RHODE ISLAND, Outer Coast",8459681,{"$f":"--#REF!","v":{"$error":"#REF!"}},{"$f":"--#REF!","v":{"$error":"#REF!"}},"Harmonic"]
[null,null,null,"BLOCK ISLAND","RI","RI,  BLOCK ISLAND","RHODE ISLAND, Outer Coast",8459338,{"$f":"--#REF!","v":{"$error":"#REF!"}},{"$f":"--#REF!","v":{"$error":"#REF!"}},"Harmonic"]
[null,null,null,"BRISTOL FERRY","RI","RI,  BRISTOL FERRY","Conanicut Island",8451552,{"$f":"--#REF!","v":{"$error":"#REF!"}},{"$f":"--#REF!","v":{"$error":"#REF!"}},"Harmonic"]
[null,null,null,"Bristol Highlands","RI","RI,  Bristol Highlands","Conanicut Island",8452154,{"$f":"--#REF!","v":{"$error":"#REF!"}},{"$f":"--#REF!","v":{"$error":"#REF!"}},"Subordinate"]
[null,null,null,"Bristol, Bristol Harbor","RI","RI,  Bristol, Bristol Harbor","Conanicut Island",8451929,{"$f":"--#REF!","v":{"$error":"#REF!"}},{"$f":"--#REF!","v":{"$error":"#REF!"}},"Subordinate"]
[null,null,null,"Castle Hill","RI","RI,  Castle Hill","Sakonnet River",8453201,{"$f":"--#REF!","v":{"$error":"#REF!"}},{"$f":"--#REF!","v":{"$error":"#REF!"}},"Subordinate"]
[null,null,null,"Conanicut Point","RI","RI,  Conanicut Point","Conanicut Island",8453465,{"$f":"--#REF!","v":{"$error":"#REF!"}},{"$f":"--#REF!","v":{"$error":"#REF!"}},"Subordinate"]
[null,null,null,"East Greenwich","RI","RI,  East Greenwich","Conanicut Island",8454578,{"$f":"--#REF!","v":{"$error":"#REF!"}},{"$f":"--#REF!","v":{"$error":"#REF!"}},"Subordinate"]
[null,null,null,"FALL RIVER","RI","RI,  FALL RIVER","Conanicut Island",8447386,{"$f":"--#REF!","v":{"$error":"#REF!"}},{"$f":"--#REF!","v":{"$error":"#REF!"}},"Harmonic"]
[null,null,null,"Nannaquaket Neck","RI","RI,  Nannaquaket Neck","Sakonnet River",8450954,{"$f":"--#REF!","v":{"$error":"#REF!"}},{"$f":"--#REF!","v":{"$error":"#REF!"}},"Subordinate"]
[null,null,null,"Narragansett Pier","RI","RI,  Narragansett Pier","Conanicut Island",8454658,{"$f":"--#REF!","v":{"$error":"#REF!"}},{"$f":"--#REF!","v":{"$error":"#REF!"}},"Subordinate"]
[null,null,null,"NEWPORT","RI","RI,  NEWPORT","Sakonnet River",8452660,{"$f":"--#REF!","v":{"$error":"#REF!"}},{"$f":"--#REF!","v":{"$error":"#REF!"}},"Harmonic"]
[null,null,null,"North End, Bay Oil pier","RI","RI,  North End, Bay Oil pier","Sakonnet River",8450898,{"$f":"--#REF!","v":{"$error":"#REF!"}},{"$f":"--#REF!","v":{"$error":"#REF!"}},"Subordinate"]
[null,null,null,"Pawtucket, Seekonk River","RI","RI,  Pawtucket, Seekonk River","Conanicut Island",8453611,{"$f":"--#REF!","v":{"$error":"#REF!"}},{"$f":"--#REF!","v":{"$error":"#REF!"}},"Subordinate"]
[null,null,null,"Pawtuxet, Pawtuxet Cove","RI","RI,  Pawtuxet, Pawtuxet Cove","Conanicut Island",8453767,{"$f":"--#REF!","v":{"$error":"#REF!"}},{"$f":"--#REF!","v":{"$error":"#REF!"}},"Subordinate"]
[null,null,null,"POINT JUDITH, HARBOR OF REFUGE","RI","RI,  POINT JUDITH, HARBOR OF REFUGE","RHODE ISLAND, Outer Coast",8455083,{"$f":"--#REF!","v":{"$error":"#REF!"}},{"$f":"--#REF!","v":{"$error":"#REF!"}},"Harmonic"]
[null,null,null,"PROVIDENCE","RI","RI,  PROVIDENCE","Conanicut Island",8454000,{"$f":"--#REF!","v":{"$error":"#REF!"}},{"$f":"--#REF!","v":{"$error":"#REF!"}},"Harmonic"]
[null,null,null,"Prudence Island, (south end)","RI","RI,  Prudence Island, (south end)","Conanicut Island",8452555,{"$f":"--#REF!","v":{"$error":"#REF!"}},{"$f":"--#REF!","v":{"$error":"#REF!"}},"Subordinate"]
[null,null,null,"Rumford, Seekonk River","RI","RI,  Rumford, Seekonk River","Conanicut Island",8453433,{"$f":"--#REF!","v":{"$error":"#REF!"}},{"$f":"--#REF!","v":{"$error":"#REF!"}},"Subordinate"]
[null,null,null,"Sachuest, Flint Point","RI","RI,  Sachuest, Flint Point","Sakonnet River",8451351,{"$f":"--#REF!","v":{"$error":"#REF!"}},{"$f":"--#REF!","v":{"$error":"#REF!"}},"Subordinate"]
[null,null,null,"Sakonnet","RI","RI,  Sakonnet","Sakonnet River",8450768,{"$f":"--#REF!","v":{"$error":"#REF!"}},{"$f":"--#REF!","v":{"$error":"#REF!"}},"Subordinate"]
[null,null,null,"Steep Brook, Taunton River","RI","RI,  Steep Brook, Taunton River","Conanicut Island",8447281,{"$f":"--#REF!","v":{"$error":"#REF!"}},{"$f":"--#REF!","v":{"$error":"#REF!"}},"Subordinate"]
[null,null,null,"The Glen","RI","RI,  The Glen","Sakonnet River",8451301,{"$f":"--#REF!","v":{"$error":"#REF!"}},{"$f":"--#REF!","v":{"$error":"#REF!"}},"Subordinate"]
[null,null,null,"Watch Hill Point","RI","RI,  Watch Hill Point","RHODE ISLAND, Outer Coast",8458694,{"$f":"--#REF!","v":{"$error":"#REF!"}},{"$f":"--#REF!","v":{"$error":"#REF!"}},"Subordinate"]
[null,null,null,"Watson Pier, Boston Neck","RI","RI,  Watson Pier, Boston Neck","Conanicut Island",8454341,{"$f":"--#REF!","v":{"$error":"#REF!"}},{"$f":"--#REF!","v":{"$error":"#REF!"}},"Subordinate"]
[null,null,null,"WEEKAPAUG POINT, BLOCK ISLAND SOUND","RI","RI,  WEEKAPAUG POINT, BLOCK ISLAND SOUND","RHODE ISLAND, Outer Coast",8458022,{"$f":"--#REF!","v":{"$error":"#REF!"}},{"$f":"--#REF!","v":{"$error":"#REF!"}},"Harmonic"]
[null,null,null,"WEST JAMESTOWN, DUTCH ISLAND HARBOR","RI","RI,  WEST JAMESTOWN, DUTCH ISLAND HARBOR","Conanicut Island",8453742,{"$f":"--#REF!","v":{"$error":"#REF!"}},{"$f":"--#REF!","v":{"$error":"#REF!"}},"Harmonic"]
[null,null,null,"Westerly, Pawcatuck River","RI","RI,  Westerly, Pawcatuck River","RHODE ISLAND, Outer Coast",8455189,{"$f":"--#REF!","v":{"$error":"#REF!"}},{"$f":"--#REF!","v":{"$error":"#REF!"}},"Subordinate"]
[null,null,null,"WICKFORD","RI","RI,  WICKFORD","Conanicut Island",8454538,{"$f":"--#REF!","v":{"$error":"#REF!"}},{"$f":"--#REF!","v":{"$error":"#REF!"}},"Harmonic"]

{"sheet":"DayPlan + Image","index":3,"n_rows":15,"n_cols":12,"rows_kept":15,"cut":false,"hidden":false,"merged":[[0,2,0,4],[0,5,0,7],[0,9,0,11],[14,10,14,11],[14,3,14,8],[3,3,3,8],[2,3,2,8],[13,3,13,8]]}
[null,null,null,null,null,"Assumed speed (kts):  ",null,null,5,"Meal Planning"]
["Night","Day","Date","From","To","Depart","NM","Duration","Arrive","Breakfast","Lunch","Dinner"]
[-2,{"$f":"C3","v":"2022-07-21"},{"$f":"C4-1","v":"2022-07-21"},"Wickford Marina",null,null,null,null,null,"Travel In"]
[-1,{"$f":"C4","v":"2022-07-22"},{"$f":"C5-1","v":"2022-07-22"},"Wickford Marina"]
[1,{"$f":"C5","v":"2022-07-23"},{"$f":"'Official Itinerary 2022'!D6","v":"2022-07-23"},"Home",{"$f":"'Official Itinerary 2022'!F6","v":"Third Beach \nLo Newport 943am"},{"$f":"'Official Itinerary 2022'!G6","v":"13:00:00"},{"$f":"'Official Itinerary 2022'!H6","v":18},{"$f":"IF(ISBLANK(F5),\"\",G5/EstAvgSpeed/24)","v":"03:36:00"},{"$f":"IF(ISBLANK(F5),\"\",F5+H5)","v":"16:36:00"},"Bon Voyage Breakfast in Wickford","Lunch At Sea","3rd Beach Picnic"]
[2,"2022-07-24",{"$f":"C5+1","v":"2022-07-24"},{"$f":"'Official Itinerary 2022'!E7","v":"Third Beach "},{"$f":"'Official Itinerary 2022'!F7","v":"Tarpaulin Cove\nLo 4pm"},{"$f":"'Official Itinerary 2022'!G7","v":"10:00:00"},{"$f":"'Official Itinerary 2022'!H7","v":27},"05:24:00","15:24:00","Leisurely Breakfast","Lunch At Sea","Dinner at Anchor"]
[3,"2022-07-25",{"$f":"C6+1","v":"2022-07-25"},{"$f":"'Official Itinerary 2022'!E8","v":"Tarpaulin Cove\nHi11am"},{"$f":"'Official Itinerary 2022'!F8","v":"Edgartown\ntide"},{"$f":"'Official Itinerary 2022'!G8","v":"09:30:00"},{"$f":"'Official Itinerary 2022'!H8","v":16},"03:12:00","12:42:00","Quick Breakfast","Late Lunch Edgartown","Dinner Edgartown"]
[4,"2022-07-26","2022-07-26",{"$f":"'Official Itinerary 2022'!E9","v":"Edgartown"},{"$f":"'Official Itinerary 2022'!F9","v":"Edgartown\ntide"},{"$f":"'Official Itinerary 2022'!G9","v":"00:00:00"},{"$f":"'Official Itinerary 2022'!H9","v":0},"00:00:00","00:00:00","Breakfast","Activity MV","Dinner Edgartown"]
[5,"2022-07-27","2022-07-27",{"$f":"'Official Itinerary 2022'!E10","v":"Edgartown"},{"$f":"'Official Itinerary 2022'!F10","v":"Nantucket\nHi 1pm"},{"$f":"'Official Itinerary 2022'!G10","v":"08:30:00"},{"$f":"'Official Itinerary 2022'!H10","v":24},"04:48:00","13:18:00","Quick Breakfast","Lunch at Sea","Nantucket Dinner"]
[6,"2022-07-28","2022-07-28",{"$f":"'Official Itinerary 2022'!E11","v":"Nantucket"},{"$f":"'Official Itinerary 2022'!F11","v":"Nantucket"},{"$f":"'Official Itinerary 2022'!G11","v":"00:00:00"},{"$f":"'Official Itinerary 2022'!H11","v":0},"00:00:00","00:00:00","Nantucket Ashore","Nantucket Activity","Nantucket Dinner"]
[7,"2022-07-29","2022-07-29",{"$f":"'Official Itinerary 2022'!E12","v":"Nantucket\nLo 730am"},{"$f":"'Official Itinerary 2022'!F12","v":"Quissett/\nHadley Harbor"},{"$f":"'Official Itinerary 2022'!G12","v":"08:00:00"},{"$f":"'Official Itinerary 2022'!H12","v":35},"07:00:00","15:00:00","Early Breafast","Lunch at Sea","Dinner Woods Hole"]
[8,"2022-07-30","2022-07-30",{"$f":"'Official Itinerary 2022'!E13","v":"Quissett/\nCuttyhunk"},{"$f":"'Official Itinerary 2022'!F13","v":"Westport River F.L.Tripp & Sons\n"},{"$f":"'Official Itinerary 2022'!G13","v":"11:00:00"},{"$f":"'Official Itinerary 2022'!H13","v":21},"04:12:00","15:12:00","Leisurely Breakfast","Lunch at Sea","Back Eddy Dinner"]
[9,"2022-07-31","2022-07-31",{"$f":"'Official Itinerary 2022'!E14","v":"Westport River"},{"$f":"'Official Itinerary 2022'!F14","v":"home/Newport \nHi 10:20AM"},{"$f":"'Official Itinerary 2022'!G14","v":"11:30:00"},{"$f":"'Official Itinerary 2022'!H14","v":26},"05:12:00","16:42:00","Leiisurely Breakfast","Lunch At Sea"]
[10,{"$f":"C14","v":"2022-08-01"},"2022-08-01","Wickford Marina",null,null,null,null,null,null,null,"Wickford Dinner"]
[null,"2022-08-02","2022-08-02","Wickford Marina"]

{"sheet":"Boat list 22","index":4,"n_rows":15,"n_cols":18,"rows_kept":15,"cut":false,"hidden":false,"merged":[[1,1,1,3]]}
[]
[null,"OSCA 2022 Summer Cruise Roster",null,null,null,null,null,"#Boats",null,{"$f":"SUM(J7:J28)","v":5},{"$f":"SUM(K7:K28)","v":6},6,6,6,6,6,6,0]
[null,null,"(Tentative:  Contact jerry.edwards@live.com to revise)",null,null,null,null,"Night #",null,1,2,3,4,5,6,7,8,9]
[null,null,null,null,null,null,null,"Date",null,"2022-07-23",{"$f":"J4+1","v":"2022-07-24"},{"$f":"K4+1","v":"2022-07-25"},{"$f":"L4+1","v":"2022-07-26"},"2022-07-27","2022-07-28","2022-07-29","2022-07-30","2022-07-31"]
[null,null,null,null,{"$f":"SUM(E7:E15)","v":17},null,null,"Day",null,"Saturday","Sunday","Monday","Tuesday","Wednesday","Thursday","Friday","Saturday","Sunday"]
[null,"Name","Cell Phone","Boat Name","Crew","LOA","Draft","Beam",null,"3rd Beach","Tarpaulin Cove","Edgartown","Edgartown","Nantucket","Nantucket","Quissett","Westport River","Home"]
[1,"Jerry Edwards-Capt\nBlake Newman\nKerry Dodd-ir","908-938-9020\n972-730-5958\n678-296-1544","Wicked Winch",3,40,5,13.5,null,1,1,1,1,1,1,1,1]
[2,"Bette Stickney\n Herb Kaiser","401-640-0220\n","Avalon",2,41,6.5,13.29,null,1,1,1,1,1,1,1,1]
[3,"Jeff & Deb Chirnside\n","401-465-3847","Sudsea",4,36,5.83,null,null,1,1,1,1,1,1,1,1]
[4,"Stan & Diane Walsh","508-979-6455","Makin' Progress",2,47,6.5,null,null,null,1,1,1,1,1,1,1]
[5,"Barry Bershad\nSusan Bershad\n","774-266-0580\n508-277-9842","Stargazer",4,40,5.75,13.5,null,1,1,1,1,1,1,1,1]
[6,"Nancy LaFosse","978-302-3341","Joie de Vivre",2,33,5.5,11.75,null,1,1,1,1,1,1,1,1]
[7]
[8]
[9]

{"sheet":"Sheet3","index":5,"n_rows":0,"n_cols":0,"rows_kept":0,"cut":false,"hidden":true,"merged":[]}

{"sheet":"Pollack Rip Channel","index":6,"n_rows":124,"n_cols":5,"rows_kept":124,"cut":false,"hidden":true,"merged":[]}
["Pollack Rip Channel"]
["Date_Time (LST/LDT)"," Event"," Speed (knots)","Description","Time"]
["2022-07-23T03:30:00","flood",1.91,"Max Flood Current NW",{"$f":"A3","v":44765.145833333336}]
["2022-07-23T06:30:00","slack","-","SW Ebb Starts",44765.270833333336]
["2022-07-23T09:24:00","ebb",-1.41,"Max Ebb current SE",44765.39166666667]
["2022-07-23T12:18:00","slack","-","NW Flood Starts",44765.512499999997]
["2022-07-23T15:54:00","flood",1.78,"Max Flood Current NW",44765.662499999999]
["2022-07-23T18:42:00","slack","-","SW Ebb Starts",44765.779166666667]
["2022-07-23T21:48:00","ebb",-1.55,"Max Ebb current SE",44765.908333333333]
["2022-07-24T00:48:00","slack","-","NW Flood Starts",44766.033333333333]
["2022-07-24T04:24:00","flood",1.98,"Max Flood Current NW",44766.183333333334]
["2022-07-24T07:24:00","slack","-","SW Ebb Starts",44766.308333333334]
["2022-07-24T10:24:00","ebb",-1.43,"Max Ebb current SE",44766.433333333334]
["2022-07-24T13:18:00","slack","-","NW Flood Starts",44766.554166666669]
["2022-07-24T16:48:00","flood",1.77,"Max Flood Current NW",44766.7]
["2022-07-24T19:36:00","slack","-","SW Ebb Starts",44766.816666666666]
["2022-07-24T22:36:00","ebb",-1.58,"Max Ebb current SE",44766.941666666666]
["2022-07-25T01:42:00","slack","-","NW Flood Starts",44767.070833333331]
["2022-07-25T05:18:00","flood",2.0499999999999998,"Max Flood Current NW",44767.220833333333]
["2022-07-25T08:18:00","slack","-","SW Ebb Starts",44767.345833333333]
["2022-07-25T11:18:00","ebb",-1.46,"Max Ebb current SE",44767.470833333333]
["2022-07-25T14:12:00","slack","-","NW Flood Starts",44767.591666666667]
["2022-07-25T17:36:00","flood",1.78,"Max Flood Current NW",44767.73333333333]
["2022-07-25T20:24:00","slack","-","SW Ebb Starts",44767.85]
["2022-07-25T23:24:00","ebb",-1.62,"Max Ebb current SE",44767.974999999999]
["2022-07-26T02:24:00","slack","-","NW Flood Starts",44768.1]
["2022-07-26T06:06:00","flood",2.11,"Max Flood Current NW",44768.254166666666]
["2022-07-26T09:06:00","slack","-","SW Ebb Starts",44768.379166666666]
["2022-07-26T12:00:00","ebb",-1.51,"Max Ebb current SE",44768.5]
["2022-07-26T15:00:00","slack","-","NW Flood Starts",44768.625]
["2022-07-26T18:24:00","flood",1.78,"Max Flood Current NW",44768.76666666667]
["2022-07-26T21:12:00","slack","-","SW Ebb Starts",44768.883333333331]
["2022-07-27T00:06:00","ebb",-1.66,"Max Ebb current SE",44769.004166666666]
["2022-07-27T03:12:00","slack","-","NW Flood Starts",44769.133333333331]
["2022-07-27T06:48:00","flood",2.15,"Max Flood Current NW",44769.283333333333]
["2022-07-27T09:48:00","slack","-","SW Ebb Starts",44769.408333333333]
["2022-07-27T12:42:00","ebb",-1.56,"Max Ebb current SE",44769.529166666667]
["2022-07-27T15:42:00","slack","-","NW Flood Starts",44769.654166666667]
["2022-07-27T19:06:00","flood",1.79,"Max Flood Current NW",44769.79583333333]
["2022-07-27T21:54:00","slack","-","SW Ebb Starts",44769.912499999999]
["2022-07-28T00:48:00","ebb",-1.7,"Max Ebb current SE",44770.033333333333]
["2022-07-28T03:48:00","slack","-","NW Flood Starts",44770.158333333333]
["2022-07-28T07:24:00","flood",2.17,"Max Flood Current NW",44770.308333333334]
["2022-07-28T10:30:00","slack","-","SW Ebb Starts",44770.4375]
["2022-07-28T13:18:00","ebb",-1.61,"Max Ebb current SE",44770.554166666669]
["2022-07-28T16:18:00","slack","-","NW Flood Starts",44770.679166666669]
["2022-07-28T19:42:00","flood",1.8,"Max Flood Current NW",44770.820833333331]
["2022-07-28T22:30:00","slack","-","SW Ebb Starts",44770.9375]
["2022-07-29T01:18:00","ebb",-1.75,"Max Ebb current SE",44771.054166666669]
["2022-07-29T04:24:00","slack","-","NW Flood Starts",44771.183333333334]
["2022-07-29T08:00:00","flood",2.19,"Max Flood Current NW",44771.333333333336]
["2022-07-29T11:06:00","slack","-","SW Ebb Starts",44771.462500000001]
["2022-07-29T13:54:00","ebb",-1.67,"Max Ebb current SE",44771.57916666667]
["2022-07-29T16:54:00","slack","-","NW Flood Starts",44771.70416666667]
["2022-07-29T20:12:00","flood",1.81,"Max Flood Current NW",44771.841666666667]
["2022-07-29T23:06:00","slack","-","SW Ebb Starts",44771.962500000001]
["2022-07-30T01:54:00","ebb",-1.8,"Max Ebb current SE",44772.962500000001]
["2022-07-30T05:00:00","slack","-","NW Flood Starts",44773.962500000001]
["2022-07-30T08:30:00","flood",2.19,"Max Flood Current NW",44774.962500000001]
["2022-07-30T11:42:00","slack","-","SW Ebb Starts",44775.962500000001]
["2022-07-30T14:24:00","ebb",-1.73,"Max Ebb current SE",44776.962500000001]
["2022-07-30T17:30:00","slack","-","NW Flood Starts",44777.962500000001]
["2022-07-30T20:42:00","flood",1.83,"Max Flood Current NW",44778.962500000001]
["2022-07-30T23:48:00","slack","-","SW Ebb Starts",44779.962500000001]
["2022-07-31T02:30:00","ebb",-1.85,"Max Ebb current SE",44780.962500000001]
["2022-07-31T05:36:00","slack","-","NW Flood Starts",44781.962500000001]
["2022-07-31T09:00:00","flood",2.2000000000000002,"Max Flood Current NW",44782.962500000001]
["2022-07-31T12:18:00","slack","-","SW Ebb Starts",44783.962500000001]
["2022-07-31T15:00:00","ebb",-1.79,"Max Ebb current SE",44784.962500000001]
["2022-07-31T18:06:00","slack","-","NW Flood Starts",44785.962500000001]
["2022-07-31T21:18:00","flood",1.87,"Max Flood Current NW",44786.962500000001]
["2022-08-01T00:24:00","slack","-","SW Ebb Starts",44787.962500000001]
["2022-08-01T03:06:00","ebb",-1.89,"Max Ebb current SE",44788.962500000001]
["2022-08-01T06:12:00","slack","-","NW Flood Starts",44789.962500000001]
["2022-08-01T09:36:00","flood",2.19,"Max Flood Current NW",44790.962500000001]
["2022-08-01T13:00:00","slack","-","SW Ebb Starts",44791.962500000001]
["2022-08-01T15:36:00","ebb",-1.83,"Max Ebb current SE",44792.962500000001]
["2022-08-01T18:42:00","slack","-","NW Flood Starts",44793.962500000001]
["2022-08-01T21:48:00","flood",1.9,"Max Flood Current NW",44794.962500000001]
["2022-08-02T01:06:00","slack","-","SW Ebb Starts",44795.962500000001]
["2022-08-02T03:48:00","ebb",-1.9,"Max Ebb current SE",44796.962500000001]
["2022-08-02T06:54:00","slack","-","NW Flood Starts",44797.962500000001]
["2022-08-02T10:12:00","flood",2.16,"Max Flood Current NW",44798.962500000001]
["2022-08-02T13:36:00","slack","-","SW Ebb Starts",44799.962500000001]
["2022-08-02T16:12:00","ebb",-1.85,"Max Ebb current SE",44800.962500000001]
["2022-08-02T19:24:00","slack","-","NW Flood Starts",44801.962500000001]
["2022-08-02T22:30:00","flood",1.91,"Max Flood Current NW",44802.962500000001]
["2022-08-03T01:48:00","slack","-","SW Ebb Starts",44803.962500000001]
["2022-08-03T04:30:00","ebb",-1.88,"Max Ebb current SE",44804.962500000001]
["2022-08-03T07:36:00","slack","-","NW Flood Starts",44805.962500000001]
["2022-08-03T10:48:00","flood",2.1,"Max Flood Current NW",44806.962500000001]
["2022-08-03T14:18:00","slack","-","SW Ebb Starts",44807.962500000001]
["2022-08-03T17:00:00","ebb",-1.84,"Max Ebb current SE",44808.962500000001]
["2022-08-03T20:06:00","slack","-","NW Flood Starts",44809.962500000001]
["2022-08-03T23:12:00","flood",1.91,"Max Flood Current NW",44810.962500000001]
["2022-08-04T02:36:00","slack","-","SW Ebb Starts",44811.962500000001]
["2022-08-04T05:18:00","ebb",-1.81,"Max Ebb current SE",44812.962500000001]
["2022-08-04T08:18:00","slack","-","NW Flood Starts",44813.962500000001]
["2022-08-04T11:36:00","flood",2,"Max Flood Current NW",44814.962500000001]
["2022-08-04T15:06:00","slack","-","SW Ebb Starts",44815.962500000001]
["2022-08-04T17:42:00","ebb",-1.79,"Max Ebb current SE",44816.962500000001]
["2022-08-04T20:48:00","slack","-","NW Flood Starts",44817.962500000001]
["Disclaimer: These data are based upon the latest information available as of the date of your request, and may differ from the published tidal current tables."]
[]
["Plot From:"]
[]
["Jul"]
[]
[29]
[2022]
["Calendar "]
["Range: Time Units:"]
[]
["Weekly"]
[" "]
["AM/PM"]
["Units:"]
[]
["knots"]
["Time Zone:"]
[]
["LST/LDT"]
["Shift Plot:"]
[" Back 7 Days Forward 7 Days "]

{"sheet":"Moon Phases","index":7,"n_rows":33,"n_cols":10,"rows_kept":33,"cut":false,"hidden":true,"merged":[]}
[2022,"Moonrise/Moonset","Meridian Passing"]
["Jul","Moonrise","Moonset",null,"Moonrise",null,"Time",null,"Distance (mi)","Illumination"]
[1,"07:11:00","↑ (58°)","22:34:00","↑ (300°)","-","14:57:00","(71.0°)",251241,6.5000000000000002E-2]
[2,"08:14:00","↑ (62°)","23:03:00","↑ (294°)","-","15:44:00","(67.3°)",249821,0.122]
[3,"09:17:00","↑ (68°)","23:29:00","↑ (288°)","-","16:29:00","(62.8°)",247869,0.19500000000000001]
[4,"10:21:00","↑ (75°)","23:51:00","↑ (281°)","-","17:12:00","(57.5°)",245380,0.28199999999999997]
[5,"11:25:00","↑ (83°)","-","-",null,"17:55:00","(51.7°)",242382,0.38]
[6,"-","00:13:00","↑ (273°)","12:30:00","↑ (91°)","18:38:00","(45.6°)",238958,0.48499999999999999]
[7,"-","00:35:00","↑ (265°)","13:38:00","↑ (99°)","19:23:00","(39.5°)",235253,0.59599999999999997]
[8,"-","00:58:00","↑ (257°)","14:49:00","↑ (108°)","20:12:00","(33.5°)",231490,0.70499999999999996]
[9,"-","01:25:00","↑ (249°)","16:04:00","↑ (115°)","21:05:00","(28.1°)",227957,0.80700000000000005]
[10,"-","01:58:00","↑ (242°)","17:22:00","↑ (122°)","22:04:00","(23.9°)",224988,0.89400000000000002]
[11,"-","02:40:00","↑ (236°)","18:40:00","↑ (126°)","23:08:00","(21.3°)",222918,0.95799999999999996]
[12,"-","03:34:00","↑ (233°)","19:51:00","↑ (127°)","Moon does not pass the meridian on this day."]
[13,"-","04:40:00","↑ (233°)","20:51:00","↑ (125°)","00:15:00","(20.8°)",222018,0.99299999999999999]
[14,"-","05:57:00","↑ (236°)","21:39:00","↑ (121°)","01:22:00","(22.5°)",222425,0.995]
[15,"-","07:18:00","↑ (242°)","22:16:00","↑ (114°)","02:24:00","(26.2°)",224101,0.96399999999999997]
[16,"-","08:37:00","↑ (249°)","22:46:00","↑ (106°)","03:22:00","(31.3°)",226846,0.90500000000000003]
[17,"-","09:52:00","↑ (258°)","23:12:00","↑ (98°)","04:14:00","(37.3°)",230351,0.82399999999999995]
[18,"-","11:03:00","↑ (266°)","23:35:00","↑ (89°)","05:02:00","(43.7°)",234263,0.72799999999999998]
[19,"-","12:11:00","↑ (275°)","23:57:00","↑ (81°)","05:47:00","(50.0°)",238242,0.624]
[20,"-","13:17:00","↑ (283°)","-",null,"06:31:00","(56.0°)",242000,0.51700000000000002]
[21,"00:20:00","↑ (74°)","14:21:00","↑ (290°)","-","07:15:00","(61.6°)",245316,0.41399999999999998]
[22,"00:44:00","↑ (67°)","15:26:00","↑ (296°)","-","08:00:00","(66.4°)",248046,0.316]
[23,"01:13:00","↑ (61°)","16:29:00","↑ (301°)","-","08:46:00","(70.3°)",250118,0.22800000000000001]
[24,"01:46:00","↑ (57°)","17:30:00","↑ (305°)","-","09:34:00","(73.2°)",251516,0.151]
[25,"02:25:00","↑ (54°)","18:26:00","↑ (307°)","-","10:24:00","(74.8°)",252270,8.7999999999999995E-2]
[26,"03:12:00","↑ (53°)","19:16:00","↑ (307°)","-","11:15:00","(75.2°)",252437,4.1000000000000002E-2]
[27,"04:06:00","↑ (54°)","20:00:00","↑ (305°)","-","12:05:00","(74.2°)",252088,1.2E-2]
[28,"05:05:00","↑ (56°)","20:36:00","↑ (301°)","-","12:55:00","(71.9°)",251288,2E-3]
[29,"06:07:00","↑ (61°)","21:07:00","↑ (296°)","-","13:42:00","(68.5°)",250093,1.0999999999999999E-2]
[30,"07:11:00","↑ (67°)","21:33:00","↑ (290°)","-","14:27:00","(64.1°)",248537,0.04]
[31,"08:14:00","↑ (73°)","21:56:00","↑ (283°)","-","15:11:00","(59.0°)",246638,8.8999999999999996E-2]

{"sheet":"Sheet1","index":8,"n_rows":1,"n_cols":3,"rows_kept":1,"cut":false,"hidden":true,"merged":[]}
[null,"Date","Time"]

{"sheet":"Pollock","index":9,"n_rows":119,"n_cols":121,"rows_kept":119,"cut":false,"hidden":true,"merged":[[93,4,93,5],[4,4,4,5],[18,4,18,5],[33,4,33,5],[48,4,48,5],[62,4,62,5],[77,4,77,5]]}
[]
[]
["Sunday, July 22, 2018",null,null,null,"Sunday, July 22, 2018",null,"Moonset  1:31 am ","Max Flood (1.99 knots)  3:16 am ","Twilight begins  4:14 am ","Sunrise  5:25 am ","Slack, Ebb Begins  6:12 am ","Max Ebb (-1.53 knots)  9:08 am ","Slack, Flood Begins  12:06 pm ","Max Flood (1.92 knots)  3:42 pm ","Moonrise  3:54 pm ","Slack, Ebb Begins  6:33 pm ","Sunset  8:07 pm ","Twilight ends  9:23 pm ","Max Ebb (-1.66 knots)  9:35 pm ",null,"Monday, July 23, 2018",null,"Slack, Flood Begins  12:37 am ","Moonset  2:06 am ","Max Flood (2.07 knots)  4:14 am ","Twilight begins  4:15 am ","Sunrise  5:25 am ","Slack, Ebb Begins  7:12 am ","Max Ebb (-1.54 knots)  10:10 am ","Slack, Flood Begins  1:06 pm ","Max Flood (1.92 knots)  4:38 pm ","Moonrise  4:52 pm ","Slack, Ebb Begins  7:27 pm ","Sunset  8:06 pm ","Twilight ends  9:22 pm ","Max Ebb (-1.68 knots)  10:31 pm ",null,"Tuesday, July 24, 2018",null,"Slack, Flood Begins  1:31 am ","Moonset  2:46 am ","Twilight begins  4:16 am ","Max Flood (2.14 knots)  5:08 am ","Sunrise  5:26 am ","Slack, Ebb Begins  8:06 am ","Max Ebb (-1.57 knots)  11:06 am ","Slack, Flood Begins  2:00 pm ","Max Flood (1.93 knots)  5:30 pm ","Moonrise  5:46 pm ","Sunset  8:05 pm ","Slack, Ebb Begins  8:17 pm ","Twilight ends  9:21 pm ","Max Ebb (-1.72 knots)  11:21 pm ",null,"Wednesday, July 25, 2018",null,"Slack, Flood Begins  2:20 am ","Moonset  3:30 am ","Twilight begins  4:17 am ","Sunrise  5:27 am ","Max Flood (2.19 knots)  5:57 am ","Slack, Ebb Begins  8:56 am ","Max Ebb (-1.61 knots)  11:54 am ","Slack, Flood Begins  2:49 pm ","Max Flood (1.93 knots)  6:17 pm ","Moonrise  6:36 pm ","Sunset  8:04 pm ","Slack, Ebb Begins  9:03 pm ","Twilight ends  9:19 pm ",null,"Thursday, July 26, 2018",null,"Max Ebb (-1.74 knots)  12:05 am ","Slack, Flood Begins  3:04 am ","Twilight begins  4:18 am ","Moonset  4:18 am ","Sunrise  5:28 am ","Max Flood (2.23 knots)  6:41 am ","Slack, Ebb Begins  9:41 am ","Max Ebb (-1.63 knots)  12:36 pm ","Slack, Flood Begins  3:33 pm ","Max Flood (1.92 knots)  6:59 pm ","Moonrise  7:22 pm ","Sunset  8:03 pm ","Twilight ends  9:18 pm ","Slack, Ebb Begins  9:46 pm ",null,"Friday, July 27, 2018",null,"Max Ebb (-1.76 knots)  12:43 am ","Slack, Flood Begins  3:45 am ","Twilight begins  4:20 am ","Moonset  5:10 am ","Sunrise  5:29 am ","Max Flood (2.23 knots)  7:22 am ","Slack, Ebb Begins  10:22 am ","Max Ebb (-1.66 knots)  1:13 pm ","Slack, Flood Begins  4:12 pm ","Full Moon  4:22 pm ","Max Flood (1.90 knots)  7:38 pm ","Sunset  8:02 pm ","Moonrise  8:03 pm ","Twilight ends  9:17 pm ","Slack, Ebb Begins  10:26 pm ",null,"Saturday, July 28, 2018",null,"Max Ebb (-1.79 knots)  1:18 am ","Twilight begins  4:21 am ","Slack, Flood Begins  4:22 am ","Sunrise  5:30 am ","Moonset  6:05 am ","Max Flood (2.22 knots)  7:58 am ","Slack, Ebb Begins  11:00 am ","Max Ebb (-1.70 knots)  1:46 pm ","Slack, Flood Begins  4:49 pm ","Sunset  8:01 pm ","Max Flood (1.88 knots)  8:12 pm ","Moonrise  8:39 pm ","Twilight ends  9:16 pm ","Slack, Ebb Begins  11:04 pm "]
[]
["Moonset  1:31 am ",null,null,null,"Sunday, July 22, 2018"]
["Max Flood (1.99 knots)  3:16 am ",null,null,null,"Moonset","01:31:00"]
["Twilight begins  4:14 am ",null,null,null,"Max Flood (1.99 knots)","03:16:00"]
["Sunrise  5:25 am ",null,null,null,"Twilight begins","04:14:00"]
["Slack, Ebb Begins  6:12 am ",null,null,null,"Sunrise","05:25:00"]
["Max Ebb (-1.53 knots)  9:08 am ",null,null,null,"Slack, Ebb Begins","06:12:00"]
["Slack, Flood Begins  12:06 pm ",null,null,null,"Max Ebb (-1.53 knots)","09:08:00"]
["Max Flood (1.92 knots)  3:42 pm ",null,null,null,"Slack, Flood Begins","12:06:00"]
["Moonrise  3:54 pm ",null,null,null,"Max Flood (1.92 knots)","15:42:00"]
["Slack, Ebb Begins  6:33 pm ",null,null,null,"Moonrise","15:54:00"]
["Sunset  8:07 pm ",null,null,null,"Slack, Ebb Begins","18:33:00"]
["Twilight ends  9:23 pm ",null,null,null,"Sunset","20:07:00"]
["Max Ebb (-1.66 knots)  9:35 pm ",null,null,null,"Twilight ends","21:23:00"]
[null,null,null,null,"Max Ebb (-1.66 knots)","21:35:00"]
["Monday, July 23, 2018",null,null,null,"Monday, July 23, 2018"]
[null,null,null,null,"Slack, Flood Begins","00:37:00"]
["Slack, Flood Begins  12:37 am ",null,null,null,"Moonset","02:06:00"]
["Moonset  2:06 am ",null,null,null,"Max Flood (2.07 knots)","04:14:00"]
["Max Flood (2.07 knots)  4:14 am ",null,null,null,"Twilight begins","04:15:00"]
["Twilight begins  4:15 am ",null,null,null,"Sunrise","05:25:00"]
["Sunrise  5:25 am ",null,null,null,"Slack, Ebb Begins","07:12:00"]
["Slack, Ebb Begins  7:12 am ",null,null,null,"Max Ebb (-1.54 knots)","10:10:00"]
["Max Ebb (-1.54 knots)  10:10 am ",null,null,null,"Slack, Flood Begins","13:06:00"]
["Slack, Flood Begins  1:06 pm ",null,null,null,"Max Flood (1.92 knots)","16:38:00"]
["Max Flood (1.92 knots)  4:38 pm ",null,null,null,"Moonrise","16:52:00"]
["Moonrise  4:52 pm ",null,null,null,"Slack, Ebb Begins","19:27:00"]
["Slack, Ebb Begins  7:27 pm ",null,null,null,"Sunset","20:06:00"]
["Sunset  8:06 pm ",null,null,null,"Twilight ends","21:22:00"]
["Twilight ends  9:22 pm ",null,null,null,"Max Ebb (-1.68 knots)","22:31:00"]
["Max Ebb (-1.68 knots)  10:31 pm ",null,null,null,"Tuesday, July 24, 2018"]
[null,null,null,null,"Slack, Flood Begins","01:31:00"]
["Tuesday, July 24, 2018",null,null,null,"Moonset","02:46:00"]
[null,null,null,null,"Twilight begins","04:16:00"]
["Slack, Flood Begins  1:31 am ",null,null,null,"Max Flood (2.14 knots)","05:08:00"]
["Moonset  2:46 am ",null,null,null,"Sunrise","05:26:00"]
["Twilight begins  4:16 am ",null,null,null,"Slack, Ebb Begins","08:06:00"]
["Max Flood (2.14 knots)  5:08 am ",null,null,null,"Max Ebb (-1.57 knots)","11:06:00"]
["Sunrise  5:26 am ",null,null,null,"Slack, Flood Begins","14:00:00"]
["Slack, Ebb Begins  8:06 am ",null,null,null,"Max Flood (1.93 knots)","17:30:00"]
["Max Ebb (-1.57 knots)  11:06 am ",null,null,null,"Moonrise","17:46:00"]
["Slack, Flood Begins  2:00 pm ",null,null,null,"Sunset","20:05:00"]
["Max Flood (1.93 knots)  5:30 pm ",null,null,null,"Slack, Ebb Begins","20:17:00"]
["Moonrise  5:46 pm ",null,null,null,"Twilight ends","21:21:00"]
["Sunset  8:05 pm ",null,null,null,"Max Ebb (-1.72 knots)","23:21:00"]
["Slack, Ebb Begins  8:17 pm ",null,null,null,"Wednesday, July 25, 2018"]
["Twilight ends  9:21 pm ",null,null,null,"Slack, Flood Begins","02:20:00"]
["Max Ebb (-1.72 knots)  11:21 pm ",null,null,null,"Moonset","03:30:00"]
[null,null,null,null,"Twilight begins","04:17:00"]
["Wednesday, July 25, 2018",null,null,null,"Sunrise","05:27:00"]
[null,null,null,null,"Max Flood (2.19 knots)","05:57:00"]
["Slack, Flood Begins  2:20 am ",null,null,null,"Slack, Ebb Begins","08:56:00"]
["Moonset  3:30 am ",null,null,null,"Max Ebb (-1.61 knots)","11:54:00"]
["Twilight begins  4:17 am ",null,null,null,"Slack, Flood Begins","14:49:00"]
["Sunrise  5:27 am ",null,null,null,"Max Flood (1.93 knots)","18:17:00"]
["Max Flood (2.19 knots)  5:57 am ",null,null,null,"Moonrise","18:36:00"]
["Slack, Ebb Begins  8:56 am ",null,null,null,"Sunset","20:04:00"]
["Max Ebb (-1.61 knots)  11:54 am ",null,null,null,"Slack, Ebb Begins","21:03:00"]
["Slack, Flood Begins  2:49 pm ",null,null,null,"Twilight ends","21:19:00"]
["Max Flood (1.93 knots)  6:17 pm ",null,null,null,"Thursday, July 26, 2018"]
["Moonrise  6:36 pm ",null,null,null,"Max Ebb (-1.74 knots)","00:05:00"]
["Sunset  8:04 pm ",null,null,null,"Slack, Flood Begins","03:04:00"]
["Slack, Ebb Begins  9:03 pm ",null,null,null,"Twilight begins","04:18:00"]
["Twilight ends  9:19 pm ",null,null,null,"Moonset","04:18:00"]
[null,null,null,null,"Sunrise","05:28:00"]
["Thursday, July 26, 2018",null,null,null,"Max Flood (2.23 knots)","06:41:00"]
[null,null,null,null,"Slack, Ebb Begins","09:41:00"]
["Max Ebb (-1.74 knots)  12:05 am ",null,null,null,"Max Ebb (-1.63 knots)","12:36:00"]
["Slack, Flood Begins  3:04 am ",null,null,null,"Slack, Flood Begins","15:33:00"]
["Twilight begins  4:18 am ",null,null,null,"Max Flood (1.92 knots)","18:59:00"]
["Moonset  4:18 am ",null,null,null,"Moonrise","19:22:00"]
["Sunrise  5:28 am ",null,null,null,"Sunset","20:03:00"]
["Max Flood (2.23 knots)  6:41 am ",null,null,null,"Twilight ends","21:18:00"]
["Slack, Ebb Begins  9:41 am ",null,null,null,"Slack, Ebb Begins","21:46:00"]
["Max Ebb (-1.63 knots)  12:36 pm ",null,null,null,"Friday, July 27, 2018"]
["Slack, Flood Begins  3:33 pm ",null,null,null,"Max Ebb (-1.76 knots)","00:43:00"]
["Max Flood (1.92 knots)  6:59 pm ",null,null,null,"Slack, Flood Begins","03:45:00"]
["Moonrise  7:22 pm ",null,null,null,"Twilight begins","04:20:00"]
["Sunset  8:03 pm ",null,null,null,"Moonset","05:10:00"]
["Twilight ends  9:18 pm ",null,null,null,"Sunrise","05:29:00"]
["Slack, Ebb Begins  9:46 pm ",null,null,null,"Max Flood (2.23 knots)","07:22:00"]
[null,null,null,null,"Slack, Ebb Begins","10:22:00"]
["Friday, July 27, 2018",null,null,null,"Max Ebb (-1.66 knots)","13:13:00"]
[null,null,null,null,"Slack, Flood Begins","16:12:00"]
["Max Ebb (-1.76 knots)  12:43 am ",null,null,null,"Full Moon","16:22:00"]
["Slack, Flood Begins  3:45 am ",null,null,null,"Max Flood (1.90 knots)","19:38:00"]
["Twilight begins  4:20 am ",null,null,null,"Sunset","20:02:00"]
["Moonset  5:10 am ",null,null,null,"Moonrise","20:03:00"]
["Sunrise  5:29 am ",null,null,null,"Twilight ends","21:17:00"]
["Max Flood (2.23 knots)  7:22 am ",null,null,null,"Slack, Ebb Begins","22:26:00"]
["Slack, Ebb Begins  10:22 am ",null,null,null,"Saturday, July 28, 2018"]
["Max Ebb (-1.66 knots)  1:13 pm ",null,null,null,"Max Ebb (-1.79 knots)","01:18:00"]
["Slack, Flood Begins  4:12 pm ",null,null,null,"Twilight begins","04:21:00"]
["Full Moon  4:22 pm ",null,null,null,"Slack, Flood Begins","04:22:00"]
["Max Flood (1.90 knots)  7:38 pm ",null,null,null,"Sunrise","05:30:00"]
["Sunset  8:02 pm ",null,null,null,"Moonset","06:05:00"]
["Moonrise  8:03 pm ",null,null,null,"Max Flood (2.22 knots)","07:58:00"]
["Twilight ends  9:17 pm ",null,null,null,"Slack, Ebb Begins","11:00:00"]
["Slack, Ebb Begins  10:26 pm ",null,null,null,"Max Ebb (-1.70 knots)","13:46:00"]
[null,null,null,null,"Slack, Flood Begins","16:49:00"]
["Saturday, July 28, 2018",null,null,null,"Sunset","20:01:00"]
[null,null,null,null,"Max Flood (1.88 knots)","20:12:00"]
["Max Ebb (-1.79 knots)  1:18 am ",null,null,null,"Moonrise","20:39:00"]
["Twilight begins  4:21 am ",null,null,null,"Twilight ends","21:16:00"]
["Slack, Flood Begins  4:22 am ",null,null,null,"Slack, Ebb Begins","23:04:00"]
["Sunrise  5:30 am "]
["Moonset  6:05 am "]
["Max Flood (2.22 knots)  7:58 am "]
["Slack, Ebb Begins  11:00 am "]
["Max Ebb (-1.70 knots)  1:46 pm "]
["Slack, Flood Begins  4:49 pm "]
["Sunset  8:01 pm "]
["Max Flood (1.88 knots)  8:12 pm "]
["Moonrise  8:39 pm "]
["Twilight ends  9:16 pm "]
["Slack, Ebb Begins  11:04 pm "]

{"sheet":"sunrise","index":10,"n_rows":21,"n_cols":3,"rows_kept":21,"cut":false,"hidden":true,"merged":[]}
["Calculation of local times of sunrise, solar noon, sunset, dawn, and dusk based on the calculation procedure by NOAA (http://www.srrb.noaa.gov/highlights/sunrise/sunrise.html)"]
[]
["Input"]
["latitude in decimal degrees (positive in northern hemisphere)",41.173299999999998,-71.556700000000006]
["longitude in decimal degrees (negative for western hemisphere)",-71.556700000000006,-71.556700000000006]
["year",2013]
["month",5]
["day",24]
["time zone in hours relative to GMT/UTC (PST= -8, MST= -7, CST= -6, EST= -5)",-5]
["daylight savings time (no= 0, yes= 1)",1]
[]
["Output (local time in days)"]
["astronomical dawn (sun is 18 degrees below horizon)",{"$f":"dawn(B4,B5,B6,B7,B8,B9,B10,18)","v":"03:20:57.310"}]
["nautical dawn (sun is 12 degrees below horizon)",{"$f":"dawn(B4,B5,B6,B7,B8,B9,B10,12)","v":"04:07:23.465"}]
["civil dawn (sun is 6 degrees below horizon)",{"$f":"dawn(B4,B5,B6,B7,B8,B9,B10,6)","v":"04:47:59.608"}]
["sunrise (sun is 0.833 degrees below horizon to account for refraction)",{"$f":"sunrise(B4,B5,B6,B7,B8,B9,B10)","v":"05:20:17.756"}]
["solar noon (sun is at its highest point in the sky for this day)",{"$f":"solarnoon(B4,B5,B6,B7,B8,B9,B10)","v":"12:43:06.141"}]
["sunset (sun is 0.833 degrees below horizon to account for refraction)",{"$f":"sunset(B4,B5,B6,B7,B8,B9,B10)","v":"20:06:23.436"}]
["civil dusk (sun is 6 degrees below horizon)",{"$f":"dusk(B4,B5,B6,B7,B8,B9,B10,6)","v":"20:38:45.024"}]
["nautical dusk (sun is 12 degrees below horizon)",{"$f":"dusk(B4,B5,B6,B7,B8,B9,B10,12)","v":"21:19:27.209"}]
["astronomical dusk (sun is 18 degrees below horizon)",{"$f":"dusk(B4,B5,B6,B7,B8,B9,B10,18)","v":"22:06:04.319"}]

{"sheet":"solar_position","index":11,"n_rows":17,"n_cols":2,"rows_kept":17,"cut":false,"hidden":true,"merged":[[0,0,0,1]]}
["Calculation of solar azimuth and elevation based on the calculation procedure by NOAA (http://www.srrb.noaa.gov/highlights/sunrise/azel.html)"]
[]
["Input"]
["latitude in decimal degrees (positive in northern hemisphere)",{"$f":"47+36/60","v":47.6}]
["longitude in decimal degrees (negative for western hemisphere)",{"$f":"-122-19/60","v":-122.31666666666666}]
["year",2001]
["month",6]
["day",21]
["hours",13]
["minutes",11]
["seconds",0]
["time zone in hours relative to GMT/UTC (PST= -8, MST= -7, CST= -6, EST= -5)",-8]
["daylight savings time (no= 0, yes= 1)",1]
[]
["Output"]
["solar azimuth (degrees clockwise from north)",{"$f":"solarazimuth(B4,B5,B6,B7,B8,B9,B10,B11,B12,B13)","v":179.93365293219537}]
["solar elevation (degrees from horizon)",{"$f":"solarelevation(B4,B5,B6,B7,B8,B9,B10,B11,B12,B13)","v":65.845077510191146}]